BEGIN:VCALENDAR
VERSION:2.0
PRODID:spatie/icalendar-generator
NAME:Extension du Collège de la Passerelle
X-WR-CALNAME:Extension du Collège de la Passerelle
BEGIN:VTIMEZONE
TZID:Europe/Zurich
BEGIN:STANDARD
DTSTART:20241027T030000
TZOFFSETFROM:+0200
TZOFFSETTO:+0100
END:STANDARD
BEGIN:DAYLIGHT
DTSTART:20250330T010000
TZOFFSETFROM:+0100
TZOFFSETTO:+0200
END:DAYLIGHT
BEGIN:STANDARD
DTSTART:20251026T030000
TZOFFSETFROM:+0200
TZOFFSETTO:+0100
END:STANDARD
END:VTIMEZONE
BEGIN:VTIMEZONE
TZID:UTC
BEGIN:STANDARD
DTSTART:20250727T115447
TZOFFSETFROM:+0000
TZOFFSETTO:+0000
END:STANDARD
END:VTIMEZONE
BEGIN:VEVENT
UID:69ea08870c672
DTSTAMP:20260423T115447Z
SUMMARY:KONKURADO: Extension du Collège de la Passerelle\, Anmeldung bis 2
 3.01.2025 - 10.03.2025
DESCRIPTION:Link zum Verfahren: https://konkurado.ch/en/extension-du-colleg
 e-de-la-passerelle
X-MICROSOFT-CDO-ALLDAYEVENT:TRUE
DTSTART;TZID=Europe/Zurich;VALUE=DATE:20250123
END:VEVENT
BEGIN:VEVENT
UID:69ea08870c6f2
DTSTAMP:20260423T115447Z
SUMMARY:KONKURADO: Extension du Collège de la Passerelle\, Anmeldung bis 2
 3.01.2025 - 10.03.2025
DESCRIPTION:Link zum Verfahren: https://konkurado.ch/en/extension-du-colleg
 e-de-la-passerelle
X-MICROSOFT-CDO-ALLDAYEVENT:TRUE
DTSTART;TZID=Europe/Zurich;VALUE=DATE:20250310
END:VEVENT
BEGIN:VEVENT
UID:69ea08870c72f
DTSTAMP:20260423T115447Z
SUMMARY:KONKURADO: Extension du Collège de la Passerelle\, Einreichung von
  Fragen bis 23.01.2025 - 14.02.2025
DESCRIPTION:Link zum Verfahren: https://konkurado.ch/en/extension-du-colleg
 e-de-la-passerelle
X-MICROSOFT-CDO-ALLDAYEVENT:TRUE
DTSTART;TZID=Europe/Zurich;VALUE=DATE:20250123
END:VEVENT
BEGIN:VEVENT
UID:69ea08870c756
DTSTAMP:20260423T115447Z
SUMMARY:KONKURADO: Extension du Collège de la Passerelle\, Einreichung von
  Fragen bis 23.01.2025 - 14.02.2025
DESCRIPTION:Link zum Verfahren: https://konkurado.ch/en/extension-du-colleg
 e-de-la-passerelle
X-MICROSOFT-CDO-ALLDAYEVENT:TRUE
DTSTART;TZID=Europe/Zurich;VALUE=DATE:20250214
END:VEVENT
BEGIN:VEVENT
UID:69ea08870c788
DTSTAMP:20260423T115447Z
SUMMARY:KONKURADO: Extension du Collège de la Passerelle\, Wettbewerbsabga
 be 23.01.2025 - 29.04.2025
DESCRIPTION:Link zum Verfahren: https://konkurado.ch/en/extension-du-colleg
 e-de-la-passerelle
X-MICROSOFT-CDO-ALLDAYEVENT:TRUE
DTSTART;TZID=Europe/Zurich;VALUE=DATE:20250123
END:VEVENT
BEGIN:VEVENT
UID:69ea08870c7ad
DTSTAMP:20260423T115447Z
SUMMARY:KONKURADO: Extension du Collège de la Passerelle\, Wettbewerbsabga
 be 23.01.2025 - 29.04.2025
DESCRIPTION:Link zum Verfahren: https://konkurado.ch/en/extension-du-colleg
 e-de-la-passerelle
X-MICROSOFT-CDO-ALLDAYEVENT:TRUE
DTSTART;TZID=Europe/Zurich;VALUE=DATE:20250429
END:VEVENT
BEGIN:VEVENT
UID:69ea08870c91d
DTSTAMP:20260423T115447Z
SUMMARY:KONKURADO: Extension du Collège de la Passerelle\, Fragenbeantwort
 ung 15.02.2025 - 24.02.2025
DESCRIPTION:Link zum Verfahren: https://konkurado.ch/en/extension-du-colleg
 e-de-la-passerelle
X-MICROSOFT-CDO-ALLDAYEVENT:TRUE
DTSTART;TZID=Europe/Zurich;VALUE=DATE:20250215
END:VEVENT
BEGIN:VEVENT
UID:69ea08870c949
DTSTAMP:20260423T115447Z
SUMMARY:KONKURADO: Extension du Collège de la Passerelle\, Fragenbeantwort
 ung 15.02.2025 - 24.02.2025
DESCRIPTION:Link zum Verfahren: https://konkurado.ch/en/extension-du-colleg
 e-de-la-passerelle
X-MICROSOFT-CDO-ALLDAYEVENT:TRUE
DTSTART;TZID=Europe/Zurich;VALUE=DATE:20250224
END:VEVENT
BEGIN:VEVENT
UID:69ea08870c9ab
DTSTAMP:20260423T115447Z
SUMMARY:KONKURADO: Extension du Collège de la Passerelle\, Modellbezug bis
  11.03.2025 - 31.03.2025
DESCRIPTION:Link zum Verfahren: https://konkurado.ch/en/extension-du-colleg
 e-de-la-passerelle
X-MICROSOFT-CDO-ALLDAYEVENT:TRUE
DTSTART;TZID=Europe/Zurich;VALUE=DATE:20250311
END:VEVENT
BEGIN:VEVENT
UID:69ea08870c9d1
DTSTAMP:20260423T115447Z
SUMMARY:KONKURADO: Extension du Collège de la Passerelle\, Modellbezug bis
  11.03.2025 - 31.03.2025
DESCRIPTION:Link zum Verfahren: https://konkurado.ch/en/extension-du-colleg
 e-de-la-passerelle
X-MICROSOFT-CDO-ALLDAYEVENT:TRUE
DTSTART;TZID=Europe/Zurich;VALUE=DATE:20250331
END:VEVENT
BEGIN:VEVENT
UID:69ea08870ca36
DTSTAMP:20260423T115447Z
SUMMARY:KONKURADO: Extension du Collège de la Passerelle\, Modellabgabe bi
 s 11.03.2025 - 13.05.2025
DESCRIPTION:Link zum Verfahren: https://konkurado.ch/en/extension-du-colleg
 e-de-la-passerelle
X-MICROSOFT-CDO-ALLDAYEVENT:TRUE
DTSTART;TZID=Europe/Zurich;VALUE=DATE:20250311
END:VEVENT
BEGIN:VEVENT
UID:69ea08870ca6c
DTSTAMP:20260423T115447Z
SUMMARY:KONKURADO: Extension du Collège de la Passerelle\, Modellabgabe bi
 s 11.03.2025 - 13.05.2025
DESCRIPTION:Link zum Verfahren: https://konkurado.ch/en/extension-du-colleg
 e-de-la-passerelle
X-MICROSOFT-CDO-ALLDAYEVENT:TRUE
DTSTART;TZID=Europe/Zurich;VALUE=DATE:20250513
END:VEVENT
END:VCALENDAR