BEGIN:VCALENDAR
VERSION:2.0
PRODID:spatie/icalendar-generator
NAME:ETH Zürich\, Grosszyklische Sanierung im «Progressive-Design-Build»
  Modell
X-WR-CALNAME:ETH Zürich\, Grosszyklische Sanierung im «Progressive-Design
 -Build» Modell
BEGIN:VTIMEZONE
TZID:Europe/Zurich
BEGIN:STANDARD
DTSTART:20251026T030000
TZOFFSETFROM:+0200
TZOFFSETTO:+0100
END:STANDARD
BEGIN:DAYLIGHT
DTSTART:20260329T010000
TZOFFSETFROM:+0100
TZOFFSETTO:+0200
END:DAYLIGHT
END:VTIMEZONE
BEGIN:VTIMEZONE
TZID:UTC
BEGIN:STANDARD
DTSTART:20250727T085542
TZOFFSETFROM:+0000
TZOFFSETTO:+0000
END:STANDARD
END:VTIMEZONE
BEGIN:VEVENT
UID:69e9de8e585cd
DTSTAMP:20260423T085542Z
SUMMARY:KONKURADO: ETH Zürich\, Grosszyklische Sanierung im «Progressive-
 Design-Build» Modell\, Fragerunde\, einreichen bis 08.04.2026 - 08.04.202
 6
DESCRIPTION:Link zum Verfahren: https://konkurado.ch/en/eth-zurich-grosszyk
 lische-sanierung-im-progressive-design-build-modell
X-MICROSOFT-CDO-ALLDAYEVENT:TRUE
DTSTART;TZID=Europe/Zurich;VALUE=DATE:20260408
END:VEVENT
BEGIN:VEVENT
UID:69e9de8e58655
DTSTAMP:20260423T085542Z
SUMMARY:KONKURADO: ETH Zürich\, Grosszyklische Sanierung im «Progressive-
 Design-Build» Modell\, Fragerunde\, einreichen bis 08.04.2026 - 08.04.202
 6
DESCRIPTION:Link zum Verfahren: https://konkurado.ch/en/eth-zurich-grosszyk
 lische-sanierung-im-progressive-design-build-modell
X-MICROSOFT-CDO-ALLDAYEVENT:TRUE
DTSTART;TZID=Europe/Zurich;VALUE=DATE:20260408
END:VEVENT
BEGIN:VEVENT
UID:69e9de8e586c8
DTSTAMP:20260423T085542Z
SUMMARY:KONKURADO: ETH Zürich\, Grosszyklische Sanierung im «Progressive-
 Design-Build» Modell\, Einreichung der RFI-Antworten bis 17.04.2026 - 17.
 04.2026
DESCRIPTION:Link zum Verfahren: https://konkurado.ch/en/eth-zurich-grosszyk
 lische-sanierung-im-progressive-design-build-modell
X-MICROSOFT-CDO-ALLDAYEVENT:TRUE
DTSTART;TZID=Europe/Zurich;VALUE=DATE:20260417
END:VEVENT
BEGIN:VEVENT
UID:69e9de8e586f3
DTSTAMP:20260423T085542Z
SUMMARY:KONKURADO: ETH Zürich\, Grosszyklische Sanierung im «Progressive-
 Design-Build» Modell\, Einreichung der RFI-Antworten bis 17.04.2026 - 17.
 04.2026
DESCRIPTION:Link zum Verfahren: https://konkurado.ch/en/eth-zurich-grosszyk
 lische-sanierung-im-progressive-design-build-modell
X-MICROSOFT-CDO-ALLDAYEVENT:TRUE
DTSTART;TZID=Europe/Zurich;VALUE=DATE:20260417
END:VEVENT
END:VCALENDAR