BEGIN:VCALENDAR
VERSION:2.0
PRODID:spatie/icalendar-generator
NAME:Etablissement d’un plan directeur de zone industrielle et artisanale
  sur la zone industrielle de Plan-les-Ouates
X-WR-CALNAME:Etablissement d’un plan directeur de zone industrielle et ar
 tisanale sur la zone industrielle de Plan-les-Ouates
BEGIN:VTIMEZONE
TZID:Europe/Zurich
BEGIN:STANDARD
DTSTART:20251026T030000
TZOFFSETFROM:+0200
TZOFFSETTO:+0100
END:STANDARD
BEGIN:DAYLIGHT
DTSTART:20260329T010000
TZOFFSETFROM:+0100
TZOFFSETTO:+0200
END:DAYLIGHT
BEGIN:STANDARD
DTSTART:20261025T030000
TZOFFSETFROM:+0200
TZOFFSETTO:+0100
END:STANDARD
END:VTIMEZONE
BEGIN:VTIMEZONE
TZID:UTC
BEGIN:STANDARD
DTSTART:20250727T101711
TZOFFSETFROM:+0000
TZOFFSETTO:+0000
END:STANDARD
END:VTIMEZONE
BEGIN:VEVENT
UID:69e9f1a77de36
DTSTAMP:20260423T101711Z
SUMMARY:KONKURADO: Etablissement d’un plan directeur de zone industrielle
  et artisanale sur la zone industrielle de Plan-les-Ouates\, Session de qu
 estions\, soumettre avant 27.04.2026 - 27.04.2026
DESCRIPTION:Link zum Verfahren: https://konkurado.ch/en/etablissement-dun-p
 lan-directeur-de-zone-industrielle-et-artisanale-sur-la-zone-industrielle-
 de-plan-les-ouates
X-MICROSOFT-CDO-ALLDAYEVENT:TRUE
DTSTART;TZID=Europe/Zurich;VALUE=DATE:20260427
END:VEVENT
BEGIN:VEVENT
UID:69e9f1a77de9f
DTSTAMP:20260423T101711Z
SUMMARY:KONKURADO: Etablissement d’un plan directeur de zone industrielle
  et artisanale sur la zone industrielle de Plan-les-Ouates\, Session de qu
 estions\, soumettre avant 27.04.2026 - 27.04.2026
DESCRIPTION:Link zum Verfahren: https://konkurado.ch/en/etablissement-dun-p
 lan-directeur-de-zone-industrielle-et-artisanale-sur-la-zone-industrielle-
 de-plan-les-ouates
X-MICROSOFT-CDO-ALLDAYEVENT:TRUE
DTSTART;TZID=Europe/Zurich;VALUE=DATE:20260427
END:VEVENT
BEGIN:VEVENT
UID:69e9f1a77df0f
DTSTAMP:20260423T101711Z
SUMMARY:KONKURADO: Etablissement d’un plan directeur de zone industrielle
  et artisanale sur la zone industrielle de Plan-les-Ouates\, Soumission de
 s offres 08.05.2026 - 08.05.2026
DESCRIPTION:Link zum Verfahren: https://konkurado.ch/en/etablissement-dun-p
 lan-directeur-de-zone-industrielle-et-artisanale-sur-la-zone-industrielle-
 de-plan-les-ouates
X-MICROSOFT-CDO-ALLDAYEVENT:TRUE
DTSTART;TZID=Europe/Zurich;VALUE=DATE:20260508
END:VEVENT
BEGIN:VEVENT
UID:69e9f1a77df39
DTSTAMP:20260423T101711Z
SUMMARY:KONKURADO: Etablissement d’un plan directeur de zone industrielle
  et artisanale sur la zone industrielle de Plan-les-Ouates\, Soumission de
 s offres 08.05.2026 - 08.05.2026
DESCRIPTION:Link zum Verfahren: https://konkurado.ch/en/etablissement-dun-p
 lan-directeur-de-zone-industrielle-et-artisanale-sur-la-zone-industrielle-
 de-plan-les-ouates
X-MICROSOFT-CDO-ALLDAYEVENT:TRUE
DTSTART;TZID=Europe/Zurich;VALUE=DATE:20260508
END:VEVENT
BEGIN:VEVENT
UID:69e9f1a77df92
DTSTAMP:20260423T101711Z
SUMMARY:KONKURADO: Etablissement d’un plan directeur de zone industrielle
  et artisanale sur la zone industrielle de Plan-les-Ouates\, Ouverture des
  offres 08.05.2026 - 08.05.2026
DESCRIPTION:Link zum Verfahren: https://konkurado.ch/en/etablissement-dun-p
 lan-directeur-de-zone-industrielle-et-artisanale-sur-la-zone-industrielle-
 de-plan-les-ouates
X-MICROSOFT-CDO-ALLDAYEVENT:TRUE
DTSTART;TZID=Europe/Zurich;VALUE=DATE:20260508
END:VEVENT
BEGIN:VEVENT
UID:69e9f1a77dfb7
DTSTAMP:20260423T101711Z
SUMMARY:KONKURADO: Etablissement d’un plan directeur de zone industrielle
  et artisanale sur la zone industrielle de Plan-les-Ouates\, Ouverture des
  offres 08.05.2026 - 08.05.2026
DESCRIPTION:Link zum Verfahren: https://konkurado.ch/en/etablissement-dun-p
 lan-directeur-de-zone-industrielle-et-artisanale-sur-la-zone-industrielle-
 de-plan-les-ouates
X-MICROSOFT-CDO-ALLDAYEVENT:TRUE
DTSTART;TZID=Europe/Zurich;VALUE=DATE:20260508
END:VEVENT
BEGIN:VEVENT
UID:69e9f1a77e00c
DTSTAMP:20260423T101711Z
SUMMARY:KONKURADO: Etablissement d’un plan directeur de zone industrielle
  et artisanale sur la zone industrielle de Plan-les-Ouates\, Disponibilit
 é des documents d’appel d’offres 14.04.2026 - 08.05.2026
DESCRIPTION:Link zum Verfahren: https://konkurado.ch/en/etablissement-dun-p
 lan-directeur-de-zone-industrielle-et-artisanale-sur-la-zone-industrielle-
 de-plan-les-ouates
X-MICROSOFT-CDO-ALLDAYEVENT:TRUE
DTSTART;TZID=Europe/Zurich;VALUE=DATE:20260414
END:VEVENT
BEGIN:VEVENT
UID:69e9f1a77e9ba
DTSTAMP:20260423T101711Z
SUMMARY:KONKURADO: Etablissement d’un plan directeur de zone industrielle
  et artisanale sur la zone industrielle de Plan-les-Ouates\, Disponibilit
 é des documents d’appel d’offres 14.04.2026 - 08.05.2026
DESCRIPTION:Link zum Verfahren: https://konkurado.ch/en/etablissement-dun-p
 lan-directeur-de-zone-industrielle-et-artisanale-sur-la-zone-industrielle-
 de-plan-les-ouates
X-MICROSOFT-CDO-ALLDAYEVENT:TRUE
DTSTART;TZID=Europe/Zurich;VALUE=DATE:20260508
END:VEVENT
END:VCALENDAR