BEGIN:VCALENDAR
VERSION:2.0
PRODID:spatie/icalendar-generator
NAME:Erweiterung Schulhaus Hinter Gärten
X-WR-CALNAME:Erweiterung Schulhaus Hinter Gärten
BEGIN:VTIMEZONE
TZID:Europe/Zurich
BEGIN:STANDARD
DTSTART:20241027T030000
TZOFFSETFROM:+0200
TZOFFSETTO:+0100
END:STANDARD
BEGIN:DAYLIGHT
DTSTART:20250330T010000
TZOFFSETFROM:+0100
TZOFFSETTO:+0200
END:DAYLIGHT
BEGIN:STANDARD
DTSTART:20251026T030000
TZOFFSETFROM:+0200
TZOFFSETTO:+0100
END:STANDARD
BEGIN:DAYLIGHT
DTSTART:20260329T010000
TZOFFSETFROM:+0100
TZOFFSETTO:+0200
END:DAYLIGHT
END:VTIMEZONE
BEGIN:VTIMEZONE
TZID:UTC
BEGIN:STANDARD
DTSTART:20250727T115330
TZOFFSETFROM:+0000
TZOFFSETTO:+0000
END:STANDARD
END:VTIMEZONE
BEGIN:VEVENT
UID:69ea083a59f8d
DTSTAMP:20260423T115330Z
SUMMARY:KONKURADO: Erweiterung Schulhaus Hinter Gärten\, Eingabefrist für
  Bewerbungen um Teilnahme am Studienauftrag 23.05.2025 - 23.06.2025
DESCRIPTION:Link zum Verfahren: https://konkurado.ch/en/erweiterung-schulha
 us-hinter-garten
X-MICROSOFT-CDO-ALLDAYEVENT:TRUE
DTSTART;TZID=Europe/Zurich;VALUE=DATE:20250523
END:VEVENT
BEGIN:VEVENT
UID:69ea083a5a011
DTSTAMP:20260423T115330Z
SUMMARY:KONKURADO: Erweiterung Schulhaus Hinter Gärten\, Eingabefrist für
  Bewerbungen um Teilnahme am Studienauftrag 23.05.2025 - 23.06.2025
DESCRIPTION:Link zum Verfahren: https://konkurado.ch/en/erweiterung-schulha
 us-hinter-garten
X-MICROSOFT-CDO-ALLDAYEVENT:TRUE
DTSTART;TZID=Europe/Zurich;VALUE=DATE:20250623
END:VEVENT
BEGIN:VEVENT
UID:69ea083a5a04b
DTSTAMP:20260423T115330Z
SUMMARY:KONKURADO: Erweiterung Schulhaus Hinter Gärten\, Eingang der schri
 ftlichen Fragen der Teilnehmenden 18.07.2025 - 31.07.2025
DESCRIPTION:Link zum Verfahren: https://konkurado.ch/en/erweiterung-schulha
 us-hinter-garten
X-MICROSOFT-CDO-ALLDAYEVENT:TRUE
DTSTART;TZID=Europe/Zurich;VALUE=DATE:20250718
END:VEVENT
BEGIN:VEVENT
UID:69ea083a5a072
DTSTAMP:20260423T115330Z
SUMMARY:KONKURADO: Erweiterung Schulhaus Hinter Gärten\, Eingang der schri
 ftlichen Fragen der Teilnehmenden 18.07.2025 - 31.07.2025
DESCRIPTION:Link zum Verfahren: https://konkurado.ch/en/erweiterung-schulha
 us-hinter-garten
X-MICROSOFT-CDO-ALLDAYEVENT:TRUE
DTSTART;TZID=Europe/Zurich;VALUE=DATE:20250731
END:VEVENT
BEGIN:VEVENT
UID:69ea083a5a0a2
DTSTAMP:20260423T115330Z
SUMMARY:KONKURADO: Erweiterung Schulhaus Hinter Gärten\, Abgabe Lösungsvo
 rschlag für Zwischenbesprechung 18.07.2025 - 11.09.2025
DESCRIPTION:Link zum Verfahren: https://konkurado.ch/en/erweiterung-schulha
 us-hinter-garten
X-MICROSOFT-CDO-ALLDAYEVENT:TRUE
DTSTART;TZID=Europe/Zurich;VALUE=DATE:20250718
END:VEVENT
BEGIN:VEVENT
UID:69ea083a5a0c7
DTSTAMP:20260423T115330Z
SUMMARY:KONKURADO: Erweiterung Schulhaus Hinter Gärten\, Abgabe Lösungsvo
 rschlag für Zwischenbesprechung 18.07.2025 - 11.09.2025
DESCRIPTION:Link zum Verfahren: https://konkurado.ch/en/erweiterung-schulha
 us-hinter-garten
X-MICROSOFT-CDO-ALLDAYEVENT:TRUE
DTSTART;TZID=Europe/Zurich;VALUE=DATE:20250911
END:VEVENT
BEGIN:VEVENT
UID:69ea083a5a10d
DTSTAMP:20260423T115330Z
SUMMARY:KONKURADO: Erweiterung Schulhaus Hinter Gärten\, Sitzung Beurteilu
 ngsgremium 12.12.2025 - 12.12.2025
DESCRIPTION:Link zum Verfahren: https://konkurado.ch/en/erweiterung-schulha
 us-hinter-garten
X-MICROSOFT-CDO-ALLDAYEVENT:TRUE
DTSTART;TZID=Europe/Zurich;VALUE=DATE:20251212
END:VEVENT
BEGIN:VEVENT
UID:69ea083a5a132
DTSTAMP:20260423T115330Z
SUMMARY:KONKURADO: Erweiterung Schulhaus Hinter Gärten\, Sitzung Beurteilu
 ngsgremium 12.12.2025 - 12.12.2025
DESCRIPTION:Link zum Verfahren: https://konkurado.ch/en/erweiterung-schulha
 us-hinter-garten
X-MICROSOFT-CDO-ALLDAYEVENT:TRUE
DTSTART;TZID=Europe/Zurich;VALUE=DATE:20251212
END:VEVENT
BEGIN:VEVENT
UID:69ea083a5a279
DTSTAMP:20260423T115330Z
SUMMARY:KONKURADO: Erweiterung Schulhaus Hinter Gärten\, Mitteilung des Re
 sultats der Präqualifikation 24.06.2025 - 08.07.2025
DESCRIPTION:Link zum Verfahren: https://konkurado.ch/en/erweiterung-schulha
 us-hinter-garten
X-MICROSOFT-CDO-ALLDAYEVENT:TRUE
DTSTART;TZID=Europe/Zurich;VALUE=DATE:20250624
END:VEVENT
BEGIN:VEVENT
UID:69ea083a5a2be
DTSTAMP:20260423T115330Z
SUMMARY:KONKURADO: Erweiterung Schulhaus Hinter Gärten\, Mitteilung des Re
 sultats der Präqualifikation 24.06.2025 - 08.07.2025
DESCRIPTION:Link zum Verfahren: https://konkurado.ch/en/erweiterung-schulha
 us-hinter-garten
X-MICROSOFT-CDO-ALLDAYEVENT:TRUE
DTSTART;TZID=Europe/Zurich;VALUE=DATE:20250708
END:VEVENT
BEGIN:VEVENT
UID:69ea083a5a35b
DTSTAMP:20260423T115330Z
SUMMARY:KONKURADO: Erweiterung Schulhaus Hinter Gärten\, Startsitzung / ö
 rtliche Besichtigung / Bezug des Modells 18.07.2025 - 18.07.2025
DESCRIPTION:Link zum Verfahren: https://konkurado.ch/en/erweiterung-schulha
 us-hinter-garten
X-MICROSOFT-CDO-ALLDAYEVENT:TRUE
DTSTART;TZID=Europe/Zurich;VALUE=DATE:20250718
END:VEVENT
BEGIN:VEVENT
UID:69ea083a5a397
DTSTAMP:20260423T115330Z
SUMMARY:KONKURADO: Erweiterung Schulhaus Hinter Gärten\, Startsitzung / ö
 rtliche Besichtigung / Bezug des Modells 18.07.2025 - 18.07.2025
DESCRIPTION:Link zum Verfahren: https://konkurado.ch/en/erweiterung-schulha
 us-hinter-garten
X-MICROSOFT-CDO-ALLDAYEVENT:TRUE
DTSTART;TZID=Europe/Zurich;VALUE=DATE:20250718
END:VEVENT
BEGIN:VEVENT
UID:69ea083a5a428
DTSTAMP:20260423T115330Z
SUMMARY:KONKURADO: Erweiterung Schulhaus Hinter Gärten\, Fragebeantwortung
  01.08.2025 - 14.08.2025
DESCRIPTION:Link zum Verfahren: https://konkurado.ch/en/erweiterung-schulha
 us-hinter-garten
X-MICROSOFT-CDO-ALLDAYEVENT:TRUE
DTSTART;TZID=Europe/Zurich;VALUE=DATE:20250801
END:VEVENT
BEGIN:VEVENT
UID:69ea083a5a468
DTSTAMP:20260423T115330Z
SUMMARY:KONKURADO: Erweiterung Schulhaus Hinter Gärten\, Fragebeantwortung
  01.08.2025 - 14.08.2025
DESCRIPTION:Link zum Verfahren: https://konkurado.ch/en/erweiterung-schulha
 us-hinter-garten
X-MICROSOFT-CDO-ALLDAYEVENT:TRUE
DTSTART;TZID=Europe/Zurich;VALUE=DATE:20250814
END:VEVENT
BEGIN:VEVENT
UID:69ea083a5a4f9
DTSTAMP:20260423T115330Z
SUMMARY:KONKURADO: Erweiterung Schulhaus Hinter Gärten\, Zwischenbesprechu
 ng 12.09.2025 - 12.09.2025
DESCRIPTION:Link zum Verfahren: https://konkurado.ch/en/erweiterung-schulha
 us-hinter-garten
X-MICROSOFT-CDO-ALLDAYEVENT:TRUE
DTSTART;TZID=Europe/Zurich;VALUE=DATE:20250912
END:VEVENT
BEGIN:VEVENT
UID:69ea083a5a534
DTSTAMP:20260423T115330Z
SUMMARY:KONKURADO: Erweiterung Schulhaus Hinter Gärten\, Zwischenbesprechu
 ng 12.09.2025 - 12.09.2025
DESCRIPTION:Link zum Verfahren: https://konkurado.ch/en/erweiterung-schulha
 us-hinter-garten
X-MICROSOFT-CDO-ALLDAYEVENT:TRUE
DTSTART;TZID=Europe/Zurich;VALUE=DATE:20250912
END:VEVENT
BEGIN:VEVENT
UID:69ea083a5a5c6
DTSTAMP:20260423T115330Z
SUMMARY:KONKURADO: Erweiterung Schulhaus Hinter Gärten\, Empfehlungen für
  die Weiterbearbeitung 12.09.2025 - 12.09.2025
DESCRIPTION:Link zum Verfahren: https://konkurado.ch/en/erweiterung-schulha
 us-hinter-garten
X-MICROSOFT-CDO-ALLDAYEVENT:TRUE
DTSTART;TZID=Europe/Zurich;VALUE=DATE:20250912
END:VEVENT
BEGIN:VEVENT
UID:69ea083a5a608
DTSTAMP:20260423T115330Z
SUMMARY:KONKURADO: Erweiterung Schulhaus Hinter Gärten\, Empfehlungen für
  die Weiterbearbeitung 12.09.2025 - 12.09.2025
DESCRIPTION:Link zum Verfahren: https://konkurado.ch/en/erweiterung-schulha
 us-hinter-garten
X-MICROSOFT-CDO-ALLDAYEVENT:TRUE
DTSTART;TZID=Europe/Zurich;VALUE=DATE:20250912
END:VEVENT
BEGIN:VEVENT
UID:69ea083a5a661
DTSTAMP:20260423T115330Z
SUMMARY:KONKURADO: Erweiterung Schulhaus Hinter Gärten\, Schlussabgabe Pro
 jektstudie 12.09.2025 - 14.11.2025
DESCRIPTION:Link zum Verfahren: https://konkurado.ch/en/erweiterung-schulha
 us-hinter-garten
X-MICROSOFT-CDO-ALLDAYEVENT:TRUE
DTSTART;TZID=Europe/Zurich;VALUE=DATE:20250912
END:VEVENT
BEGIN:VEVENT
UID:69ea083a5a6a3
DTSTAMP:20260423T115330Z
SUMMARY:KONKURADO: Erweiterung Schulhaus Hinter Gärten\, Schlussabgabe Pro
 jektstudie 12.09.2025 - 14.11.2025
DESCRIPTION:Link zum Verfahren: https://konkurado.ch/en/erweiterung-schulha
 us-hinter-garten
X-MICROSOFT-CDO-ALLDAYEVENT:TRUE
DTSTART;TZID=Europe/Zurich;VALUE=DATE:20251114
END:VEVENT
BEGIN:VEVENT
UID:69ea083a5a73b
DTSTAMP:20260423T115330Z
SUMMARY:KONKURADO: Erweiterung Schulhaus Hinter Gärten\, Abgabe Modell 18.
 07.2025 - 04.12.2025
DESCRIPTION:Link zum Verfahren: https://konkurado.ch/en/erweiterung-schulha
 us-hinter-garten
X-MICROSOFT-CDO-ALLDAYEVENT:TRUE
DTSTART;TZID=Europe/Zurich;VALUE=DATE:20250718
END:VEVENT
BEGIN:VEVENT
UID:69ea083a5a773
DTSTAMP:20260423T115330Z
SUMMARY:KONKURADO: Erweiterung Schulhaus Hinter Gärten\, Abgabe Modell 18.
 07.2025 - 04.12.2025
DESCRIPTION:Link zum Verfahren: https://konkurado.ch/en/erweiterung-schulha
 us-hinter-garten
X-MICROSOFT-CDO-ALLDAYEVENT:TRUE
DTSTART;TZID=Europe/Zurich;VALUE=DATE:20251204
END:VEVENT
END:VCALENDAR