BEGIN:VCALENDAR
VERSION:2.0
PRODID:spatie/icalendar-generator
NAME:Erweiterung Schulanlage Meierhof
X-WR-CALNAME:Erweiterung Schulanlage Meierhof
BEGIN:VTIMEZONE
TZID:Europe/Zurich
BEGIN:DAYLIGHT
DTSTART:20240331T010000
TZOFFSETFROM:+0100
TZOFFSETTO:+0200
END:DAYLIGHT
BEGIN:STANDARD
DTSTART:20241027T030000
TZOFFSETFROM:+0200
TZOFFSETTO:+0100
END:STANDARD
BEGIN:DAYLIGHT
DTSTART:20250330T010000
TZOFFSETFROM:+0100
TZOFFSETTO:+0200
END:DAYLIGHT
BEGIN:STANDARD
DTSTART:20251026T030000
TZOFFSETFROM:+0200
TZOFFSETTO:+0100
END:STANDARD
END:VTIMEZONE
BEGIN:VTIMEZONE
TZID:UTC
BEGIN:STANDARD
DTSTART:20250727T115329
TZOFFSETFROM:+0000
TZOFFSETTO:+0000
END:STANDARD
END:VTIMEZONE
BEGIN:VEVENT
UID:69ea08395a712
DTSTAMP:20260423T115329Z
SUMMARY:KONKURADO: Erweiterung Schulanlage Meierhof\, Anmeldung zur Teilnah
 me und Einzahlung Depot 28.11.2024 - 09.01.2025
DESCRIPTION:Link zum Verfahren: https://konkurado.ch/en/erweiterung-schulan
 lage-meierhof
X-MICROSOFT-CDO-ALLDAYEVENT:TRUE
DTSTART;TZID=Europe/Zurich;VALUE=DATE:20241128
END:VEVENT
BEGIN:VEVENT
UID:69ea08395a79b
DTSTAMP:20260423T115329Z
SUMMARY:KONKURADO: Erweiterung Schulanlage Meierhof\, Anmeldung zur Teilnah
 me und Einzahlung Depot 28.11.2024 - 09.01.2025
DESCRIPTION:Link zum Verfahren: https://konkurado.ch/en/erweiterung-schulan
 lage-meierhof
X-MICROSOFT-CDO-ALLDAYEVENT:TRUE
DTSTART;TZID=Europe/Zurich;VALUE=DATE:20250109
END:VEVENT
BEGIN:VEVENT
UID:69ea08395a8ef
DTSTAMP:20260423T115329Z
SUMMARY:KONKURADO: Erweiterung Schulanlage Meierhof\, Begehung Schulareal 0
 8.01.2025 - 08.01.2025
DESCRIPTION:Link zum Verfahren: https://konkurado.ch/en/erweiterung-schulan
 lage-meierhof
X-MICROSOFT-CDO-ALLDAYEVENT:TRUE
DTSTART;TZID=Europe/Zurich;VALUE=DATE:20250108
END:VEVENT
BEGIN:VEVENT
UID:69ea08395a91a
DTSTAMP:20260423T115329Z
SUMMARY:KONKURADO: Erweiterung Schulanlage Meierhof\, Begehung Schulareal 0
 8.01.2025 - 08.01.2025
DESCRIPTION:Link zum Verfahren: https://konkurado.ch/en/erweiterung-schulan
 lage-meierhof
X-MICROSOFT-CDO-ALLDAYEVENT:TRUE
DTSTART;TZID=Europe/Zurich;VALUE=DATE:20250108
END:VEVENT
BEGIN:VEVENT
UID:69ea08395a952
DTSTAMP:20260423T115329Z
SUMMARY:KONKURADO: Erweiterung Schulanlage Meierhof\, Einreichung Fragen bi
 s 28.11.2024 - 06.02.2025
DESCRIPTION:Link zum Verfahren: https://konkurado.ch/en/erweiterung-schulan
 lage-meierhof
X-MICROSOFT-CDO-ALLDAYEVENT:TRUE
DTSTART;TZID=Europe/Zurich;VALUE=DATE:20241128
END:VEVENT
BEGIN:VEVENT
UID:69ea08395a979
DTSTAMP:20260423T115329Z
SUMMARY:KONKURADO: Erweiterung Schulanlage Meierhof\, Einreichung Fragen bi
 s 28.11.2024 - 06.02.2025
DESCRIPTION:Link zum Verfahren: https://konkurado.ch/en/erweiterung-schulan
 lage-meierhof
X-MICROSOFT-CDO-ALLDAYEVENT:TRUE
DTSTART;TZID=Europe/Zurich;VALUE=DATE:20250206
END:VEVENT
BEGIN:VEVENT
UID:69ea08395a9aa
DTSTAMP:20260423T115329Z
SUMMARY:KONKURADO: Erweiterung Schulanlage Meierhof\, Einreichung Unterlage
 n 28.11.2024 - 12.05.2025
DESCRIPTION:Link zum Verfahren: https://konkurado.ch/en/erweiterung-schulan
 lage-meierhof
X-MICROSOFT-CDO-ALLDAYEVENT:TRUE
DTSTART;TZID=Europe/Zurich;VALUE=DATE:20241128
END:VEVENT
BEGIN:VEVENT
UID:69ea08395a9cf
DTSTAMP:20260423T115329Z
SUMMARY:KONKURADO: Erweiterung Schulanlage Meierhof\, Einreichung Unterlage
 n 28.11.2024 - 12.05.2025
DESCRIPTION:Link zum Verfahren: https://konkurado.ch/en/erweiterung-schulan
 lage-meierhof
X-MICROSOFT-CDO-ALLDAYEVENT:TRUE
DTSTART;TZID=Europe/Zurich;VALUE=DATE:20250512
END:VEVENT
BEGIN:VEVENT
UID:69ea08395aa2d
DTSTAMP:20260423T115329Z
SUMMARY:KONKURADO: Erweiterung Schulanlage Meierhof\, Abholung Modellgrundl
 age ab 23.01.2025 - 23.01.2025
DESCRIPTION:Link zum Verfahren: https://konkurado.ch/en/erweiterung-schulan
 lage-meierhof
X-MICROSOFT-CDO-ALLDAYEVENT:TRUE
DTSTART;TZID=Europe/Zurich;VALUE=DATE:20250123
END:VEVENT
BEGIN:VEVENT
UID:69ea08395aa52
DTSTAMP:20260423T115329Z
SUMMARY:KONKURADO: Erweiterung Schulanlage Meierhof\, Abholung Modellgrundl
 age ab 23.01.2025 - 23.01.2025
DESCRIPTION:Link zum Verfahren: https://konkurado.ch/en/erweiterung-schulan
 lage-meierhof
X-MICROSOFT-CDO-ALLDAYEVENT:TRUE
DTSTART;TZID=Europe/Zurich;VALUE=DATE:20250123
END:VEVENT
BEGIN:VEVENT
UID:69ea08395aaa6
DTSTAMP:20260423T115329Z
SUMMARY:KONKURADO: Erweiterung Schulanlage Meierhof\, Beantwortung Fragen b
 is 07.02.2025 - 04.03.2025
DESCRIPTION:Link zum Verfahren: https://konkurado.ch/en/erweiterung-schulan
 lage-meierhof
X-MICROSOFT-CDO-ALLDAYEVENT:TRUE
DTSTART;TZID=Europe/Zurich;VALUE=DATE:20250207
END:VEVENT
BEGIN:VEVENT
UID:69ea08395aacb
DTSTAMP:20260423T115329Z
SUMMARY:KONKURADO: Erweiterung Schulanlage Meierhof\, Beantwortung Fragen b
 is 07.02.2025 - 04.03.2025
DESCRIPTION:Link zum Verfahren: https://konkurado.ch/en/erweiterung-schulan
 lage-meierhof
X-MICROSOFT-CDO-ALLDAYEVENT:TRUE
DTSTART;TZID=Europe/Zurich;VALUE=DATE:20250304
END:VEVENT
BEGIN:VEVENT
UID:69ea08395ab1d
DTSTAMP:20260423T115329Z
SUMMARY:KONKURADO: Erweiterung Schulanlage Meierhof\, Abgabe Modell 23.01.2
 025 - 26.05.2025
DESCRIPTION:Link zum Verfahren: https://konkurado.ch/en/erweiterung-schulan
 lage-meierhof
X-MICROSOFT-CDO-ALLDAYEVENT:TRUE
DTSTART;TZID=Europe/Zurich;VALUE=DATE:20250123
END:VEVENT
BEGIN:VEVENT
UID:69ea08395ab43
DTSTAMP:20260423T115329Z
SUMMARY:KONKURADO: Erweiterung Schulanlage Meierhof\, Abgabe Modell 23.01.2
 025 - 26.05.2025
DESCRIPTION:Link zum Verfahren: https://konkurado.ch/en/erweiterung-schulan
 lage-meierhof
X-MICROSOFT-CDO-ALLDAYEVENT:TRUE
DTSTART;TZID=Europe/Zurich;VALUE=DATE:20250526
END:VEVENT
END:VCALENDAR