BEGIN:VCALENDAR
VERSION:2.0
PRODID:spatie/icalendar-generator
NAME:Erweiterung Primarschulanlage Lutertal
X-WR-CALNAME:Erweiterung Primarschulanlage Lutertal
BEGIN:VTIMEZONE
TZID:Europe/Zurich
BEGIN:STANDARD
DTSTART:20241027T030000
TZOFFSETFROM:+0200
TZOFFSETTO:+0100
END:STANDARD
BEGIN:DAYLIGHT
DTSTART:20250330T010000
TZOFFSETFROM:+0100
TZOFFSETTO:+0200
END:DAYLIGHT
BEGIN:STANDARD
DTSTART:20251026T030000
TZOFFSETFROM:+0200
TZOFFSETTO:+0100
END:STANDARD
END:VTIMEZONE
BEGIN:VTIMEZONE
TZID:UTC
BEGIN:STANDARD
DTSTART:20250727T115543
TZOFFSETFROM:+0000
TZOFFSETTO:+0000
END:STANDARD
END:VTIMEZONE
BEGIN:VEVENT
UID:69ea08bfed342
DTSTAMP:20260423T115543Z
SUMMARY:KONKURADO: Erweiterung Primarschulanlage Lutertal\, Einreichung von
  Angeboten bis 26.06.2025 - 18.08.2025
DESCRIPTION:Link zum Verfahren: https://konkurado.ch/en/erweiterung-primars
 chulanlage-lutertal
X-MICROSOFT-CDO-ALLDAYEVENT:TRUE
DTSTART;TZID=Europe/Zurich;VALUE=DATE:20250626
END:VEVENT
BEGIN:VEVENT
UID:69ea08bfed3e9
DTSTAMP:20260423T115543Z
SUMMARY:KONKURADO: Erweiterung Primarschulanlage Lutertal\, Einreichung von
  Angeboten bis 26.06.2025 - 18.08.2025
DESCRIPTION:Link zum Verfahren: https://konkurado.ch/en/erweiterung-primars
 chulanlage-lutertal
X-MICROSOFT-CDO-ALLDAYEVENT:TRUE
DTSTART;TZID=Europe/Zurich;VALUE=DATE:20250818
END:VEVENT
BEGIN:VEVENT
UID:69ea08bfed425
DTSTAMP:20260423T115543Z
SUMMARY:KONKURADO: Erweiterung Primarschulanlage Lutertal\, Einreichung von
  Fragen bis 26.06.2025 - 16.07.2025
DESCRIPTION:Link zum Verfahren: https://konkurado.ch/en/erweiterung-primars
 chulanlage-lutertal
X-MICROSOFT-CDO-ALLDAYEVENT:TRUE
DTSTART;TZID=Europe/Zurich;VALUE=DATE:20250626
END:VEVENT
BEGIN:VEVENT
UID:69ea08bfed44c
DTSTAMP:20260423T115543Z
SUMMARY:KONKURADO: Erweiterung Primarschulanlage Lutertal\, Einreichung von
  Fragen bis 26.06.2025 - 16.07.2025
DESCRIPTION:Link zum Verfahren: https://konkurado.ch/en/erweiterung-primars
 chulanlage-lutertal
X-MICROSOFT-CDO-ALLDAYEVENT:TRUE
DTSTART;TZID=Europe/Zurich;VALUE=DATE:20250716
END:VEVENT
BEGIN:VEVENT
UID:69ea08bfed57f
DTSTAMP:20260423T115543Z
SUMMARY:KONKURADO: Erweiterung Primarschulanlage Lutertal\, Fragenbeantwort
 ung 23.07.2025 - 23.07.2025
DESCRIPTION:Link zum Verfahren: https://konkurado.ch/en/erweiterung-primars
 chulanlage-lutertal
X-MICROSOFT-CDO-ALLDAYEVENT:TRUE
DTSTART;TZID=Europe/Zurich;VALUE=DATE:20250723
END:VEVENT
BEGIN:VEVENT
UID:69ea08bfed5a9
DTSTAMP:20260423T115543Z
SUMMARY:KONKURADO: Erweiterung Primarschulanlage Lutertal\, Fragenbeantwort
 ung 23.07.2025 - 23.07.2025
DESCRIPTION:Link zum Verfahren: https://konkurado.ch/en/erweiterung-primars
 chulanlage-lutertal
X-MICROSOFT-CDO-ALLDAYEVENT:TRUE
DTSTART;TZID=Europe/Zurich;VALUE=DATE:20250723
END:VEVENT
END:VCALENDAR