BEGIN:VCALENDAR
VERSION:2.0
PRODID:spatie/icalendar-generator
NAME:Erweiterung Gemeinschaftszentrum Roos\, Regensdorf
X-WR-CALNAME:Erweiterung Gemeinschaftszentrum Roos\, Regensdorf
BEGIN:VTIMEZONE
TZID:Europe/Zurich
BEGIN:STANDARD
DTSTART:20241027T030000
TZOFFSETFROM:+0200
TZOFFSETTO:+0100
END:STANDARD
BEGIN:DAYLIGHT
DTSTART:20250330T010000
TZOFFSETFROM:+0100
TZOFFSETTO:+0200
END:DAYLIGHT
BEGIN:STANDARD
DTSTART:20251026T030000
TZOFFSETFROM:+0200
TZOFFSETTO:+0100
END:STANDARD
BEGIN:DAYLIGHT
DTSTART:20260329T010000
TZOFFSETFROM:+0100
TZOFFSETTO:+0200
END:DAYLIGHT
END:VTIMEZONE
BEGIN:VTIMEZONE
TZID:UTC
BEGIN:STANDARD
DTSTART:20250727T120231
TZOFFSETFROM:+0000
TZOFFSETTO:+0000
END:STANDARD
END:VTIMEZONE
BEGIN:VEVENT
UID:69ea0a574c782
DTSTAMP:20260423T120231Z
SUMMARY:KONKURADO: Erweiterung Gemeinschaftszentrum Roos\, Regensdorf\, Ein
 reichung Antrag auf Teilnahme bis 11.04.2025 - 23.05.2025
DESCRIPTION:Link zum Verfahren: https://konkurado.ch/en/erweiterung-gemeins
 chaftszentrum-roos-regensdorf
X-MICROSOFT-CDO-ALLDAYEVENT:TRUE
DTSTART;TZID=Europe/Zurich;VALUE=DATE:20250411
END:VEVENT
BEGIN:VEVENT
UID:69ea0a574c82d
DTSTAMP:20260423T120231Z
SUMMARY:KONKURADO: Erweiterung Gemeinschaftszentrum Roos\, Regensdorf\, Ein
 reichung Antrag auf Teilnahme bis 11.04.2025 - 23.05.2025
DESCRIPTION:Link zum Verfahren: https://konkurado.ch/en/erweiterung-gemeins
 chaftszentrum-roos-regensdorf
X-MICROSOFT-CDO-ALLDAYEVENT:TRUE
DTSTART;TZID=Europe/Zurich;VALUE=DATE:20250523
END:VEVENT
BEGIN:VEVENT
UID:69ea0a574c9d7
DTSTAMP:20260423T120231Z
SUMMARY:KONKURADO: Erweiterung Gemeinschaftszentrum Roos\, Regensdorf\, Pub
 likation der Unterlagen 18.04.2025 - 19.04.2025
DESCRIPTION:Link zum Verfahren: https://konkurado.ch/en/erweiterung-gemeins
 chaftszentrum-roos-regensdorf
X-MICROSOFT-CDO-ALLDAYEVENT:TRUE
DTSTART;TZID=Europe/Zurich;VALUE=DATE:20250418
END:VEVENT
BEGIN:VEVENT
UID:69ea0a574ca1b
DTSTAMP:20260423T120231Z
SUMMARY:KONKURADO: Erweiterung Gemeinschaftszentrum Roos\, Regensdorf\, Pub
 likation der Unterlagen 18.04.2025 - 19.04.2025
DESCRIPTION:Link zum Verfahren: https://konkurado.ch/en/erweiterung-gemeins
 chaftszentrum-roos-regensdorf
X-MICROSOFT-CDO-ALLDAYEVENT:TRUE
DTSTART;TZID=Europe/Zurich;VALUE=DATE:20250419
END:VEVENT
BEGIN:VEVENT
UID:69ea0a574ca5d
DTSTAMP:20260423T120231Z
SUMMARY:KONKURADO: Erweiterung Gemeinschaftszentrum Roos\, Regensdorf\, Ein
 reichung Fragen bis 20.06.2025 - 11.07.2025
DESCRIPTION:Link zum Verfahren: https://konkurado.ch/en/erweiterung-gemeins
 chaftszentrum-roos-regensdorf
X-MICROSOFT-CDO-ALLDAYEVENT:TRUE
DTSTART;TZID=Europe/Zurich;VALUE=DATE:20250620
END:VEVENT
BEGIN:VEVENT
UID:69ea0a574ca82
DTSTAMP:20260423T120231Z
SUMMARY:KONKURADO: Erweiterung Gemeinschaftszentrum Roos\, Regensdorf\, Ein
 reichung Fragen bis 20.06.2025 - 11.07.2025
DESCRIPTION:Link zum Verfahren: https://konkurado.ch/en/erweiterung-gemeins
 chaftszentrum-roos-regensdorf
X-MICROSOFT-CDO-ALLDAYEVENT:TRUE
DTSTART;TZID=Europe/Zurich;VALUE=DATE:20250711
END:VEVENT
BEGIN:VEVENT
UID:69ea0a574cab4
DTSTAMP:20260423T120231Z
SUMMARY:KONKURADO: Erweiterung Gemeinschaftszentrum Roos\, Regensdorf\, Abg
 abe Projektvorschlag\, Zwischenpräsentation 20.06.2025 - 29.09.2025
DESCRIPTION:Link zum Verfahren: https://konkurado.ch/en/erweiterung-gemeins
 chaftszentrum-roos-regensdorf
X-MICROSOFT-CDO-ALLDAYEVENT:TRUE
DTSTART;TZID=Europe/Zurich;VALUE=DATE:20250620
END:VEVENT
BEGIN:VEVENT
UID:69ea0a574cad9
DTSTAMP:20260423T120231Z
SUMMARY:KONKURADO: Erweiterung Gemeinschaftszentrum Roos\, Regensdorf\, Abg
 abe Projektvorschlag\, Zwischenpräsentation 20.06.2025 - 29.09.2025
DESCRIPTION:Link zum Verfahren: https://konkurado.ch/en/erweiterung-gemeins
 chaftszentrum-roos-regensdorf
X-MICROSOFT-CDO-ALLDAYEVENT:TRUE
DTSTART;TZID=Europe/Zurich;VALUE=DATE:20250929
END:VEVENT
BEGIN:VEVENT
UID:69ea0a574cb15
DTSTAMP:20260423T120231Z
SUMMARY:KONKURADO: Erweiterung Gemeinschaftszentrum Roos\, Regensdorf\, Jur
 ierung 1. Stufe 30.09.2025 - 30.09.2025
DESCRIPTION:Link zum Verfahren: https://konkurado.ch/en/erweiterung-gemeins
 chaftszentrum-roos-regensdorf
X-MICROSOFT-CDO-ALLDAYEVENT:TRUE
DTSTART;TZID=Europe/Zurich;VALUE=DATE:20250930
END:VEVENT
BEGIN:VEVENT
UID:69ea0a574cb41
DTSTAMP:20260423T120231Z
SUMMARY:KONKURADO: Erweiterung Gemeinschaftszentrum Roos\, Regensdorf\, Jur
 ierung 1. Stufe 30.09.2025 - 30.09.2025
DESCRIPTION:Link zum Verfahren: https://konkurado.ch/en/erweiterung-gemeins
 chaftszentrum-roos-regensdorf
X-MICROSOFT-CDO-ALLDAYEVENT:TRUE
DTSTART;TZID=Europe/Zurich;VALUE=DATE:20250930
END:VEVENT
BEGIN:VEVENT
UID:69ea0a574cbd6
DTSTAMP:20260423T120231Z
SUMMARY:KONKURADO: Erweiterung Gemeinschaftszentrum Roos\, Regensdorf\, Sta
 rt Gesamtleistungswettbewerb 1. Stufe 24.05.2025 - 20.06.2025
DESCRIPTION:Link zum Verfahren: https://konkurado.ch/en/erweiterung-gemeins
 chaftszentrum-roos-regensdorf
X-MICROSOFT-CDO-ALLDAYEVENT:TRUE
DTSTART;TZID=Europe/Zurich;VALUE=DATE:20250524
END:VEVENT
BEGIN:VEVENT
UID:69ea0a574cc15
DTSTAMP:20260423T120231Z
SUMMARY:KONKURADO: Erweiterung Gemeinschaftszentrum Roos\, Regensdorf\, Sta
 rt Gesamtleistungswettbewerb 1. Stufe 24.05.2025 - 20.06.2025
DESCRIPTION:Link zum Verfahren: https://konkurado.ch/en/erweiterung-gemeins
 chaftszentrum-roos-regensdorf
X-MICROSOFT-CDO-ALLDAYEVENT:TRUE
DTSTART;TZID=Europe/Zurich;VALUE=DATE:20250620
END:VEVENT
BEGIN:VEVENT
UID:69ea0a574cc9a
DTSTAMP:20260423T120231Z
SUMMARY:KONKURADO: Erweiterung Gemeinschaftszentrum Roos\, Regensdorf\, Ver
 sand Wettbewerbsunterlagen 20.06.2025 - 20.06.2025
DESCRIPTION:Link zum Verfahren: https://konkurado.ch/en/erweiterung-gemeins
 chaftszentrum-roos-regensdorf
X-MICROSOFT-CDO-ALLDAYEVENT:TRUE
DTSTART;TZID=Europe/Zurich;VALUE=DATE:20250620
END:VEVENT
BEGIN:VEVENT
UID:69ea0a574cccc
DTSTAMP:20260423T120231Z
SUMMARY:KONKURADO: Erweiterung Gemeinschaftszentrum Roos\, Regensdorf\, Ver
 sand Wettbewerbsunterlagen 20.06.2025 - 20.06.2025
DESCRIPTION:Link zum Verfahren: https://konkurado.ch/en/erweiterung-gemeins
 chaftszentrum-roos-regensdorf
X-MICROSOFT-CDO-ALLDAYEVENT:TRUE
DTSTART;TZID=Europe/Zurich;VALUE=DATE:20250620
END:VEVENT
BEGIN:VEVENT
UID:69ea0a574cd48
DTSTAMP:20260423T120231Z
SUMMARY:KONKURADO: Erweiterung Gemeinschaftszentrum Roos\, Regensdorf\, Beg
 ehung\, Bezug Gipsmodell 08.07.2025 - 08.07.2025
DESCRIPTION:Link zum Verfahren: https://konkurado.ch/en/erweiterung-gemeins
 chaftszentrum-roos-regensdorf
X-MICROSOFT-CDO-ALLDAYEVENT:TRUE
DTSTART;TZID=Europe/Zurich;VALUE=DATE:20250708
END:VEVENT
BEGIN:VEVENT
UID:69ea0a574cd85
DTSTAMP:20260423T120231Z
SUMMARY:KONKURADO: Erweiterung Gemeinschaftszentrum Roos\, Regensdorf\, Beg
 ehung\, Bezug Gipsmodell 08.07.2025 - 08.07.2025
DESCRIPTION:Link zum Verfahren: https://konkurado.ch/en/erweiterung-gemeins
 chaftszentrum-roos-regensdorf
X-MICROSOFT-CDO-ALLDAYEVENT:TRUE
DTSTART;TZID=Europe/Zurich;VALUE=DATE:20250708
END:VEVENT
BEGIN:VEVENT
UID:69ea0a574ce0a
DTSTAMP:20260423T120231Z
SUMMARY:KONKURADO: Erweiterung Gemeinschaftszentrum Roos\, Regensdorf\, Bea
 ntwortung Fragen bis 12.07.2025 - 25.07.2025
DESCRIPTION:Link zum Verfahren: https://konkurado.ch/en/erweiterung-gemeins
 chaftszentrum-roos-regensdorf
X-MICROSOFT-CDO-ALLDAYEVENT:TRUE
DTSTART;TZID=Europe/Zurich;VALUE=DATE:20250712
END:VEVENT
BEGIN:VEVENT
UID:69ea0a574ce4b
DTSTAMP:20260423T120231Z
SUMMARY:KONKURADO: Erweiterung Gemeinschaftszentrum Roos\, Regensdorf\, Bea
 ntwortung Fragen bis 12.07.2025 - 25.07.2025
DESCRIPTION:Link zum Verfahren: https://konkurado.ch/en/erweiterung-gemeins
 chaftszentrum-roos-regensdorf
X-MICROSOFT-CDO-ALLDAYEVENT:TRUE
DTSTART;TZID=Europe/Zurich;VALUE=DATE:20250725
END:VEVENT
BEGIN:VEVENT
UID:69ea0a574ced4
DTSTAMP:20260423T120231Z
SUMMARY:KONKURADO: Erweiterung Gemeinschaftszentrum Roos\, Regensdorf\, Sta
 rt Gesamtleistungswettbewerb 2. Stufe 31.10.2025 - 31.10.2025
DESCRIPTION:Link zum Verfahren: https://konkurado.ch/en/erweiterung-gemeins
 chaftszentrum-roos-regensdorf
X-MICROSOFT-CDO-ALLDAYEVENT:TRUE
DTSTART;TZID=Europe/Zurich;VALUE=DATE:20251031
END:VEVENT
BEGIN:VEVENT
UID:69ea0a574cf17
DTSTAMP:20260423T120231Z
SUMMARY:KONKURADO: Erweiterung Gemeinschaftszentrum Roos\, Regensdorf\, Sta
 rt Gesamtleistungswettbewerb 2. Stufe 31.10.2025 - 31.10.2025
DESCRIPTION:Link zum Verfahren: https://konkurado.ch/en/erweiterung-gemeins
 chaftszentrum-roos-regensdorf
X-MICROSOFT-CDO-ALLDAYEVENT:TRUE
DTSTART;TZID=Europe/Zurich;VALUE=DATE:20251031
END:VEVENT
BEGIN:VEVENT
UID:69ea0a574cf9e
DTSTAMP:20260423T120231Z
SUMMARY:KONKURADO: Erweiterung Gemeinschaftszentrum Roos\, Regensdorf\, Ver
 sand Verfügung Teilnehmerwahl 1. Stufe bis 20.06.2025 - 20.06.2025
DESCRIPTION:Link zum Verfahren: https://konkurado.ch/en/erweiterung-gemeins
 chaftszentrum-roos-regensdorf
X-MICROSOFT-CDO-ALLDAYEVENT:TRUE
DTSTART;TZID=Europe/Zurich;VALUE=DATE:20250620
END:VEVENT
BEGIN:VEVENT
UID:69ea0a574cfe1
DTSTAMP:20260423T120231Z
SUMMARY:KONKURADO: Erweiterung Gemeinschaftszentrum Roos\, Regensdorf\, Ver
 sand Verfügung Teilnehmerwahl 1. Stufe bis 20.06.2025 - 20.06.2025
DESCRIPTION:Link zum Verfahren: https://konkurado.ch/en/erweiterung-gemeins
 chaftszentrum-roos-regensdorf
X-MICROSOFT-CDO-ALLDAYEVENT:TRUE
DTSTART;TZID=Europe/Zurich;VALUE=DATE:20250620
END:VEVENT
BEGIN:VEVENT
UID:69ea0a574d064
DTSTAMP:20260423T120231Z
SUMMARY:KONKURADO: Erweiterung Gemeinschaftszentrum Roos\, Regensdorf\, Ver
 sand Verfügung Teilnehmerwahl 2. Stufe 31.10.2025 - 31.10.2025
DESCRIPTION:Link zum Verfahren: https://konkurado.ch/en/erweiterung-gemeins
 chaftszentrum-roos-regensdorf
X-MICROSOFT-CDO-ALLDAYEVENT:TRUE
DTSTART;TZID=Europe/Zurich;VALUE=DATE:20251031
END:VEVENT
BEGIN:VEVENT
UID:69ea0a574d0cc
DTSTAMP:20260423T120231Z
SUMMARY:KONKURADO: Erweiterung Gemeinschaftszentrum Roos\, Regensdorf\, Ver
 sand Verfügung Teilnehmerwahl 2. Stufe 31.10.2025 - 31.10.2025
DESCRIPTION:Link zum Verfahren: https://konkurado.ch/en/erweiterung-gemeins
 chaftszentrum-roos-regensdorf
X-MICROSOFT-CDO-ALLDAYEVENT:TRUE
DTSTART;TZID=Europe/Zurich;VALUE=DATE:20251031
END:VEVENT
BEGIN:VEVENT
UID:69ea0a574d11f
DTSTAMP:20260423T120231Z
SUMMARY:KONKURADO: Erweiterung Gemeinschaftszentrum Roos\, Regensdorf\, Ein
 reichung Fragen bis 31.10.2025 - 14.11.2025
DESCRIPTION:Link zum Verfahren: https://konkurado.ch/en/erweiterung-gemeins
 chaftszentrum-roos-regensdorf
X-MICROSOFT-CDO-ALLDAYEVENT:TRUE
DTSTART;TZID=Europe/Zurich;VALUE=DATE:20251031
END:VEVENT
BEGIN:VEVENT
UID:69ea0a574d15c
DTSTAMP:20260423T120231Z
SUMMARY:KONKURADO: Erweiterung Gemeinschaftszentrum Roos\, Regensdorf\, Ein
 reichung Fragen bis 31.10.2025 - 14.11.2025
DESCRIPTION:Link zum Verfahren: https://konkurado.ch/en/erweiterung-gemeins
 chaftszentrum-roos-regensdorf
X-MICROSOFT-CDO-ALLDAYEVENT:TRUE
DTSTART;TZID=Europe/Zurich;VALUE=DATE:20251114
END:VEVENT
BEGIN:VEVENT
UID:69ea0a574d1fd
DTSTAMP:20260423T120231Z
SUMMARY:KONKURADO: Erweiterung Gemeinschaftszentrum Roos\, Regensdorf\, Bea
 ntwortung Fragen 15.11.2025 - 28.11.2025
DESCRIPTION:Link zum Verfahren: https://konkurado.ch/en/erweiterung-gemeins
 chaftszentrum-roos-regensdorf
X-MICROSOFT-CDO-ALLDAYEVENT:TRUE
DTSTART;TZID=Europe/Zurich;VALUE=DATE:20251115
END:VEVENT
BEGIN:VEVENT
UID:69ea0a574d23b
DTSTAMP:20260423T120231Z
SUMMARY:KONKURADO: Erweiterung Gemeinschaftszentrum Roos\, Regensdorf\, Bea
 ntwortung Fragen 15.11.2025 - 28.11.2025
DESCRIPTION:Link zum Verfahren: https://konkurado.ch/en/erweiterung-gemeins
 chaftszentrum-roos-regensdorf
X-MICROSOFT-CDO-ALLDAYEVENT:TRUE
DTSTART;TZID=Europe/Zurich;VALUE=DATE:20251128
END:VEVENT
BEGIN:VEVENT
UID:69ea0a574d28c
DTSTAMP:20260423T120231Z
SUMMARY:KONKURADO: Erweiterung Gemeinschaftszentrum Roos\, Regensdorf\, Abg
 abe Gesamtleistungsangebot 31.10.2025 - 23.01.2026
DESCRIPTION:Link zum Verfahren: https://konkurado.ch/en/erweiterung-gemeins
 chaftszentrum-roos-regensdorf
X-MICROSOFT-CDO-ALLDAYEVENT:TRUE
DTSTART;TZID=Europe/Zurich;VALUE=DATE:20251031
END:VEVENT
BEGIN:VEVENT
UID:69ea0a574d2c9
DTSTAMP:20260423T120231Z
SUMMARY:KONKURADO: Erweiterung Gemeinschaftszentrum Roos\, Regensdorf\, Abg
 abe Gesamtleistungsangebot 31.10.2025 - 23.01.2026
DESCRIPTION:Link zum Verfahren: https://konkurado.ch/en/erweiterung-gemeins
 chaftszentrum-roos-regensdorf
X-MICROSOFT-CDO-ALLDAYEVENT:TRUE
DTSTART;TZID=Europe/Zurich;VALUE=DATE:20260123
END:VEVENT
BEGIN:VEVENT
UID:69ea0a574d350
DTSTAMP:20260423T120231Z
SUMMARY:KONKURADO: Erweiterung Gemeinschaftszentrum Roos\, Regensdorf\, Abg
 abe Gipsmodell 04.02.2026 - 04.02.2026
DESCRIPTION:Link zum Verfahren: https://konkurado.ch/en/erweiterung-gemeins
 chaftszentrum-roos-regensdorf
X-MICROSOFT-CDO-ALLDAYEVENT:TRUE
DTSTART;TZID=Europe/Zurich;VALUE=DATE:20260204
END:VEVENT
BEGIN:VEVENT
UID:69ea0a574d38e
DTSTAMP:20260423T120231Z
SUMMARY:KONKURADO: Erweiterung Gemeinschaftszentrum Roos\, Regensdorf\, Abg
 abe Gipsmodell 04.02.2026 - 04.02.2026
DESCRIPTION:Link zum Verfahren: https://konkurado.ch/en/erweiterung-gemeins
 chaftszentrum-roos-regensdorf
X-MICROSOFT-CDO-ALLDAYEVENT:TRUE
DTSTART;TZID=Europe/Zurich;VALUE=DATE:20260204
END:VEVENT
BEGIN:VEVENT
UID:69ea0a574d41c
DTSTAMP:20260423T120231Z
SUMMARY:KONKURADO: Erweiterung Gemeinschaftszentrum Roos\, Regensdorf\, Sch
 lusspräsentation 04.02.2026 - 04.02.2026
DESCRIPTION:Link zum Verfahren: https://konkurado.ch/en/erweiterung-gemeins
 chaftszentrum-roos-regensdorf
X-MICROSOFT-CDO-ALLDAYEVENT:TRUE
DTSTART;TZID=Europe/Zurich;VALUE=DATE:20260204
END:VEVENT
BEGIN:VEVENT
UID:69ea0a574d45b
DTSTAMP:20260423T120231Z
SUMMARY:KONKURADO: Erweiterung Gemeinschaftszentrum Roos\, Regensdorf\, Sch
 lusspräsentation 04.02.2026 - 04.02.2026
DESCRIPTION:Link zum Verfahren: https://konkurado.ch/en/erweiterung-gemeins
 chaftszentrum-roos-regensdorf
X-MICROSOFT-CDO-ALLDAYEVENT:TRUE
DTSTART;TZID=Europe/Zurich;VALUE=DATE:20260204
END:VEVENT
BEGIN:VEVENT
UID:69ea0a574d4df
DTSTAMP:20260423T120231Z
SUMMARY:KONKURADO: Erweiterung Gemeinschaftszentrum Roos\, Regensdorf\, Jur
 ierung 2. Stufe 04.02.2026 - 04.02.2026
DESCRIPTION:Link zum Verfahren: https://konkurado.ch/en/erweiterung-gemeins
 chaftszentrum-roos-regensdorf
X-MICROSOFT-CDO-ALLDAYEVENT:TRUE
DTSTART;TZID=Europe/Zurich;VALUE=DATE:20260204
END:VEVENT
BEGIN:VEVENT
UID:69ea0a574d51e
DTSTAMP:20260423T120231Z
SUMMARY:KONKURADO: Erweiterung Gemeinschaftszentrum Roos\, Regensdorf\, Jur
 ierung 2. Stufe 04.02.2026 - 04.02.2026
DESCRIPTION:Link zum Verfahren: https://konkurado.ch/en/erweiterung-gemeins
 chaftszentrum-roos-regensdorf
X-MICROSOFT-CDO-ALLDAYEVENT:TRUE
DTSTART;TZID=Europe/Zurich;VALUE=DATE:20260204
END:VEVENT
BEGIN:VEVENT
UID:69ea0a574d58c
DTSTAMP:20260423T120231Z
SUMMARY:KONKURADO: Erweiterung Gemeinschaftszentrum Roos\, Regensdorf\, Ver
 sand Verfügung Zuschlag bis 13.03.2026 - 13.03.2026
DESCRIPTION:Link zum Verfahren: https://konkurado.ch/en/erweiterung-gemeins
 chaftszentrum-roos-regensdorf
X-MICROSOFT-CDO-ALLDAYEVENT:TRUE
DTSTART;TZID=Europe/Zurich;VALUE=DATE:20260313
END:VEVENT
BEGIN:VEVENT
UID:69ea0a574d5b3
DTSTAMP:20260423T120231Z
SUMMARY:KONKURADO: Erweiterung Gemeinschaftszentrum Roos\, Regensdorf\, Ver
 sand Verfügung Zuschlag bis 13.03.2026 - 13.03.2026
DESCRIPTION:Link zum Verfahren: https://konkurado.ch/en/erweiterung-gemeins
 chaftszentrum-roos-regensdorf
X-MICROSOFT-CDO-ALLDAYEVENT:TRUE
DTSTART;TZID=Europe/Zurich;VALUE=DATE:20260313
END:VEVENT
BEGIN:VEVENT
UID:69ea0a574d605
DTSTAMP:20260423T120231Z
SUMMARY:KONKURADO: Erweiterung Gemeinschaftszentrum Roos\, Regensdorf\, Aus
 stellung 16.03.2026 - 20.03.2026
DESCRIPTION:Link zum Verfahren: https://konkurado.ch/en/erweiterung-gemeins
 chaftszentrum-roos-regensdorf
X-MICROSOFT-CDO-ALLDAYEVENT:TRUE
DTSTART;TZID=Europe/Zurich;VALUE=DATE:20260316
END:VEVENT
BEGIN:VEVENT
UID:69ea0a574d62b
DTSTAMP:20260423T120231Z
SUMMARY:KONKURADO: Erweiterung Gemeinschaftszentrum Roos\, Regensdorf\, Aus
 stellung 16.03.2026 - 20.03.2026
DESCRIPTION:Link zum Verfahren: https://konkurado.ch/en/erweiterung-gemeins
 chaftszentrum-roos-regensdorf
X-MICROSOFT-CDO-ALLDAYEVENT:TRUE
DTSTART;TZID=Europe/Zurich;VALUE=DATE:20260320
END:VEVENT
END:VCALENDAR