BEGIN:VCALENDAR
VERSION:2.0
PRODID:spatie/icalendar-generator
NAME:Ersatzneubau Schürgistrasse 60\, 62
X-WR-CALNAME:Ersatzneubau Schürgistrasse 60\, 62
BEGIN:VTIMEZONE
TZID:Europe/Zurich
BEGIN:STANDARD
DTSTART:20241027T030000
TZOFFSETFROM:+0200
TZOFFSETTO:+0100
END:STANDARD
BEGIN:DAYLIGHT
DTSTART:20250330T010000
TZOFFSETFROM:+0100
TZOFFSETTO:+0200
END:DAYLIGHT
BEGIN:STANDARD
DTSTART:20251026T030000
TZOFFSETFROM:+0200
TZOFFSETTO:+0100
END:STANDARD
BEGIN:DAYLIGHT
DTSTART:20260329T010000
TZOFFSETFROM:+0100
TZOFFSETTO:+0200
END:DAYLIGHT
END:VTIMEZONE
BEGIN:VTIMEZONE
TZID:UTC
BEGIN:STANDARD
DTSTART:20250727T120223
TZOFFSETFROM:+0000
TZOFFSETTO:+0000
END:STANDARD
END:VTIMEZONE
BEGIN:VEVENT
UID:69ea0a4fc085b
DTSTAMP:20260423T120223Z
SUMMARY:KONKURADO: Ersatzneubau Schürgistrasse 60\, 62\, Einreichung Bewer
 bungsunterlagen 04.06.2025 - 04.07.2025
DESCRIPTION:Link zum Verfahren: https://konkurado.ch/en/ersatzneubau-schurg
 istrasse-60-62
X-MICROSOFT-CDO-ALLDAYEVENT:TRUE
DTSTART;TZID=Europe/Zurich;VALUE=DATE:20250604
END:VEVENT
BEGIN:VEVENT
UID:69ea0a4fc08ba
DTSTAMP:20260423T120223Z
SUMMARY:KONKURADO: Ersatzneubau Schürgistrasse 60\, 62\, Einreichung Bewer
 bungsunterlagen 04.06.2025 - 04.07.2025
DESCRIPTION:Link zum Verfahren: https://konkurado.ch/en/ersatzneubau-schurg
 istrasse-60-62
X-MICROSOFT-CDO-ALLDAYEVENT:TRUE
DTSTART;TZID=Europe/Zurich;VALUE=DATE:20250704
END:VEVENT
BEGIN:VEVENT
UID:69ea0a4fc09cf
DTSTAMP:20260423T120223Z
SUMMARY:KONKURADO: Ersatzneubau Schürgistrasse 60\, 62\, Auswahl Projektte
 ams 05.07.2025 - 12.08.2025
DESCRIPTION:Link zum Verfahren: https://konkurado.ch/en/ersatzneubau-schurg
 istrasse-60-62
X-MICROSOFT-CDO-ALLDAYEVENT:TRUE
DTSTART;TZID=Europe/Zurich;VALUE=DATE:20250705
END:VEVENT
BEGIN:VEVENT
UID:69ea0a4fc09fb
DTSTAMP:20260423T120223Z
SUMMARY:KONKURADO: Ersatzneubau Schürgistrasse 60\, 62\, Auswahl Projektte
 ams 05.07.2025 - 12.08.2025
DESCRIPTION:Link zum Verfahren: https://konkurado.ch/en/ersatzneubau-schurg
 istrasse-60-62
X-MICROSOFT-CDO-ALLDAYEVENT:TRUE
DTSTART;TZID=Europe/Zurich;VALUE=DATE:20250812
END:VEVENT
BEGIN:VEVENT
UID:69ea0a4fc0a5a
DTSTAMP:20260423T120223Z
SUMMARY:KONKURADO: Ersatzneubau Schürgistrasse 60\, 62\, Start Projektwett
 bewerb (Abgabe Programm und Modellunterlagen) 08.09.2025 - 08.09.2025
DESCRIPTION:Link zum Verfahren: https://konkurado.ch/en/ersatzneubau-schurg
 istrasse-60-62
X-MICROSOFT-CDO-ALLDAYEVENT:TRUE
DTSTART;TZID=Europe/Zurich;VALUE=DATE:20250908
END:VEVENT
BEGIN:VEVENT
UID:69ea0a4fc0a80
DTSTAMP:20260423T120223Z
SUMMARY:KONKURADO: Ersatzneubau Schürgistrasse 60\, 62\, Start Projektwett
 bewerb (Abgabe Programm und Modellunterlagen) 08.09.2025 - 08.09.2025
DESCRIPTION:Link zum Verfahren: https://konkurado.ch/en/ersatzneubau-schurg
 istrasse-60-62
X-MICROSOFT-CDO-ALLDAYEVENT:TRUE
DTSTART;TZID=Europe/Zurich;VALUE=DATE:20250908
END:VEVENT
BEGIN:VEVENT
UID:69ea0a4fc0ad6
DTSTAMP:20260423T120223Z
SUMMARY:KONKURADO: Ersatzneubau Schürgistrasse 60\, 62\, Besichtigung Grun
 dstück und bestehende Liegenschaft 10.09.2025 - 10.09.2025
DESCRIPTION:Link zum Verfahren: https://konkurado.ch/en/ersatzneubau-schurg
 istrasse-60-62
X-MICROSOFT-CDO-ALLDAYEVENT:TRUE
DTSTART;TZID=Europe/Zurich;VALUE=DATE:20250910
END:VEVENT
BEGIN:VEVENT
UID:69ea0a4fc0afc
DTSTAMP:20260423T120223Z
SUMMARY:KONKURADO: Ersatzneubau Schürgistrasse 60\, 62\, Besichtigung Grun
 dstück und bestehende Liegenschaft 10.09.2025 - 10.09.2025
DESCRIPTION:Link zum Verfahren: https://konkurado.ch/en/ersatzneubau-schurg
 istrasse-60-62
X-MICROSOFT-CDO-ALLDAYEVENT:TRUE
DTSTART;TZID=Europe/Zurich;VALUE=DATE:20250910
END:VEVENT
BEGIN:VEVENT
UID:69ea0a4fc0b2f
DTSTAMP:20260423T120223Z
SUMMARY:KONKURADO: Ersatzneubau Schürgistrasse 60\, 62\, Fragenstellung 08
 .09.2025 - 19.09.2025
DESCRIPTION:Link zum Verfahren: https://konkurado.ch/en/ersatzneubau-schurg
 istrasse-60-62
X-MICROSOFT-CDO-ALLDAYEVENT:TRUE
DTSTART;TZID=Europe/Zurich;VALUE=DATE:20250908
END:VEVENT
BEGIN:VEVENT
UID:69ea0a4fc0be3
DTSTAMP:20260423T120223Z
SUMMARY:KONKURADO: Ersatzneubau Schürgistrasse 60\, 62\, Fragenstellung 08
 .09.2025 - 19.09.2025
DESCRIPTION:Link zum Verfahren: https://konkurado.ch/en/ersatzneubau-schurg
 istrasse-60-62
X-MICROSOFT-CDO-ALLDAYEVENT:TRUE
DTSTART;TZID=Europe/Zurich;VALUE=DATE:20250919
END:VEVENT
BEGIN:VEVENT
UID:69ea0a4fc0c51
DTSTAMP:20260423T120223Z
SUMMARY:KONKURADO: Ersatzneubau Schürgistrasse 60\, 62\, Fragenbeantwortun
 g 20.09.2025 - 03.10.2025
DESCRIPTION:Link zum Verfahren: https://konkurado.ch/en/ersatzneubau-schurg
 istrasse-60-62
X-MICROSOFT-CDO-ALLDAYEVENT:TRUE
DTSTART;TZID=Europe/Zurich;VALUE=DATE:20250920
END:VEVENT
BEGIN:VEVENT
UID:69ea0a4fc0c79
DTSTAMP:20260423T120223Z
SUMMARY:KONKURADO: Ersatzneubau Schürgistrasse 60\, 62\, Fragenbeantwortun
 g 20.09.2025 - 03.10.2025
DESCRIPTION:Link zum Verfahren: https://konkurado.ch/en/ersatzneubau-schurg
 istrasse-60-62
X-MICROSOFT-CDO-ALLDAYEVENT:TRUE
DTSTART;TZID=Europe/Zurich;VALUE=DATE:20251003
END:VEVENT
BEGIN:VEVENT
UID:69ea0a4fc0cac
DTSTAMP:20260423T120223Z
SUMMARY:KONKURADO: Ersatzneubau Schürgistrasse 60\, 62\, Abgabe Projekt 08
 .09.2025 - 14.01.2026
DESCRIPTION:Link zum Verfahren: https://konkurado.ch/en/ersatzneubau-schurg
 istrasse-60-62
X-MICROSOFT-CDO-ALLDAYEVENT:TRUE
DTSTART;TZID=Europe/Zurich;VALUE=DATE:20250908
END:VEVENT
BEGIN:VEVENT
UID:69ea0a4fc0cd8
DTSTAMP:20260423T120223Z
SUMMARY:KONKURADO: Ersatzneubau Schürgistrasse 60\, 62\, Abgabe Projekt 08
 .09.2025 - 14.01.2026
DESCRIPTION:Link zum Verfahren: https://konkurado.ch/en/ersatzneubau-schurg
 istrasse-60-62
X-MICROSOFT-CDO-ALLDAYEVENT:TRUE
DTSTART;TZID=Europe/Zurich;VALUE=DATE:20260114
END:VEVENT
BEGIN:VEVENT
UID:69ea0a4fc0d2d
DTSTAMP:20260423T120223Z
SUMMARY:KONKURADO: Ersatzneubau Schürgistrasse 60\, 62\, Abgabe Modell 08.
 09.2025 - 28.01.2026
DESCRIPTION:Link zum Verfahren: https://konkurado.ch/en/ersatzneubau-schurg
 istrasse-60-62
X-MICROSOFT-CDO-ALLDAYEVENT:TRUE
DTSTART;TZID=Europe/Zurich;VALUE=DATE:20250908
END:VEVENT
BEGIN:VEVENT
UID:69ea0a4fc0d55
DTSTAMP:20260423T120223Z
SUMMARY:KONKURADO: Ersatzneubau Schürgistrasse 60\, 62\, Abgabe Modell 08.
 09.2025 - 28.01.2026
DESCRIPTION:Link zum Verfahren: https://konkurado.ch/en/ersatzneubau-schurg
 istrasse-60-62
X-MICROSOFT-CDO-ALLDAYEVENT:TRUE
DTSTART;TZID=Europe/Zurich;VALUE=DATE:20260128
END:VEVENT
END:VCALENDAR