BEGIN:VCALENDAR
VERSION:2.0
PRODID:spatie/icalendar-generator
NAME:Ersatzneubau Brücke Ried
X-WR-CALNAME:Ersatzneubau Brücke Ried
BEGIN:VTIMEZONE
TZID:Europe/Zurich
BEGIN:STANDARD
DTSTART:20251026T030000
TZOFFSETFROM:+0200
TZOFFSETTO:+0100
END:STANDARD
BEGIN:DAYLIGHT
DTSTART:20260329T010000
TZOFFSETFROM:+0100
TZOFFSETTO:+0200
END:DAYLIGHT
BEGIN:STANDARD
DTSTART:20261025T030000
TZOFFSETFROM:+0200
TZOFFSETTO:+0100
END:STANDARD
END:VTIMEZONE
BEGIN:VTIMEZONE
TZID:UTC
BEGIN:STANDARD
DTSTART:20250727T101635
TZOFFSETFROM:+0000
TZOFFSETTO:+0000
END:STANDARD
END:VTIMEZONE
BEGIN:VEVENT
UID:69e9f1837be4a
DTSTAMP:20260423T101635Z
SUMMARY:KONKURADO: Ersatzneubau Brücke Ried\, Einreichung von Fragen bis 1
 6.04.2026 - 16.04.2026
DESCRIPTION:Link zum Verfahren: https://konkurado.ch/en/ersatzneubau-brucke
 -ried
X-MICROSOFT-CDO-ALLDAYEVENT:TRUE
DTSTART;TZID=Europe/Zurich;VALUE=DATE:20260416
END:VEVENT
BEGIN:VEVENT
UID:69e9f1837bec5
DTSTAMP:20260423T101635Z
SUMMARY:KONKURADO: Ersatzneubau Brücke Ried\, Einreichung von Fragen bis 1
 6.04.2026 - 16.04.2026
DESCRIPTION:Link zum Verfahren: https://konkurado.ch/en/ersatzneubau-brucke
 -ried
X-MICROSOFT-CDO-ALLDAYEVENT:TRUE
DTSTART;TZID=Europe/Zurich;VALUE=DATE:20260416
END:VEVENT
BEGIN:VEVENT
UID:69e9f1837bf35
DTSTAMP:20260423T101635Z
SUMMARY:KONKURADO: Ersatzneubau Brücke Ried\, Einreichung von Angeboten bi
 s 07.05.2026 - 07.05.2026
DESCRIPTION:Link zum Verfahren: https://konkurado.ch/en/ersatzneubau-brucke
 -ried
X-MICROSOFT-CDO-ALLDAYEVENT:TRUE
DTSTART;TZID=Europe/Zurich;VALUE=DATE:20260507
END:VEVENT
BEGIN:VEVENT
UID:69e9f1837bf5c
DTSTAMP:20260423T101635Z
SUMMARY:KONKURADO: Ersatzneubau Brücke Ried\, Einreichung von Angeboten bi
 s 07.05.2026 - 07.05.2026
DESCRIPTION:Link zum Verfahren: https://konkurado.ch/en/ersatzneubau-brucke
 -ried
X-MICROSOFT-CDO-ALLDAYEVENT:TRUE
DTSTART;TZID=Europe/Zurich;VALUE=DATE:20260507
END:VEVENT
BEGIN:VEVENT
UID:69e9f1837bfb5
DTSTAMP:20260423T101635Z
SUMMARY:KONKURADO: Ersatzneubau Brücke Ried\, Verfügbarkeit der Ausschrei
 bungsunterlagen 09.04.2026 - 24.04.2026
DESCRIPTION:Link zum Verfahren: https://konkurado.ch/en/ersatzneubau-brucke
 -ried
X-MICROSOFT-CDO-ALLDAYEVENT:TRUE
DTSTART;TZID=Europe/Zurich;VALUE=DATE:20260409
END:VEVENT
BEGIN:VEVENT
UID:69e9f1837bfdb
DTSTAMP:20260423T101635Z
SUMMARY:KONKURADO: Ersatzneubau Brücke Ried\, Verfügbarkeit der Ausschrei
 bungsunterlagen 09.04.2026 - 24.04.2026
DESCRIPTION:Link zum Verfahren: https://konkurado.ch/en/ersatzneubau-brucke
 -ried
X-MICROSOFT-CDO-ALLDAYEVENT:TRUE
DTSTART;TZID=Europe/Zurich;VALUE=DATE:20260424
END:VEVENT
END:VCALENDAR