BEGIN:VCALENDAR
VERSION:2.0
PRODID:spatie/icalendar-generator
NAME:Erneuerung und Erweiterung Volksschule Höhe\, Bern
X-WR-CALNAME:Erneuerung und Erweiterung Volksschule Höhe\, Bern
BEGIN:VTIMEZONE
TZID:Europe/Zurich
BEGIN:STANDARD
DTSTART:20251026T030000
TZOFFSETFROM:+0200
TZOFFSETTO:+0100
END:STANDARD
BEGIN:DAYLIGHT
DTSTART:20260329T010000
TZOFFSETFROM:+0100
TZOFFSETTO:+0200
END:DAYLIGHT
BEGIN:STANDARD
DTSTART:20261025T030000
TZOFFSETFROM:+0200
TZOFFSETTO:+0100
END:STANDARD
END:VTIMEZONE
BEGIN:VTIMEZONE
TZID:UTC
BEGIN:STANDARD
DTSTART:20250727T101711
TZOFFSETFROM:+0000
TZOFFSETTO:+0000
END:STANDARD
END:VTIMEZONE
BEGIN:VEVENT
UID:69e9f1a7e5da9
DTSTAMP:20260423T101711Z
SUMMARY:KONKURADO: Erneuerung und Erweiterung Volksschule Höhe\, Bern\, Ei
 nreichung von Fragen bis 27.04.2026 - 27.04.2026
DESCRIPTION:Link zum Verfahren: https://konkurado.ch/en/erneuerung-und-erwe
 iterung-volksschule-h%C3%B6he-bern
X-MICROSOFT-CDO-ALLDAYEVENT:TRUE
DTSTART;TZID=Europe/Zurich;VALUE=DATE:20260427
END:VEVENT
BEGIN:VEVENT
UID:69e9f1a7e5e25
DTSTAMP:20260423T101711Z
SUMMARY:KONKURADO: Erneuerung und Erweiterung Volksschule Höhe\, Bern\, Ei
 nreichung von Fragen bis 27.04.2026 - 27.04.2026
DESCRIPTION:Link zum Verfahren: https://konkurado.ch/en/erneuerung-und-erwe
 iterung-volksschule-h%C3%B6he-bern
X-MICROSOFT-CDO-ALLDAYEVENT:TRUE
DTSTART;TZID=Europe/Zurich;VALUE=DATE:20260427
END:VEVENT
BEGIN:VEVENT
UID:69e9f1a7e5e94
DTSTAMP:20260423T101711Z
SUMMARY:KONKURADO: Erneuerung und Erweiterung Volksschule Höhe\, Bern\, Ei
 nreichung des Projektbeitrags bis 16.07.2026 - 16.07.2026
DESCRIPTION:Link zum Verfahren: https://konkurado.ch/en/erneuerung-und-erwe
 iterung-volksschule-h%C3%B6he-bern
X-MICROSOFT-CDO-ALLDAYEVENT:TRUE
DTSTART;TZID=Europe/Zurich;VALUE=DATE:20260716
END:VEVENT
BEGIN:VEVENT
UID:69e9f1a7e5ebc
DTSTAMP:20260423T101711Z
SUMMARY:KONKURADO: Erneuerung und Erweiterung Volksschule Höhe\, Bern\, Ei
 nreichung des Projektbeitrags bis 16.07.2026 - 16.07.2026
DESCRIPTION:Link zum Verfahren: https://konkurado.ch/en/erneuerung-und-erwe
 iterung-volksschule-h%C3%B6he-bern
X-MICROSOFT-CDO-ALLDAYEVENT:TRUE
DTSTART;TZID=Europe/Zurich;VALUE=DATE:20260716
END:VEVENT
BEGIN:VEVENT
UID:69e9f1a7e5f13
DTSTAMP:20260423T101711Z
SUMMARY:KONKURADO: Erneuerung und Erweiterung Volksschule Höhe\, Bern\, Ve
 rfügbarkeit der Ausschreibungsunterlagen 01.04.2026 - 16.07.2026
DESCRIPTION:Link zum Verfahren: https://konkurado.ch/en/erneuerung-und-erwe
 iterung-volksschule-h%C3%B6he-bern
X-MICROSOFT-CDO-ALLDAYEVENT:TRUE
DTSTART;TZID=Europe/Zurich;VALUE=DATE:20260401
END:VEVENT
BEGIN:VEVENT
UID:69e9f1a7e5f38
DTSTAMP:20260423T101711Z
SUMMARY:KONKURADO: Erneuerung und Erweiterung Volksschule Höhe\, Bern\, Ve
 rfügbarkeit der Ausschreibungsunterlagen 01.04.2026 - 16.07.2026
DESCRIPTION:Link zum Verfahren: https://konkurado.ch/en/erneuerung-und-erwe
 iterung-volksschule-h%C3%B6he-bern
X-MICROSOFT-CDO-ALLDAYEVENT:TRUE
DTSTART;TZID=Europe/Zurich;VALUE=DATE:20260716
END:VEVENT
BEGIN:VEVENT
UID:69e9f1a7e5f8b
DTSTAMP:20260423T101711Z
SUMMARY:KONKURADO: Erneuerung und Erweiterung Volksschule Höhe\, Bern\, Ab
 gabe der Modelle 13.08.2026 - 13.08.2026
DESCRIPTION:Link zum Verfahren: https://konkurado.ch/en/erneuerung-und-erwe
 iterung-volksschule-h%C3%B6he-bern
X-MICROSOFT-CDO-ALLDAYEVENT:TRUE
DTSTART;TZID=Europe/Zurich;VALUE=DATE:20260813
END:VEVENT
BEGIN:VEVENT
UID:69e9f1a7e5fb3
DTSTAMP:20260423T101711Z
SUMMARY:KONKURADO: Erneuerung und Erweiterung Volksschule Höhe\, Bern\, Ab
 gabe der Modelle 13.08.2026 - 13.08.2026
DESCRIPTION:Link zum Verfahren: https://konkurado.ch/en/erneuerung-und-erwe
 iterung-volksschule-h%C3%B6he-bern
X-MICROSOFT-CDO-ALLDAYEVENT:TRUE
DTSTART;TZID=Europe/Zurich;VALUE=DATE:20260813
END:VEVENT
END:VCALENDAR