BEGIN:VCALENDAR
VERSION:2.0
PRODID:spatie/icalendar-generator
NAME:Erneuerung Siedlung Wibich
X-WR-CALNAME:Erneuerung Siedlung Wibich
BEGIN:VTIMEZONE
TZID:Europe/Zurich
BEGIN:STANDARD
DTSTART:20231029T030000
TZOFFSETFROM:+0200
TZOFFSETTO:+0100
END:STANDARD
BEGIN:DAYLIGHT
DTSTART:20240331T010000
TZOFFSETFROM:+0100
TZOFFSETTO:+0200
END:DAYLIGHT
BEGIN:STANDARD
DTSTART:20241027T030000
TZOFFSETFROM:+0200
TZOFFSETTO:+0100
END:STANDARD
BEGIN:DAYLIGHT
DTSTART:20250330T010000
TZOFFSETFROM:+0100
TZOFFSETTO:+0200
END:DAYLIGHT
BEGIN:STANDARD
DTSTART:20251026T030000
TZOFFSETFROM:+0200
TZOFFSETTO:+0100
END:STANDARD
BEGIN:DAYLIGHT
DTSTART:20260329T010000
TZOFFSETFROM:+0100
TZOFFSETTO:+0200
END:DAYLIGHT
END:VTIMEZONE
BEGIN:VTIMEZONE
TZID:UTC
BEGIN:STANDARD
DTSTART:20250727T120035
TZOFFSETFROM:+0000
TZOFFSETTO:+0000
END:STANDARD
END:VTIMEZONE
BEGIN:VEVENT
UID:69ea09e342907
DTSTAMP:20260423T120035Z
SUMMARY:KONKURADO: Erneuerung Siedlung Wibich\, Anmeldung bis 17.06.2024 - 
 31.10.2024
DESCRIPTION:Link zum Verfahren: https://konkurado.ch/en/erneuerung-siedlung
 -wibich
X-MICROSOFT-CDO-ALLDAYEVENT:TRUE
DTSTART;TZID=Europe/Zurich;VALUE=DATE:20240617
END:VEVENT
BEGIN:VEVENT
UID:69ea09e342998
DTSTAMP:20260423T120035Z
SUMMARY:KONKURADO: Erneuerung Siedlung Wibich\, Anmeldung bis 17.06.2024 - 
 31.10.2024
DESCRIPTION:Link zum Verfahren: https://konkurado.ch/en/erneuerung-siedlung
 -wibich
X-MICROSOFT-CDO-ALLDAYEVENT:TRUE
DTSTART;TZID=Europe/Zurich;VALUE=DATE:20241031
END:VEVENT
BEGIN:VEVENT
UID:69ea09e342b24
DTSTAMP:20260423T120035Z
SUMMARY:KONKURADO: Erneuerung Siedlung Wibich\, Wettbewerbsausgabe 17.06.20
 24 - 31.10.2024
DESCRIPTION:Link zum Verfahren: https://konkurado.ch/en/erneuerung-siedlung
 -wibich
X-MICROSOFT-CDO-ALLDAYEVENT:TRUE
DTSTART;TZID=Europe/Zurich;VALUE=DATE:20240617
END:VEVENT
BEGIN:VEVENT
UID:69ea09e342b55
DTSTAMP:20260423T120035Z
SUMMARY:KONKURADO: Erneuerung Siedlung Wibich\, Wettbewerbsausgabe 17.06.20
 24 - 31.10.2024
DESCRIPTION:Link zum Verfahren: https://konkurado.ch/en/erneuerung-siedlung
 -wibich
X-MICROSOFT-CDO-ALLDAYEVENT:TRUE
DTSTART;TZID=Europe/Zurich;VALUE=DATE:20241031
END:VEVENT
BEGIN:VEVENT
UID:69ea09e342b99
DTSTAMP:20260423T120035Z
SUMMARY:KONKURADO: Erneuerung Siedlung Wibich\, Fragenstellung bis 17.06.20
 24 - 05.07.2024
DESCRIPTION:Link zum Verfahren: https://konkurado.ch/en/erneuerung-siedlung
 -wibich
X-MICROSOFT-CDO-ALLDAYEVENT:TRUE
DTSTART;TZID=Europe/Zurich;VALUE=DATE:20240617
END:VEVENT
BEGIN:VEVENT
UID:69ea09e342bd1
DTSTAMP:20260423T120035Z
SUMMARY:KONKURADO: Erneuerung Siedlung Wibich\, Fragenstellung bis 17.06.20
 24 - 05.07.2024
DESCRIPTION:Link zum Verfahren: https://konkurado.ch/en/erneuerung-siedlung
 -wibich
X-MICROSOFT-CDO-ALLDAYEVENT:TRUE
DTSTART;TZID=Europe/Zurich;VALUE=DATE:20240705
END:VEVENT
BEGIN:VEVENT
UID:69ea09e342c1b
DTSTAMP:20260423T120035Z
SUMMARY:KONKURADO: Erneuerung Siedlung Wibich\, Abgabe Unterlagen 17.06.202
 4 - 31.10.2024
DESCRIPTION:Link zum Verfahren: https://konkurado.ch/en/erneuerung-siedlung
 -wibich
X-MICROSOFT-CDO-ALLDAYEVENT:TRUE
DTSTART;TZID=Europe/Zurich;VALUE=DATE:20240617
END:VEVENT
BEGIN:VEVENT
UID:69ea09e342c45
DTSTAMP:20260423T120035Z
SUMMARY:KONKURADO: Erneuerung Siedlung Wibich\, Abgabe Unterlagen 17.06.202
 4 - 31.10.2024
DESCRIPTION:Link zum Verfahren: https://konkurado.ch/en/erneuerung-siedlung
 -wibich
X-MICROSOFT-CDO-ALLDAYEVENT:TRUE
DTSTART;TZID=Europe/Zurich;VALUE=DATE:20241031
END:VEVENT
BEGIN:VEVENT
UID:69ea09e342c8b
DTSTAMP:20260423T120035Z
SUMMARY:KONKURADO: Erneuerung Siedlung Wibich\, Jurierung 12.12.2024 - 13.1
 2.2024
DESCRIPTION:Link zum Verfahren: https://konkurado.ch/en/erneuerung-siedlung
 -wibich
X-MICROSOFT-CDO-ALLDAYEVENT:TRUE
DTSTART;TZID=Europe/Zurich;VALUE=DATE:20241212
END:VEVENT
BEGIN:VEVENT
UID:69ea09e342cb4
DTSTAMP:20260423T120035Z
SUMMARY:KONKURADO: Erneuerung Siedlung Wibich\, Jurierung 12.12.2024 - 13.1
 2.2024
DESCRIPTION:Link zum Verfahren: https://konkurado.ch/en/erneuerung-siedlung
 -wibich
X-MICROSOFT-CDO-ALLDAYEVENT:TRUE
DTSTART;TZID=Europe/Zurich;VALUE=DATE:20241213
END:VEVENT
BEGIN:VEVENT
UID:69ea09e342d2a
DTSTAMP:20260423T120035Z
SUMMARY:KONKURADO: Erneuerung Siedlung Wibich\, Ausgabe Modell ab 18.07.202
 4 - 28.11.2024
DESCRIPTION:Link zum Verfahren: https://konkurado.ch/en/erneuerung-siedlung
 -wibich
X-MICROSOFT-CDO-ALLDAYEVENT:TRUE
DTSTART;TZID=Europe/Zurich;VALUE=DATE:20240718
END:VEVENT
BEGIN:VEVENT
UID:69ea09e342d55
DTSTAMP:20260423T120035Z
SUMMARY:KONKURADO: Erneuerung Siedlung Wibich\, Ausgabe Modell ab 18.07.202
 4 - 28.11.2024
DESCRIPTION:Link zum Verfahren: https://konkurado.ch/en/erneuerung-siedlung
 -wibich
X-MICROSOFT-CDO-ALLDAYEVENT:TRUE
DTSTART;TZID=Europe/Zurich;VALUE=DATE:20241128
END:VEVENT
BEGIN:VEVENT
UID:69ea09e342db6
DTSTAMP:20260423T120035Z
SUMMARY:KONKURADO: Erneuerung Siedlung Wibich\, Abgabe Modell 18.07.2024 - 
 28.11.2024
DESCRIPTION:Link zum Verfahren: https://konkurado.ch/en/erneuerung-siedlung
 -wibich
X-MICROSOFT-CDO-ALLDAYEVENT:TRUE
DTSTART;TZID=Europe/Zurich;VALUE=DATE:20240718
END:VEVENT
BEGIN:VEVENT
UID:69ea09e342de2
DTSTAMP:20260423T120035Z
SUMMARY:KONKURADO: Erneuerung Siedlung Wibich\, Abgabe Modell 18.07.2024 - 
 28.11.2024
DESCRIPTION:Link zum Verfahren: https://konkurado.ch/en/erneuerung-siedlung
 -wibich
X-MICROSOFT-CDO-ALLDAYEVENT:TRUE
DTSTART;TZID=Europe/Zurich;VALUE=DATE:20241128
END:VEVENT
BEGIN:VEVENT
UID:69ea09e342e1d
DTSTAMP:20260423T120035Z
SUMMARY:KONKURADO: Erneuerung Siedlung Wibich\, Administrativer Anmeldeterm
 in auf Konkurado bis 17.06.2024 - 05.07.2024
DESCRIPTION:Link zum Verfahren: https://konkurado.ch/en/erneuerung-siedlung
 -wibich
X-MICROSOFT-CDO-ALLDAYEVENT:TRUE
DTSTART;TZID=Europe/Zurich;VALUE=DATE:20240617
END:VEVENT
BEGIN:VEVENT
UID:69ea09e342e44
DTSTAMP:20260423T120035Z
SUMMARY:KONKURADO: Erneuerung Siedlung Wibich\, Administrativer Anmeldeterm
 in auf Konkurado bis 17.06.2024 - 05.07.2024
DESCRIPTION:Link zum Verfahren: https://konkurado.ch/en/erneuerung-siedlung
 -wibich
X-MICROSOFT-CDO-ALLDAYEVENT:TRUE
DTSTART;TZID=Europe/Zurich;VALUE=DATE:20240705
END:VEVENT
BEGIN:VEVENT
UID:69ea09e342ea5
DTSTAMP:20260423T120035Z
SUMMARY:KONKURADO: Erneuerung Siedlung Wibich\, Fragenbeantwortung bis 06.0
 7.2024 - 19.07.2024
DESCRIPTION:Link zum Verfahren: https://konkurado.ch/en/erneuerung-siedlung
 -wibich
X-MICROSOFT-CDO-ALLDAYEVENT:TRUE
DTSTART;TZID=Europe/Zurich;VALUE=DATE:20240706
END:VEVENT
BEGIN:VEVENT
UID:69ea09e342ed0
DTSTAMP:20260423T120035Z
SUMMARY:KONKURADO: Erneuerung Siedlung Wibich\, Fragenbeantwortung bis 06.0
 7.2024 - 19.07.2024
DESCRIPTION:Link zum Verfahren: https://konkurado.ch/en/erneuerung-siedlung
 -wibich
X-MICROSOFT-CDO-ALLDAYEVENT:TRUE
DTSTART;TZID=Europe/Zurich;VALUE=DATE:20240719
END:VEVENT
BEGIN:VEVENT
UID:69ea09e342f2e
DTSTAMP:20260423T120035Z
SUMMARY:KONKURADO: Erneuerung Siedlung Wibich\, Wettbewerbsausgabe 2. Stufe
  27.02.2025 - 27.02.2025
DESCRIPTION:Link zum Verfahren: https://konkurado.ch/en/erneuerung-siedlung
 -wibich
X-MICROSOFT-CDO-ALLDAYEVENT:TRUE
DTSTART;TZID=Europe/Zurich;VALUE=DATE:20250227
END:VEVENT
BEGIN:VEVENT
UID:69ea09e342f56
DTSTAMP:20260423T120035Z
SUMMARY:KONKURADO: Erneuerung Siedlung Wibich\, Wettbewerbsausgabe 2. Stufe
  27.02.2025 - 27.02.2025
DESCRIPTION:Link zum Verfahren: https://konkurado.ch/en/erneuerung-siedlung
 -wibich
X-MICROSOFT-CDO-ALLDAYEVENT:TRUE
DTSTART;TZID=Europe/Zurich;VALUE=DATE:20250227
END:VEVENT
BEGIN:VEVENT
UID:69ea09e342fb3
DTSTAMP:20260423T120035Z
SUMMARY:KONKURADO: Erneuerung Siedlung Wibich\, Teilnahmebestätigung bis 2
 7.02.2025 - 10.03.2025
DESCRIPTION:Link zum Verfahren: https://konkurado.ch/en/erneuerung-siedlung
 -wibich
X-MICROSOFT-CDO-ALLDAYEVENT:TRUE
DTSTART;TZID=Europe/Zurich;VALUE=DATE:20250227
END:VEVENT
BEGIN:VEVENT
UID:69ea09e342fe4
DTSTAMP:20260423T120035Z
SUMMARY:KONKURADO: Erneuerung Siedlung Wibich\, Teilnahmebestätigung bis 2
 7.02.2025 - 10.03.2025
DESCRIPTION:Link zum Verfahren: https://konkurado.ch/en/erneuerung-siedlung
 -wibich
X-MICROSOFT-CDO-ALLDAYEVENT:TRUE
DTSTART;TZID=Europe/Zurich;VALUE=DATE:20250310
END:VEVENT
BEGIN:VEVENT
UID:69ea09e34301c
DTSTAMP:20260423T120035Z
SUMMARY:KONKURADO: Erneuerung Siedlung Wibich\, Allgemeine Fragenstellung b
 is 27.02.2025 - 10.03.2025
DESCRIPTION:Link zum Verfahren: https://konkurado.ch/en/erneuerung-siedlung
 -wibich
X-MICROSOFT-CDO-ALLDAYEVENT:TRUE
DTSTART;TZID=Europe/Zurich;VALUE=DATE:20250227
END:VEVENT
BEGIN:VEVENT
UID:69ea09e343049
DTSTAMP:20260423T120035Z
SUMMARY:KONKURADO: Erneuerung Siedlung Wibich\, Allgemeine Fragenstellung b
 is 27.02.2025 - 10.03.2025
DESCRIPTION:Link zum Verfahren: https://konkurado.ch/en/erneuerung-siedlung
 -wibich
X-MICROSOFT-CDO-ALLDAYEVENT:TRUE
DTSTART;TZID=Europe/Zurich;VALUE=DATE:20250310
END:VEVENT
BEGIN:VEVENT
UID:69ea09e34307d
DTSTAMP:20260423T120035Z
SUMMARY:KONKURADO: Erneuerung Siedlung Wibich\, Projektspezifische Fragenst
 ellung bis 27.02.2025 - 10.03.2025
DESCRIPTION:Link zum Verfahren: https://konkurado.ch/en/erneuerung-siedlung
 -wibich
X-MICROSOFT-CDO-ALLDAYEVENT:TRUE
DTSTART;TZID=Europe/Zurich;VALUE=DATE:20250227
END:VEVENT
BEGIN:VEVENT
UID:69ea09e3430a7
DTSTAMP:20260423T120035Z
SUMMARY:KONKURADO: Erneuerung Siedlung Wibich\, Projektspezifische Fragenst
 ellung bis 27.02.2025 - 10.03.2025
DESCRIPTION:Link zum Verfahren: https://konkurado.ch/en/erneuerung-siedlung
 -wibich
X-MICROSOFT-CDO-ALLDAYEVENT:TRUE
DTSTART;TZID=Europe/Zurich;VALUE=DATE:20250310
END:VEVENT
BEGIN:VEVENT
UID:69ea09e343104
DTSTAMP:20260423T120035Z
SUMMARY:KONKURADO: Erneuerung Siedlung Wibich\, Fragenbeantwortung 25.03.20
 25 - 28.05.2025
DESCRIPTION:Link zum Verfahren: https://konkurado.ch/en/erneuerung-siedlung
 -wibich
X-MICROSOFT-CDO-ALLDAYEVENT:TRUE
DTSTART;TZID=Europe/Zurich;VALUE=DATE:20250325
END:VEVENT
BEGIN:VEVENT
UID:69ea09e343131
DTSTAMP:20260423T120035Z
SUMMARY:KONKURADO: Erneuerung Siedlung Wibich\, Fragenbeantwortung 25.03.20
 25 - 28.05.2025
DESCRIPTION:Link zum Verfahren: https://konkurado.ch/en/erneuerung-siedlung
 -wibich
X-MICROSOFT-CDO-ALLDAYEVENT:TRUE
DTSTART;TZID=Europe/Zurich;VALUE=DATE:20250528
END:VEVENT
BEGIN:VEVENT
UID:69ea09e343169
DTSTAMP:20260423T120035Z
SUMMARY:KONKURADO: Erneuerung Siedlung Wibich\, Abgabe Unterlagen bis 27.02
 .2025 - 06.06.2025
DESCRIPTION:Link zum Verfahren: https://konkurado.ch/en/erneuerung-siedlung
 -wibich
X-MICROSOFT-CDO-ALLDAYEVENT:TRUE
DTSTART;TZID=Europe/Zurich;VALUE=DATE:20250227
END:VEVENT
BEGIN:VEVENT
UID:69ea09e34319a
DTSTAMP:20260423T120035Z
SUMMARY:KONKURADO: Erneuerung Siedlung Wibich\, Abgabe Unterlagen bis 27.02
 .2025 - 06.06.2025
DESCRIPTION:Link zum Verfahren: https://konkurado.ch/en/erneuerung-siedlung
 -wibich
X-MICROSOFT-CDO-ALLDAYEVENT:TRUE
DTSTART;TZID=Europe/Zurich;VALUE=DATE:20250606
END:VEVENT
BEGIN:VEVENT
UID:69ea09e3431fb
DTSTAMP:20260423T120035Z
SUMMARY:KONKURADO: Erneuerung Siedlung Wibich\, Abgabe Modell bis 27.02.202
 5 - 26.06.2025
DESCRIPTION:Link zum Verfahren: https://konkurado.ch/en/erneuerung-siedlung
 -wibich
X-MICROSOFT-CDO-ALLDAYEVENT:TRUE
DTSTART;TZID=Europe/Zurich;VALUE=DATE:20250227
END:VEVENT
BEGIN:VEVENT
UID:69ea09e343222
DTSTAMP:20260423T120035Z
SUMMARY:KONKURADO: Erneuerung Siedlung Wibich\, Abgabe Modell bis 27.02.202
 5 - 26.06.2025
DESCRIPTION:Link zum Verfahren: https://konkurado.ch/en/erneuerung-siedlung
 -wibich
X-MICROSOFT-CDO-ALLDAYEVENT:TRUE
DTSTART;TZID=Europe/Zurich;VALUE=DATE:20250626
END:VEVENT
BEGIN:VEVENT
UID:69ea09e343275
DTSTAMP:20260423T120035Z
SUMMARY:KONKURADO: Erneuerung Siedlung Wibich\, Information Entscheid 25.07
 .2025 - 30.09.2025
DESCRIPTION:Link zum Verfahren: https://konkurado.ch/en/erneuerung-siedlung
 -wibich
X-MICROSOFT-CDO-ALLDAYEVENT:TRUE
DTSTART;TZID=Europe/Zurich;VALUE=DATE:20250725
END:VEVENT
BEGIN:VEVENT
UID:69ea09e34329e
DTSTAMP:20260423T120035Z
SUMMARY:KONKURADO: Erneuerung Siedlung Wibich\, Information Entscheid 25.07
 .2025 - 30.09.2025
DESCRIPTION:Link zum Verfahren: https://konkurado.ch/en/erneuerung-siedlung
 -wibich
X-MICROSOFT-CDO-ALLDAYEVENT:TRUE
DTSTART;TZID=Europe/Zurich;VALUE=DATE:20250930
END:VEVENT
BEGIN:VEVENT
UID:69ea09e3432fa
DTSTAMP:20260423T120035Z
SUMMARY:KONKURADO: Erneuerung Siedlung Wibich\, Veröffentlichung des Juryb
 erichtes und die Wettbewerbsausstellung 02.10.2025 bis 04.10.2025 23.09.20
 25 - 04.10.2025
DESCRIPTION:Link zum Verfahren: https://konkurado.ch/en/erneuerung-siedlung
 -wibich
X-MICROSOFT-CDO-ALLDAYEVENT:TRUE
DTSTART;TZID=Europe/Zurich;VALUE=DATE:20250923
END:VEVENT
BEGIN:VEVENT
UID:69ea09e343332
DTSTAMP:20260423T120035Z
SUMMARY:KONKURADO: Erneuerung Siedlung Wibich\, Veröffentlichung des Juryb
 erichtes und die Wettbewerbsausstellung 02.10.2025 bis 04.10.2025 23.09.20
 25 - 04.10.2025
DESCRIPTION:Link zum Verfahren: https://konkurado.ch/en/erneuerung-siedlung
 -wibich
X-MICROSOFT-CDO-ALLDAYEVENT:TRUE
DTSTART;TZID=Europe/Zurich;VALUE=DATE:20251004
END:VEVENT
END:VCALENDAR