BEGIN:VCALENDAR
VERSION:2.0
PRODID:spatie/icalendar-generator
NAME:Erneuerung Schulanlage Dorf\, Dübendorf
X-WR-CALNAME:Erneuerung Schulanlage Dorf\, Dübendorf
BEGIN:VTIMEZONE
TZID:Europe/Zurich
BEGIN:STANDARD
DTSTART:20241027T030000
TZOFFSETFROM:+0200
TZOFFSETTO:+0100
END:STANDARD
BEGIN:DAYLIGHT
DTSTART:20250330T010000
TZOFFSETFROM:+0100
TZOFFSETTO:+0200
END:DAYLIGHT
BEGIN:STANDARD
DTSTART:20251026T030000
TZOFFSETFROM:+0200
TZOFFSETTO:+0100
END:STANDARD
BEGIN:DAYLIGHT
DTSTART:20260329T010000
TZOFFSETFROM:+0100
TZOFFSETTO:+0200
END:DAYLIGHT
END:VTIMEZONE
BEGIN:VTIMEZONE
TZID:UTC
BEGIN:STANDARD
DTSTART:20250727T120149
TZOFFSETFROM:+0000
TZOFFSETTO:+0000
END:STANDARD
END:VTIMEZONE
BEGIN:VEVENT
UID:69ea0a2df1244
DTSTAMP:20260423T120149Z
SUMMARY:KONKURADO: Erneuerung Schulanlage Dorf\, Dübendorf\, Eingabe Bewer
 bung 20.06.2025 - 07.08.2025
DESCRIPTION:Link zum Verfahren: https://konkurado.ch/en/erneuerung-schulanl
 age-dorf-dubendorf
X-MICROSOFT-CDO-ALLDAYEVENT:TRUE
DTSTART;TZID=Europe/Zurich;VALUE=DATE:20250620
END:VEVENT
BEGIN:VEVENT
UID:69ea0a2df139b
DTSTAMP:20260423T120149Z
SUMMARY:KONKURADO: Erneuerung Schulanlage Dorf\, Dübendorf\, Eingabe Bewer
 bung 20.06.2025 - 07.08.2025
DESCRIPTION:Link zum Verfahren: https://konkurado.ch/en/erneuerung-schulanl
 age-dorf-dubendorf
X-MICROSOFT-CDO-ALLDAYEVENT:TRUE
DTSTART;TZID=Europe/Zurich;VALUE=DATE:20250807
END:VEVENT
BEGIN:VEVENT
UID:69ea0a2df1559
DTSTAMP:20260423T120149Z
SUMMARY:KONKURADO: Erneuerung Schulanlage Dorf\, Dübendorf\, Start 2. Phas
 e / obligatorische Begehung 17.09.2025 - 17.09.2025
DESCRIPTION:Link zum Verfahren: https://konkurado.ch/en/erneuerung-schulanl
 age-dorf-dubendorf
X-MICROSOFT-CDO-ALLDAYEVENT:TRUE
DTSTART;TZID=Europe/Zurich;VALUE=DATE:20250917
END:VEVENT
BEGIN:VEVENT
UID:69ea0a2df1586
DTSTAMP:20260423T120149Z
SUMMARY:KONKURADO: Erneuerung Schulanlage Dorf\, Dübendorf\, Start 2. Phas
 e / obligatorische Begehung 17.09.2025 - 17.09.2025
DESCRIPTION:Link zum Verfahren: https://konkurado.ch/en/erneuerung-schulanl
 age-dorf-dubendorf
X-MICROSOFT-CDO-ALLDAYEVENT:TRUE
DTSTART;TZID=Europe/Zurich;VALUE=DATE:20250917
END:VEVENT
BEGIN:VEVENT
UID:69ea0a2df15c2
DTSTAMP:20260423T120149Z
SUMMARY:KONKURADO: Erneuerung Schulanlage Dorf\, Dübendorf\, Fragenstellun
 g 17.09.2025 - 03.10.2025
DESCRIPTION:Link zum Verfahren: https://konkurado.ch/en/erneuerung-schulanl
 age-dorf-dubendorf
X-MICROSOFT-CDO-ALLDAYEVENT:TRUE
DTSTART;TZID=Europe/Zurich;VALUE=DATE:20250917
END:VEVENT
BEGIN:VEVENT
UID:69ea0a2df15e9
DTSTAMP:20260423T120149Z
SUMMARY:KONKURADO: Erneuerung Schulanlage Dorf\, Dübendorf\, Fragenstellun
 g 17.09.2025 - 03.10.2025
DESCRIPTION:Link zum Verfahren: https://konkurado.ch/en/erneuerung-schulanl
 age-dorf-dubendorf
X-MICROSOFT-CDO-ALLDAYEVENT:TRUE
DTSTART;TZID=Europe/Zurich;VALUE=DATE:20251003
END:VEVENT
BEGIN:VEVENT
UID:69ea0a2df164b
DTSTAMP:20260423T120149Z
SUMMARY:KONKURADO: Erneuerung Schulanlage Dorf\, Dübendorf\, Fragenbeantwo
 rtung 13.10.2025 - 21.11.2025
DESCRIPTION:Link zum Verfahren: https://konkurado.ch/en/erneuerung-schulanl
 age-dorf-dubendorf
X-MICROSOFT-CDO-ALLDAYEVENT:TRUE
DTSTART;TZID=Europe/Zurich;VALUE=DATE:20251013
END:VEVENT
BEGIN:VEVENT
UID:69ea0a2df1671
DTSTAMP:20260423T120149Z
SUMMARY:KONKURADO: Erneuerung Schulanlage Dorf\, Dübendorf\, Fragenbeantwo
 rtung 13.10.2025 - 21.11.2025
DESCRIPTION:Link zum Verfahren: https://konkurado.ch/en/erneuerung-schulanl
 age-dorf-dubendorf
X-MICROSOFT-CDO-ALLDAYEVENT:TRUE
DTSTART;TZID=Europe/Zurich;VALUE=DATE:20251121
END:VEVENT
BEGIN:VEVENT
UID:69ea0a2df16a6
DTSTAMP:20260423T120149Z
SUMMARY:KONKURADO: Erneuerung Schulanlage Dorf\, Dübendorf\, Eingabe Angeb
 ot mit Konzeptplänen und Honorarofferte (Zwei-Couvert-Methode) 17.09.2025
  - 21.11.2025
DESCRIPTION:Link zum Verfahren: https://konkurado.ch/en/erneuerung-schulanl
 age-dorf-dubendorf
X-MICROSOFT-CDO-ALLDAYEVENT:TRUE
DTSTART;TZID=Europe/Zurich;VALUE=DATE:20250917
END:VEVENT
BEGIN:VEVENT
UID:69ea0a2df16d4
DTSTAMP:20260423T120149Z
SUMMARY:KONKURADO: Erneuerung Schulanlage Dorf\, Dübendorf\, Eingabe Angeb
 ot mit Konzeptplänen und Honorarofferte (Zwei-Couvert-Methode) 17.09.2025
  - 21.11.2025
DESCRIPTION:Link zum Verfahren: https://konkurado.ch/en/erneuerung-schulanl
 age-dorf-dubendorf
X-MICROSOFT-CDO-ALLDAYEVENT:TRUE
DTSTART;TZID=Europe/Zurich;VALUE=DATE:20251121
END:VEVENT
END:VCALENDAR