BEGIN:VCALENDAR
VERSION:2.0
PRODID:spatie/icalendar-generator
NAME:Entwicklung Ziegler-Areal Bern
X-WR-CALNAME:Entwicklung Ziegler-Areal Bern
BEGIN:VTIMEZONE
TZID:Europe/Zurich
BEGIN:STANDARD
DTSTART:20241027T030000
TZOFFSETFROM:+0200
TZOFFSETTO:+0100
END:STANDARD
BEGIN:DAYLIGHT
DTSTART:20250330T010000
TZOFFSETFROM:+0100
TZOFFSETTO:+0200
END:DAYLIGHT
BEGIN:STANDARD
DTSTART:20251026T030000
TZOFFSETFROM:+0200
TZOFFSETTO:+0100
END:STANDARD
BEGIN:DAYLIGHT
DTSTART:20260329T010000
TZOFFSETFROM:+0100
TZOFFSETTO:+0200
END:DAYLIGHT
END:VTIMEZONE
BEGIN:VTIMEZONE
TZID:UTC
BEGIN:STANDARD
DTSTART:20250727T115329
TZOFFSETFROM:+0000
TZOFFSETTO:+0000
END:STANDARD
END:VTIMEZONE
BEGIN:VEVENT
UID:69ea0839d42c2
DTSTAMP:20260423T115329Z
SUMMARY:KONKURADO: Entwicklung Ziegler-Areal Bern\, Einreichung Bewerbungsu
 nterlagen 25.06.2025 - 04.09.2025
DESCRIPTION:Link zum Verfahren: https://konkurado.ch/en/entwicklung-ziegler
 -areal-bern
X-MICROSOFT-CDO-ALLDAYEVENT:TRUE
DTSTART;TZID=Europe/Zurich;VALUE=DATE:20250625
END:VEVENT
BEGIN:VEVENT
UID:69ea0839d436e
DTSTAMP:20260423T115329Z
SUMMARY:KONKURADO: Entwicklung Ziegler-Areal Bern\, Einreichung Bewerbungsu
 nterlagen 25.06.2025 - 04.09.2025
DESCRIPTION:Link zum Verfahren: https://konkurado.ch/en/entwicklung-ziegler
 -areal-bern
X-MICROSOFT-CDO-ALLDAYEVENT:TRUE
DTSTART;TZID=Europe/Zurich;VALUE=DATE:20250904
END:VEVENT
BEGIN:VEVENT
UID:69ea0839d44b1
DTSTAMP:20260423T115329Z
SUMMARY:KONKURADO: Entwicklung Ziegler-Areal Bern\, Zwischenbesprechung 06.
 02.2026 - 06.02.2026
DESCRIPTION:Link zum Verfahren: https://konkurado.ch/en/entwicklung-ziegler
 -areal-bern
X-MICROSOFT-CDO-ALLDAYEVENT:TRUE
DTSTART;TZID=Europe/Zurich;VALUE=DATE:20260206
END:VEVENT
BEGIN:VEVENT
UID:69ea0839d44dc
DTSTAMP:20260423T115329Z
SUMMARY:KONKURADO: Entwicklung Ziegler-Areal Bern\, Zwischenbesprechung 06.
 02.2026 - 06.02.2026
DESCRIPTION:Link zum Verfahren: https://konkurado.ch/en/entwicklung-ziegler
 -areal-bern
X-MICROSOFT-CDO-ALLDAYEVENT:TRUE
DTSTART;TZID=Europe/Zurich;VALUE=DATE:20260206
END:VEVENT
BEGIN:VEVENT
UID:69ea0839d451e
DTSTAMP:20260423T115329Z
SUMMARY:KONKURADO: Entwicklung Ziegler-Areal Bern\, Fragenstellung 04.09.20
 25 - 06.01.2026
DESCRIPTION:Link zum Verfahren: https://konkurado.ch/en/entwicklung-ziegler
 -areal-bern
X-MICROSOFT-CDO-ALLDAYEVENT:TRUE
DTSTART;TZID=Europe/Zurich;VALUE=DATE:20250904
END:VEVENT
BEGIN:VEVENT
UID:69ea0839d4548
DTSTAMP:20260423T115329Z
SUMMARY:KONKURADO: Entwicklung Ziegler-Areal Bern\, Fragenstellung 04.09.20
 25 - 06.01.2026
DESCRIPTION:Link zum Verfahren: https://konkurado.ch/en/entwicklung-ziegler
 -areal-bern
X-MICROSOFT-CDO-ALLDAYEVENT:TRUE
DTSTART;TZID=Europe/Zurich;VALUE=DATE:20260106
END:VEVENT
BEGIN:VEVENT
UID:69ea0839d45a9
DTSTAMP:20260423T115329Z
SUMMARY:KONKURADO: Entwicklung Ziegler-Areal Bern\, Fragenbeantwortung 07.0
 1.2026 - 23.01.2025
DESCRIPTION:Link zum Verfahren: https://konkurado.ch/en/entwicklung-ziegler
 -areal-bern
X-MICROSOFT-CDO-ALLDAYEVENT:TRUE
DTSTART;TZID=Europe/Zurich;VALUE=DATE:20260107
END:VEVENT
BEGIN:VEVENT
UID:69ea0839d45d1
DTSTAMP:20260423T115329Z
SUMMARY:KONKURADO: Entwicklung Ziegler-Areal Bern\, Fragenbeantwortung 07.0
 1.2026 - 23.01.2025
DESCRIPTION:Link zum Verfahren: https://konkurado.ch/en/entwicklung-ziegler
 -areal-bern
X-MICROSOFT-CDO-ALLDAYEVENT:TRUE
DTSTART;TZID=Europe/Zurich;VALUE=DATE:20250123
END:VEVENT
END:VCALENDAR