BEGIN:VCALENDAR
VERSION:2.0
PRODID:spatie/icalendar-generator
NAME:Entwicklung Stiftung Schulungs- und Wohnheime Rossfeld
X-WR-CALNAME:Entwicklung Stiftung Schulungs- und Wohnheime Rossfeld
BEGIN:VTIMEZONE
TZID:Europe/Zurich
BEGIN:DAYLIGHT
DTSTART:20240331T010000
TZOFFSETFROM:+0100
TZOFFSETTO:+0200
END:DAYLIGHT
BEGIN:STANDARD
DTSTART:20241027T030000
TZOFFSETFROM:+0200
TZOFFSETTO:+0100
END:STANDARD
BEGIN:DAYLIGHT
DTSTART:20250330T010000
TZOFFSETFROM:+0100
TZOFFSETTO:+0200
END:DAYLIGHT
BEGIN:STANDARD
DTSTART:20251026T030000
TZOFFSETFROM:+0200
TZOFFSETTO:+0100
END:STANDARD
END:VTIMEZONE
BEGIN:VTIMEZONE
TZID:UTC
BEGIN:STANDARD
DTSTART:20250727T115451
TZOFFSETFROM:+0000
TZOFFSETTO:+0000
END:STANDARD
END:VTIMEZONE
BEGIN:VEVENT
UID:69ea088bce9c8
DTSTAMP:20260423T115451Z
SUMMARY:KONKURADO: Entwicklung Stiftung Schulungs- und Wohnheime Rossfeld\,
  Eingabe der Bewerbungen 08.11.2024 - 11.12.2024
DESCRIPTION:Link zum Verfahren: https://konkurado.ch/en/entwicklung-stiftun
 g-schulungs-und-wohnheime-rossfeld
X-MICROSOFT-CDO-ALLDAYEVENT:TRUE
DTSTART;TZID=Europe/Zurich;VALUE=DATE:20241108
END:VEVENT
BEGIN:VEVENT
UID:69ea088bcea4e
DTSTAMP:20260423T115451Z
SUMMARY:KONKURADO: Entwicklung Stiftung Schulungs- und Wohnheime Rossfeld\,
  Eingabe der Bewerbungen 08.11.2024 - 11.12.2024
DESCRIPTION:Link zum Verfahren: https://konkurado.ch/en/entwicklung-stiftun
 g-schulungs-und-wohnheime-rossfeld
X-MICROSOFT-CDO-ALLDAYEVENT:TRUE
DTSTART;TZID=Europe/Zurich;VALUE=DATE:20241211
END:VEVENT
BEGIN:VEVENT
UID:69ea088bceb9b
DTSTAMP:20260423T115451Z
SUMMARY:KONKURADO: Entwicklung Stiftung Schulungs- und Wohnheime Rossfeld\,
  Versand Programm und Unterlagen 10.02.2025 - 10.02.2025
DESCRIPTION:Link zum Verfahren: https://konkurado.ch/en/entwicklung-stiftun
 g-schulungs-und-wohnheime-rossfeld
X-MICROSOFT-CDO-ALLDAYEVENT:TRUE
DTSTART;TZID=Europe/Zurich;VALUE=DATE:20250210
END:VEVENT
BEGIN:VEVENT
UID:69ea088bcebcc
DTSTAMP:20260423T115451Z
SUMMARY:KONKURADO: Entwicklung Stiftung Schulungs- und Wohnheime Rossfeld\,
  Versand Programm und Unterlagen 10.02.2025 - 10.02.2025
DESCRIPTION:Link zum Verfahren: https://konkurado.ch/en/entwicklung-stiftun
 g-schulungs-und-wohnheime-rossfeld
X-MICROSOFT-CDO-ALLDAYEVENT:TRUE
DTSTART;TZID=Europe/Zurich;VALUE=DATE:20250210
END:VEVENT
BEGIN:VEVENT
UID:69ea088bcec04
DTSTAMP:20260423T115451Z
SUMMARY:KONKURADO: Entwicklung Stiftung Schulungs- und Wohnheime Rossfeld\,
  Fragerunde 11.02.2025 - 21.02.2025
DESCRIPTION:Link zum Verfahren: https://konkurado.ch/en/entwicklung-stiftun
 g-schulungs-und-wohnheime-rossfeld
X-MICROSOFT-CDO-ALLDAYEVENT:TRUE
DTSTART;TZID=Europe/Zurich;VALUE=DATE:20250211
END:VEVENT
BEGIN:VEVENT
UID:69ea088bcec2a
DTSTAMP:20260423T115451Z
SUMMARY:KONKURADO: Entwicklung Stiftung Schulungs- und Wohnheime Rossfeld\,
  Fragerunde 11.02.2025 - 21.02.2025
DESCRIPTION:Link zum Verfahren: https://konkurado.ch/en/entwicklung-stiftun
 g-schulungs-und-wohnheime-rossfeld
X-MICROSOFT-CDO-ALLDAYEVENT:TRUE
DTSTART;TZID=Europe/Zurich;VALUE=DATE:20250221
END:VEVENT
BEGIN:VEVENT
UID:69ea088bcec92
DTSTAMP:20260423T115451Z
SUMMARY:KONKURADO: Entwicklung Stiftung Schulungs- und Wohnheime Rossfeld\,
  Zu- /Absageschreiben bis 11.12.2024 - 27.01.2025
DESCRIPTION:Link zum Verfahren: https://konkurado.ch/en/entwicklung-stiftun
 g-schulungs-und-wohnheime-rossfeld
X-MICROSOFT-CDO-ALLDAYEVENT:TRUE
DTSTART;TZID=Europe/Zurich;VALUE=DATE:20241211
END:VEVENT
BEGIN:VEVENT
UID:69ea088bcecb8
DTSTAMP:20260423T115451Z
SUMMARY:KONKURADO: Entwicklung Stiftung Schulungs- und Wohnheime Rossfeld\,
  Zu- /Absageschreiben bis 11.12.2024 - 27.01.2025
DESCRIPTION:Link zum Verfahren: https://konkurado.ch/en/entwicklung-stiftun
 g-schulungs-und-wohnheime-rossfeld
X-MICROSOFT-CDO-ALLDAYEVENT:TRUE
DTSTART;TZID=Europe/Zurich;VALUE=DATE:20250127
END:VEVENT
BEGIN:VEVENT
UID:69ea088bced0d
DTSTAMP:20260423T115451Z
SUMMARY:KONKURADO: Entwicklung Stiftung Schulungs- und Wohnheime Rossfeld\,
  Startveranstaltung und Bezug Modell 13.02.2025 - 13.02.2025
DESCRIPTION:Link zum Verfahren: https://konkurado.ch/en/entwicklung-stiftun
 g-schulungs-und-wohnheime-rossfeld
X-MICROSOFT-CDO-ALLDAYEVENT:TRUE
DTSTART;TZID=Europe/Zurich;VALUE=DATE:20250213
END:VEVENT
BEGIN:VEVENT
UID:69ea088bced33
DTSTAMP:20260423T115451Z
SUMMARY:KONKURADO: Entwicklung Stiftung Schulungs- und Wohnheime Rossfeld\,
  Startveranstaltung und Bezug Modell 13.02.2025 - 13.02.2025
DESCRIPTION:Link zum Verfahren: https://konkurado.ch/en/entwicklung-stiftun
 g-schulungs-und-wohnheime-rossfeld
X-MICROSOFT-CDO-ALLDAYEVENT:TRUE
DTSTART;TZID=Europe/Zurich;VALUE=DATE:20250213
END:VEVENT
BEGIN:VEVENT
UID:69ea088bced84
DTSTAMP:20260423T115451Z
SUMMARY:KONKURADO: Entwicklung Stiftung Schulungs- und Wohnheime Rossfeld\,
  Fragenbeantwortung 07.03.2025 - 07.03.2025
DESCRIPTION:Link zum Verfahren: https://konkurado.ch/en/entwicklung-stiftun
 g-schulungs-und-wohnheime-rossfeld
X-MICROSOFT-CDO-ALLDAYEVENT:TRUE
DTSTART;TZID=Europe/Zurich;VALUE=DATE:20250307
END:VEVENT
BEGIN:VEVENT
UID:69ea088bcedaa
DTSTAMP:20260423T115451Z
SUMMARY:KONKURADO: Entwicklung Stiftung Schulungs- und Wohnheime Rossfeld\,
  Fragenbeantwortung 07.03.2025 - 07.03.2025
DESCRIPTION:Link zum Verfahren: https://konkurado.ch/en/entwicklung-stiftun
 g-schulungs-und-wohnheime-rossfeld
X-MICROSOFT-CDO-ALLDAYEVENT:TRUE
DTSTART;TZID=Europe/Zurich;VALUE=DATE:20250307
END:VEVENT
BEGIN:VEVENT
UID:69ea088bcedde
DTSTAMP:20260423T115451Z
SUMMARY:KONKURADO: Entwicklung Stiftung Schulungs- und Wohnheime Rossfeld\,
  Abgabe Unterlagen Zwischenbesprechung 10.02.2025 - 17.04.2025
DESCRIPTION:Link zum Verfahren: https://konkurado.ch/en/entwicklung-stiftun
 g-schulungs-und-wohnheime-rossfeld
X-MICROSOFT-CDO-ALLDAYEVENT:TRUE
DTSTART;TZID=Europe/Zurich;VALUE=DATE:20250210
END:VEVENT
BEGIN:VEVENT
UID:69ea088bcee03
DTSTAMP:20260423T115451Z
SUMMARY:KONKURADO: Entwicklung Stiftung Schulungs- und Wohnheime Rossfeld\,
  Abgabe Unterlagen Zwischenbesprechung 10.02.2025 - 17.04.2025
DESCRIPTION:Link zum Verfahren: https://konkurado.ch/en/entwicklung-stiftun
 g-schulungs-und-wohnheime-rossfeld
X-MICROSOFT-CDO-ALLDAYEVENT:TRUE
DTSTART;TZID=Europe/Zurich;VALUE=DATE:20250417
END:VEVENT
BEGIN:VEVENT
UID:69ea088bcee55
DTSTAMP:20260423T115451Z
SUMMARY:KONKURADO: Entwicklung Stiftung Schulungs- und Wohnheime Rossfeld\,
  Zwischenbesprechung 24.04.2025 - 24.04.2025
DESCRIPTION:Link zum Verfahren: https://konkurado.ch/en/entwicklung-stiftun
 g-schulungs-und-wohnheime-rossfeld
X-MICROSOFT-CDO-ALLDAYEVENT:TRUE
DTSTART;TZID=Europe/Zurich;VALUE=DATE:20250424
END:VEVENT
BEGIN:VEVENT
UID:69ea088bcee7a
DTSTAMP:20260423T115451Z
SUMMARY:KONKURADO: Entwicklung Stiftung Schulungs- und Wohnheime Rossfeld\,
  Zwischenbesprechung 24.04.2025 - 24.04.2025
DESCRIPTION:Link zum Verfahren: https://konkurado.ch/en/entwicklung-stiftun
 g-schulungs-und-wohnheime-rossfeld
X-MICROSOFT-CDO-ALLDAYEVENT:TRUE
DTSTART;TZID=Europe/Zurich;VALUE=DATE:20250424
END:VEVENT
BEGIN:VEVENT
UID:69ea088bceea8
DTSTAMP:20260423T115451Z
SUMMARY:KONKURADO: Entwicklung Stiftung Schulungs- und Wohnheime Rossfeld\,
  Abgabe Projektdossier 25.04.2025 - 04.07.2025
DESCRIPTION:Link zum Verfahren: https://konkurado.ch/en/entwicklung-stiftun
 g-schulungs-und-wohnheime-rossfeld
X-MICROSOFT-CDO-ALLDAYEVENT:TRUE
DTSTART;TZID=Europe/Zurich;VALUE=DATE:20250425
END:VEVENT
BEGIN:VEVENT
UID:69ea088bceecc
DTSTAMP:20260423T115451Z
SUMMARY:KONKURADO: Entwicklung Stiftung Schulungs- und Wohnheime Rossfeld\,
  Abgabe Projektdossier 25.04.2025 - 04.07.2025
DESCRIPTION:Link zum Verfahren: https://konkurado.ch/en/entwicklung-stiftun
 g-schulungs-und-wohnheime-rossfeld
X-MICROSOFT-CDO-ALLDAYEVENT:TRUE
DTSTART;TZID=Europe/Zurich;VALUE=DATE:20250704
END:VEVENT
BEGIN:VEVENT
UID:69ea088bcef1d
DTSTAMP:20260423T115451Z
SUMMARY:KONKURADO: Entwicklung Stiftung Schulungs- und Wohnheime Rossfeld\,
  Modellabgabe 25.04.2025 - 15.08.2025
DESCRIPTION:Link zum Verfahren: https://konkurado.ch/en/entwicklung-stiftun
 g-schulungs-und-wohnheime-rossfeld
X-MICROSOFT-CDO-ALLDAYEVENT:TRUE
DTSTART;TZID=Europe/Zurich;VALUE=DATE:20250425
END:VEVENT
BEGIN:VEVENT
UID:69ea088bcef43
DTSTAMP:20260423T115451Z
SUMMARY:KONKURADO: Entwicklung Stiftung Schulungs- und Wohnheime Rossfeld\,
  Modellabgabe 25.04.2025 - 15.08.2025
DESCRIPTION:Link zum Verfahren: https://konkurado.ch/en/entwicklung-stiftun
 g-schulungs-und-wohnheime-rossfeld
X-MICROSOFT-CDO-ALLDAYEVENT:TRUE
DTSTART;TZID=Europe/Zurich;VALUE=DATE:20250815
END:VEVENT
BEGIN:VEVENT
UID:69ea088bcef79
DTSTAMP:20260423T115451Z
SUMMARY:KONKURADO: Entwicklung Stiftung Schulungs- und Wohnheime Rossfeld\,
  Schlussbeurteilung (ggf mit Schlusspräsentation) 19.08.2025 - 19.08.2025
DESCRIPTION:Link zum Verfahren: https://konkurado.ch/en/entwicklung-stiftun
 g-schulungs-und-wohnheime-rossfeld
X-MICROSOFT-CDO-ALLDAYEVENT:TRUE
DTSTART;TZID=Europe/Zurich;VALUE=DATE:20250819
END:VEVENT
BEGIN:VEVENT
UID:69ea088bcefa9
DTSTAMP:20260423T115451Z
SUMMARY:KONKURADO: Entwicklung Stiftung Schulungs- und Wohnheime Rossfeld\,
  Schlussbeurteilung (ggf mit Schlusspräsentation) 19.08.2025 - 19.08.2025
DESCRIPTION:Link zum Verfahren: https://konkurado.ch/en/entwicklung-stiftun
 g-schulungs-und-wohnheime-rossfeld
X-MICROSOFT-CDO-ALLDAYEVENT:TRUE
DTSTART;TZID=Europe/Zurich;VALUE=DATE:20250819
END:VEVENT
BEGIN:VEVENT
UID:69ea088bcefff
DTSTAMP:20260423T115451Z
SUMMARY:KONKURADO: Entwicklung Stiftung Schulungs- und Wohnheime Rossfeld\,
  Schlussbeurteilung (ggf mit Schlusspräsentation) 20.08.2025 - 20.08.2025
DESCRIPTION:Link zum Verfahren: https://konkurado.ch/en/entwicklung-stiftun
 g-schulungs-und-wohnheime-rossfeld
X-MICROSOFT-CDO-ALLDAYEVENT:TRUE
DTSTART;TZID=Europe/Zurich;VALUE=DATE:20250820
END:VEVENT
BEGIN:VEVENT
UID:69ea088bcf025
DTSTAMP:20260423T115451Z
SUMMARY:KONKURADO: Entwicklung Stiftung Schulungs- und Wohnheime Rossfeld\,
  Schlussbeurteilung (ggf mit Schlusspräsentation) 20.08.2025 - 20.08.2025
DESCRIPTION:Link zum Verfahren: https://konkurado.ch/en/entwicklung-stiftun
 g-schulungs-und-wohnheime-rossfeld
X-MICROSOFT-CDO-ALLDAYEVENT:TRUE
DTSTART;TZID=Europe/Zurich;VALUE=DATE:20250820
END:VEVENT
END:VCALENDAR