BEGIN:VCALENDAR
VERSION:2.0
PRODID:spatie/icalendar-generator
NAME:EMS « Alp’Age » _ Pôle Santé Vallée de Joux
X-WR-CALNAME:EMS « Alp’Age » _ Pôle Santé Vallée de Joux
BEGIN:VTIMEZONE
TZID:Europe/Zurich
BEGIN:STANDARD
DTSTART:20241027T030000
TZOFFSETFROM:+0200
TZOFFSETTO:+0100
END:STANDARD
BEGIN:DAYLIGHT
DTSTART:20250330T010000
TZOFFSETFROM:+0100
TZOFFSETTO:+0200
END:DAYLIGHT
BEGIN:STANDARD
DTSTART:20251026T030000
TZOFFSETFROM:+0200
TZOFFSETTO:+0100
END:STANDARD
END:VTIMEZONE
BEGIN:VTIMEZONE
TZID:UTC
BEGIN:STANDARD
DTSTART:20250727T120106
TZOFFSETFROM:+0000
TZOFFSETTO:+0000
END:STANDARD
END:VTIMEZONE
BEGIN:VEVENT
UID:69ea0a02b56ce
DTSTAMP:20260423T120106Z
SUMMARY:KONKURADO: EMS « Alp’Age » _ Pôle Santé Vallée de Joux\, Pub
 likation der Unterlagen 31.01.2025 - 30.05.2025
DESCRIPTION:Link zum Verfahren: https://konkurado.ch/en/ems-alpage-pole-san
 te-vallee-de-joux
X-MICROSOFT-CDO-ALLDAYEVENT:TRUE
DTSTART;TZID=Europe/Zurich;VALUE=DATE:20250131
END:VEVENT
BEGIN:VEVENT
UID:69ea0a02b5768
DTSTAMP:20260423T120106Z
SUMMARY:KONKURADO: EMS « Alp’Age » _ Pôle Santé Vallée de Joux\, Pub
 likation der Unterlagen 31.01.2025 - 30.05.2025
DESCRIPTION:Link zum Verfahren: https://konkurado.ch/en/ems-alpage-pole-san
 te-vallee-de-joux
X-MICROSOFT-CDO-ALLDAYEVENT:TRUE
DTSTART;TZID=Europe/Zurich;VALUE=DATE:20250530
END:VEVENT
BEGIN:VEVENT
UID:69ea0a02b57ab
DTSTAMP:20260423T120106Z
SUMMARY:KONKURADO: EMS « Alp’Age » _ Pôle Santé Vallée de Joux\, Fra
 gerunde 31.01.2025 - 07.03.2025
DESCRIPTION:Link zum Verfahren: https://konkurado.ch/en/ems-alpage-pole-san
 te-vallee-de-joux
X-MICROSOFT-CDO-ALLDAYEVENT:TRUE
DTSTART;TZID=Europe/Zurich;VALUE=DATE:20250131
END:VEVENT
BEGIN:VEVENT
UID:69ea0a02b57d3
DTSTAMP:20260423T120106Z
SUMMARY:KONKURADO: EMS « Alp’Age » _ Pôle Santé Vallée de Joux\, Fra
 gerunde 31.01.2025 - 07.03.2025
DESCRIPTION:Link zum Verfahren: https://konkurado.ch/en/ems-alpage-pole-san
 te-vallee-de-joux
X-MICROSOFT-CDO-ALLDAYEVENT:TRUE
DTSTART;TZID=Europe/Zurich;VALUE=DATE:20250307
END:VEVENT
BEGIN:VEVENT
UID:69ea0a02b5806
DTSTAMP:20260423T120106Z
SUMMARY:KONKURADO: EMS « Alp’Age » _ Pôle Santé Vallée de Joux\, Wet
 tbewerbsabgabe 31.01.2025 - 30.05.2025
DESCRIPTION:Link zum Verfahren: https://konkurado.ch/en/ems-alpage-pole-san
 te-vallee-de-joux
X-MICROSOFT-CDO-ALLDAYEVENT:TRUE
DTSTART;TZID=Europe/Zurich;VALUE=DATE:20250131
END:VEVENT
BEGIN:VEVENT
UID:69ea0a02b582c
DTSTAMP:20260423T120106Z
SUMMARY:KONKURADO: EMS « Alp’Age » _ Pôle Santé Vallée de Joux\, Wet
 tbewerbsabgabe 31.01.2025 - 30.05.2025
DESCRIPTION:Link zum Verfahren: https://konkurado.ch/en/ems-alpage-pole-san
 te-vallee-de-joux
X-MICROSOFT-CDO-ALLDAYEVENT:TRUE
DTSTART;TZID=Europe/Zurich;VALUE=DATE:20250530
END:VEVENT
BEGIN:VEVENT
UID:69ea0a02b586a
DTSTAMP:20260423T120106Z
SUMMARY:KONKURADO: EMS « Alp’Age » _ Pôle Santé Vallée de Joux\, Jur
 ierung 19.06.2025 - 28.08.2025
DESCRIPTION:Link zum Verfahren: https://konkurado.ch/en/ems-alpage-pole-san
 te-vallee-de-joux
X-MICROSOFT-CDO-ALLDAYEVENT:TRUE
DTSTART;TZID=Europe/Zurich;VALUE=DATE:20250619
END:VEVENT
BEGIN:VEVENT
UID:69ea0a02b588f
DTSTAMP:20260423T120106Z
SUMMARY:KONKURADO: EMS « Alp’Age » _ Pôle Santé Vallée de Joux\, Jur
 ierung 19.06.2025 - 28.08.2025
DESCRIPTION:Link zum Verfahren: https://konkurado.ch/en/ems-alpage-pole-san
 te-vallee-de-joux
X-MICROSOFT-CDO-ALLDAYEVENT:TRUE
DTSTART;TZID=Europe/Zurich;VALUE=DATE:20250828
END:VEVENT
BEGIN:VEVENT
UID:69ea0a02b5901
DTSTAMP:20260423T120106Z
SUMMARY:KONKURADO: EMS « Alp’Age » _ Pôle Santé Vallée de Joux\, Mod
 ellbezug ab 03.02.2025 - 18.06.2025
DESCRIPTION:Link zum Verfahren: https://konkurado.ch/en/ems-alpage-pole-san
 te-vallee-de-joux
X-MICROSOFT-CDO-ALLDAYEVENT:TRUE
DTSTART;TZID=Europe/Zurich;VALUE=DATE:20250203
END:VEVENT
BEGIN:VEVENT
UID:69ea0a02b5945
DTSTAMP:20260423T120106Z
SUMMARY:KONKURADO: EMS « Alp’Age » _ Pôle Santé Vallée de Joux\, Mod
 ellbezug ab 03.02.2025 - 18.06.2025
DESCRIPTION:Link zum Verfahren: https://konkurado.ch/en/ems-alpage-pole-san
 te-vallee-de-joux
X-MICROSOFT-CDO-ALLDAYEVENT:TRUE
DTSTART;TZID=Europe/Zurich;VALUE=DATE:20250618
END:VEVENT
BEGIN:VEVENT
UID:69ea0a02b59a1
DTSTAMP:20260423T120106Z
SUMMARY:KONKURADO: EMS « Alp’Age » _ Pôle Santé Vallée de Joux\, Beg
 ehung 12.02.2025 - 12.02.2025
DESCRIPTION:Link zum Verfahren: https://konkurado.ch/en/ems-alpage-pole-san
 te-vallee-de-joux
X-MICROSOFT-CDO-ALLDAYEVENT:TRUE
DTSTART;TZID=Europe/Zurich;VALUE=DATE:20250212
END:VEVENT
BEGIN:VEVENT
UID:69ea0a02b59c9
DTSTAMP:20260423T120106Z
SUMMARY:KONKURADO: EMS « Alp’Age » _ Pôle Santé Vallée de Joux\, Beg
 ehung 12.02.2025 - 12.02.2025
DESCRIPTION:Link zum Verfahren: https://konkurado.ch/en/ems-alpage-pole-san
 te-vallee-de-joux
X-MICROSOFT-CDO-ALLDAYEVENT:TRUE
DTSTART;TZID=Europe/Zurich;VALUE=DATE:20250212
END:VEVENT
BEGIN:VEVENT
UID:69ea0a02b5a1d
DTSTAMP:20260423T120106Z
SUMMARY:KONKURADO: EMS « Alp’Age » _ Pôle Santé Vallée de Joux\, Fra
 genbeantwortung 08.03.2025 - 21.03.2025
DESCRIPTION:Link zum Verfahren: https://konkurado.ch/en/ems-alpage-pole-san
 te-vallee-de-joux
X-MICROSOFT-CDO-ALLDAYEVENT:TRUE
DTSTART;TZID=Europe/Zurich;VALUE=DATE:20250308
END:VEVENT
BEGIN:VEVENT
UID:69ea0a02b5a43
DTSTAMP:20260423T120106Z
SUMMARY:KONKURADO: EMS « Alp’Age » _ Pôle Santé Vallée de Joux\, Fra
 genbeantwortung 08.03.2025 - 21.03.2025
DESCRIPTION:Link zum Verfahren: https://konkurado.ch/en/ems-alpage-pole-san
 te-vallee-de-joux
X-MICROSOFT-CDO-ALLDAYEVENT:TRUE
DTSTART;TZID=Europe/Zurich;VALUE=DATE:20250321
END:VEVENT
BEGIN:VEVENT
UID:69ea0a02b5a93
DTSTAMP:20260423T120106Z
SUMMARY:KONKURADO: EMS « Alp’Age » _ Pôle Santé Vallée de Joux\, Mod
 ellabgabe 12.02.2025 - 18.06.2025
DESCRIPTION:Link zum Verfahren: https://konkurado.ch/en/ems-alpage-pole-san
 te-vallee-de-joux
X-MICROSOFT-CDO-ALLDAYEVENT:TRUE
DTSTART;TZID=Europe/Zurich;VALUE=DATE:20250212
END:VEVENT
BEGIN:VEVENT
UID:69ea0a02b5ab9
DTSTAMP:20260423T120106Z
SUMMARY:KONKURADO: EMS « Alp’Age » _ Pôle Santé Vallée de Joux\, Mod
 ellabgabe 12.02.2025 - 18.06.2025
DESCRIPTION:Link zum Verfahren: https://konkurado.ch/en/ems-alpage-pole-san
 te-vallee-de-joux
X-MICROSOFT-CDO-ALLDAYEVENT:TRUE
DTSTART;TZID=Europe/Zurich;VALUE=DATE:20250618
END:VEVENT
BEGIN:VEVENT
UID:69ea0a02b5b09
DTSTAMP:20260423T120106Z
SUMMARY:KONKURADO: EMS « Alp’Age » _ Pôle Santé Vallée de Joux\, Pre
 isverleihung und Eröffnung der Ausstellung 18.09.2025 - 18.09.2025
DESCRIPTION:Link zum Verfahren: https://konkurado.ch/en/ems-alpage-pole-san
 te-vallee-de-joux
X-MICROSOFT-CDO-ALLDAYEVENT:TRUE
DTSTART;TZID=Europe/Zurich;VALUE=DATE:20250918
END:VEVENT
BEGIN:VEVENT
UID:69ea0a02b5b37
DTSTAMP:20260423T120106Z
SUMMARY:KONKURADO: EMS « Alp’Age » _ Pôle Santé Vallée de Joux\, Pre
 isverleihung und Eröffnung der Ausstellung 18.09.2025 - 18.09.2025
DESCRIPTION:Link zum Verfahren: https://konkurado.ch/en/ems-alpage-pole-san
 te-vallee-de-joux
X-MICROSOFT-CDO-ALLDAYEVENT:TRUE
DTSTART;TZID=Europe/Zurich;VALUE=DATE:20250918
END:VEVENT
END:VCALENDAR