BEGIN:VCALENDAR
VERSION:2.0
PRODID:spatie/icalendar-generator
NAME:Einbau «Geschäftsstelle der Zukunft Siebnen»
X-WR-CALNAME:Einbau «Geschäftsstelle der Zukunft Siebnen»
BEGIN:VTIMEZONE
TZID:Europe/Zurich
BEGIN:DAYLIGHT
DTSTART:20240331T010000
TZOFFSETFROM:+0100
TZOFFSETTO:+0200
END:DAYLIGHT
BEGIN:STANDARD
DTSTART:20241027T030000
TZOFFSETFROM:+0200
TZOFFSETTO:+0100
END:STANDARD
BEGIN:DAYLIGHT
DTSTART:20250330T010000
TZOFFSETFROM:+0100
TZOFFSETTO:+0200
END:DAYLIGHT
BEGIN:STANDARD
DTSTART:20251026T030000
TZOFFSETFROM:+0200
TZOFFSETTO:+0100
END:STANDARD
END:VTIMEZONE
BEGIN:VTIMEZONE
TZID:UTC
BEGIN:STANDARD
DTSTART:20250727T120223
TZOFFSETFROM:+0000
TZOFFSETTO:+0000
END:STANDARD
END:VTIMEZONE
BEGIN:VEVENT
UID:69ea0a4fc1909
DTSTAMP:20260423T120223Z
SUMMARY:KONKURADO: Einbau «Geschäftsstelle der Zukunft Siebnen»\, Abgabe
  Präqualifikationsunterlagen 06.12.2024 - 08.01.2025
DESCRIPTION:Link zum Verfahren: https://konkurado.ch/en/einbau-geschaeftsst
 elle-der-zukunft-siebnen
X-MICROSOFT-CDO-ALLDAYEVENT:TRUE
DTSTART;TZID=Europe/Zurich;VALUE=DATE:20241206
END:VEVENT
BEGIN:VEVENT
UID:69ea0a4fc197e
DTSTAMP:20260423T120223Z
SUMMARY:KONKURADO: Einbau «Geschäftsstelle der Zukunft Siebnen»\, Abgabe
  Präqualifikationsunterlagen 06.12.2024 - 08.01.2025
DESCRIPTION:Link zum Verfahren: https://konkurado.ch/en/einbau-geschaeftsst
 elle-der-zukunft-siebnen
X-MICROSOFT-CDO-ALLDAYEVENT:TRUE
DTSTART;TZID=Europe/Zurich;VALUE=DATE:20250108
END:VEVENT
BEGIN:VEVENT
UID:69ea0a4fc1a78
DTSTAMP:20260423T120223Z
SUMMARY:KONKURADO: Einbau «Geschäftsstelle der Zukunft Siebnen»\, Auswah
 l der Teilnehmer 09.01.2025 - 17.01.2025
DESCRIPTION:Link zum Verfahren: https://konkurado.ch/en/einbau-geschaeftsst
 elle-der-zukunft-siebnen
X-MICROSOFT-CDO-ALLDAYEVENT:TRUE
DTSTART;TZID=Europe/Zurich;VALUE=DATE:20250109
END:VEVENT
BEGIN:VEVENT
UID:69ea0a4fc1aa3
DTSTAMP:20260423T120223Z
SUMMARY:KONKURADO: Einbau «Geschäftsstelle der Zukunft Siebnen»\, Auswah
 l der Teilnehmer 09.01.2025 - 17.01.2025
DESCRIPTION:Link zum Verfahren: https://konkurado.ch/en/einbau-geschaeftsst
 elle-der-zukunft-siebnen
X-MICROSOFT-CDO-ALLDAYEVENT:TRUE
DTSTART;TZID=Europe/Zurich;VALUE=DATE:20250117
END:VEVENT
BEGIN:VEVENT
UID:69ea0a4fc1aef
DTSTAMP:20260423T120223Z
SUMMARY:KONKURADO: Einbau «Geschäftsstelle der Zukunft Siebnen»\, Abgabe
  schriftliche Fragestellung 28.01.2025 - 11.02.2025
DESCRIPTION:Link zum Verfahren: https://konkurado.ch/en/einbau-geschaeftsst
 elle-der-zukunft-siebnen
X-MICROSOFT-CDO-ALLDAYEVENT:TRUE
DTSTART;TZID=Europe/Zurich;VALUE=DATE:20250128
END:VEVENT
BEGIN:VEVENT
UID:69ea0a4fc1b15
DTSTAMP:20260423T120223Z
SUMMARY:KONKURADO: Einbau «Geschäftsstelle der Zukunft Siebnen»\, Abgabe
  schriftliche Fragestellung 28.01.2025 - 11.02.2025
DESCRIPTION:Link zum Verfahren: https://konkurado.ch/en/einbau-geschaeftsst
 elle-der-zukunft-siebnen
X-MICROSOFT-CDO-ALLDAYEVENT:TRUE
DTSTART;TZID=Europe/Zurich;VALUE=DATE:20250211
END:VEVENT
BEGIN:VEVENT
UID:69ea0a4fc1b46
DTSTAMP:20260423T120223Z
SUMMARY:KONKURADO: Einbau «Geschäftsstelle der Zukunft Siebnen»\, Deadli
 ne Abgabe der Projektlösung 28.01.2025 - 25.04.2025
DESCRIPTION:Link zum Verfahren: https://konkurado.ch/en/einbau-geschaeftsst
 elle-der-zukunft-siebnen
X-MICROSOFT-CDO-ALLDAYEVENT:TRUE
DTSTART;TZID=Europe/Zurich;VALUE=DATE:20250128
END:VEVENT
BEGIN:VEVENT
UID:69ea0a4fc1b6a
DTSTAMP:20260423T120223Z
SUMMARY:KONKURADO: Einbau «Geschäftsstelle der Zukunft Siebnen»\, Deadli
 ne Abgabe der Projektlösung 28.01.2025 - 25.04.2025
DESCRIPTION:Link zum Verfahren: https://konkurado.ch/en/einbau-geschaeftsst
 elle-der-zukunft-siebnen
X-MICROSOFT-CDO-ALLDAYEVENT:TRUE
DTSTART;TZID=Europe/Zurich;VALUE=DATE:20250425
END:VEVENT
BEGIN:VEVENT
UID:69ea0a4fc1bcc
DTSTAMP:20260423T120223Z
SUMMARY:KONKURADO: Einbau «Geschäftsstelle der Zukunft Siebnen»\, Ausgab
 e Wettbewerb 28.01.2025 - 28.01.2025
DESCRIPTION:Link zum Verfahren: https://konkurado.ch/en/einbau-geschaeftsst
 elle-der-zukunft-siebnen
X-MICROSOFT-CDO-ALLDAYEVENT:TRUE
DTSTART;TZID=Europe/Zurich;VALUE=DATE:20250128
END:VEVENT
BEGIN:VEVENT
UID:69ea0a4fc1bf2
DTSTAMP:20260423T120223Z
SUMMARY:KONKURADO: Einbau «Geschäftsstelle der Zukunft Siebnen»\, Ausgab
 e Wettbewerb 28.01.2025 - 28.01.2025
DESCRIPTION:Link zum Verfahren: https://konkurado.ch/en/einbau-geschaeftsst
 elle-der-zukunft-siebnen
X-MICROSOFT-CDO-ALLDAYEVENT:TRUE
DTSTART;TZID=Europe/Zurich;VALUE=DATE:20250128
END:VEVENT
BEGIN:VEVENT
UID:69ea0a4fc1c48
DTSTAMP:20260423T120223Z
SUMMARY:KONKURADO: Einbau «Geschäftsstelle der Zukunft Siebnen»\, Beantw
 ortung der Fragen 28.01.2025 - 18.02.2025
DESCRIPTION:Link zum Verfahren: https://konkurado.ch/en/einbau-geschaeftsst
 elle-der-zukunft-siebnen
X-MICROSOFT-CDO-ALLDAYEVENT:TRUE
DTSTART;TZID=Europe/Zurich;VALUE=DATE:20250128
END:VEVENT
BEGIN:VEVENT
UID:69ea0a4fc1c6d
DTSTAMP:20260423T120223Z
SUMMARY:KONKURADO: Einbau «Geschäftsstelle der Zukunft Siebnen»\, Beantw
 ortung der Fragen 28.01.2025 - 18.02.2025
DESCRIPTION:Link zum Verfahren: https://konkurado.ch/en/einbau-geschaeftsst
 elle-der-zukunft-siebnen
X-MICROSOFT-CDO-ALLDAYEVENT:TRUE
DTSTART;TZID=Europe/Zurich;VALUE=DATE:20250218
END:VEVENT
END:VCALENDAR