BEGIN:VCALENDAR
VERSION:2.0
PRODID:spatie/icalendar-generator
NAME:École Primaire Intercommunale de Malley
X-WR-CALNAME:École Primaire Intercommunale de Malley
BEGIN:VTIMEZONE
TZID:Europe/Zurich
BEGIN:STANDARD
DTSTART:20241027T030000
TZOFFSETFROM:+0200
TZOFFSETTO:+0100
END:STANDARD
BEGIN:DAYLIGHT
DTSTART:20250330T010000
TZOFFSETFROM:+0100
TZOFFSETTO:+0200
END:DAYLIGHT
BEGIN:STANDARD
DTSTART:20251026T030000
TZOFFSETFROM:+0200
TZOFFSETTO:+0100
END:STANDARD
BEGIN:DAYLIGHT
DTSTART:20260329T010000
TZOFFSETFROM:+0100
TZOFFSETTO:+0200
END:DAYLIGHT
END:VTIMEZONE
BEGIN:VTIMEZONE
TZID:UTC
BEGIN:STANDARD
DTSTART:20250727T115253
TZOFFSETFROM:+0000
TZOFFSETTO:+0000
END:STANDARD
END:VTIMEZONE
BEGIN:VEVENT
UID:69ea0815e92ed
DTSTAMP:20260423T115253Z
SUMMARY:KONKURADO: École Primaire Intercommunale de Malley\, Anmeldung bis
  08.05.2025 - 08.08.2025
DESCRIPTION:Link zum Verfahren: https://konkurado.ch/en/ecole-primaire-inte
 rcommunale-de-malley
X-MICROSOFT-CDO-ALLDAYEVENT:TRUE
DTSTART;TZID=Europe/Zurich;VALUE=DATE:20250508
END:VEVENT
BEGIN:VEVENT
UID:69ea0815e938f
DTSTAMP:20260423T115253Z
SUMMARY:KONKURADO: École Primaire Intercommunale de Malley\, Anmeldung bis
  08.05.2025 - 08.08.2025
DESCRIPTION:Link zum Verfahren: https://konkurado.ch/en/ecole-primaire-inte
 rcommunale-de-malley
X-MICROSOFT-CDO-ALLDAYEVENT:TRUE
DTSTART;TZID=Europe/Zurich;VALUE=DATE:20250808
END:VEVENT
BEGIN:VEVENT
UID:69ea0815e94e2
DTSTAMP:20260423T115253Z
SUMMARY:KONKURADO: École Primaire Intercommunale de Malley\, Publikation d
 er Unterlagen 15.05.2025 - 16.05.2025
DESCRIPTION:Link zum Verfahren: https://konkurado.ch/en/ecole-primaire-inte
 rcommunale-de-malley
X-MICROSOFT-CDO-ALLDAYEVENT:TRUE
DTSTART;TZID=Europe/Zurich;VALUE=DATE:20250515
END:VEVENT
BEGIN:VEVENT
UID:69ea0815e951f
DTSTAMP:20260423T115253Z
SUMMARY:KONKURADO: École Primaire Intercommunale de Malley\, Publikation d
 er Unterlagen 15.05.2025 - 16.05.2025
DESCRIPTION:Link zum Verfahren: https://konkurado.ch/en/ecole-primaire-inte
 rcommunale-de-malley
X-MICROSOFT-CDO-ALLDAYEVENT:TRUE
DTSTART;TZID=Europe/Zurich;VALUE=DATE:20250516
END:VEVENT
BEGIN:VEVENT
UID:69ea0815e9573
DTSTAMP:20260423T115253Z
SUMMARY:KONKURADO: École Primaire Intercommunale de Malley\, Einreichung v
 on Fragen bis 08.05.2025 - 04.06.2025
DESCRIPTION:Link zum Verfahren: https://konkurado.ch/en/ecole-primaire-inte
 rcommunale-de-malley
X-MICROSOFT-CDO-ALLDAYEVENT:TRUE
DTSTART;TZID=Europe/Zurich;VALUE=DATE:20250508
END:VEVENT
BEGIN:VEVENT
UID:69ea0815e959e
DTSTAMP:20260423T115253Z
SUMMARY:KONKURADO: École Primaire Intercommunale de Malley\, Einreichung v
 on Fragen bis 08.05.2025 - 04.06.2025
DESCRIPTION:Link zum Verfahren: https://konkurado.ch/en/ecole-primaire-inte
 rcommunale-de-malley
X-MICROSOFT-CDO-ALLDAYEVENT:TRUE
DTSTART;TZID=Europe/Zurich;VALUE=DATE:20250604
END:VEVENT
BEGIN:VEVENT
UID:69ea0815e95d3
DTSTAMP:20260423T115253Z
SUMMARY:KONKURADO: École Primaire Intercommunale de Malley\, Wettbewerbsab
 gabe bis 08.05.2025 - 19.09.2025
DESCRIPTION:Link zum Verfahren: https://konkurado.ch/en/ecole-primaire-inte
 rcommunale-de-malley
X-MICROSOFT-CDO-ALLDAYEVENT:TRUE
DTSTART;TZID=Europe/Zurich;VALUE=DATE:20250508
END:VEVENT
BEGIN:VEVENT
UID:69ea0815e95f8
DTSTAMP:20260423T115253Z
SUMMARY:KONKURADO: École Primaire Intercommunale de Malley\, Wettbewerbsab
 gabe bis 08.05.2025 - 19.09.2025
DESCRIPTION:Link zum Verfahren: https://konkurado.ch/en/ecole-primaire-inte
 rcommunale-de-malley
X-MICROSOFT-CDO-ALLDAYEVENT:TRUE
DTSTART;TZID=Europe/Zurich;VALUE=DATE:20250919
END:VEVENT
BEGIN:VEVENT
UID:69ea0815e9666
DTSTAMP:20260423T115253Z
SUMMARY:KONKURADO: École Primaire Intercommunale de Malley\, Jurierung 23.
 05.2025 - 24.05.2025
DESCRIPTION:Link zum Verfahren: https://konkurado.ch/en/ecole-primaire-inte
 rcommunale-de-malley
X-MICROSOFT-CDO-ALLDAYEVENT:TRUE
DTSTART;TZID=Europe/Zurich;VALUE=DATE:20250523
END:VEVENT
BEGIN:VEVENT
UID:69ea0815e968e
DTSTAMP:20260423T115253Z
SUMMARY:KONKURADO: École Primaire Intercommunale de Malley\, Jurierung 23.
 05.2025 - 24.05.2025
DESCRIPTION:Link zum Verfahren: https://konkurado.ch/en/ecole-primaire-inte
 rcommunale-de-malley
X-MICROSOFT-CDO-ALLDAYEVENT:TRUE
DTSTART;TZID=Europe/Zurich;VALUE=DATE:20250524
END:VEVENT
BEGIN:VEVENT
UID:69ea0815e96f6
DTSTAMP:20260423T115253Z
SUMMARY:KONKURADO: École Primaire Intercommunale de Malley\, Modellausgabe
  ab 16.05.2025 - 03.10.2025
DESCRIPTION:Link zum Verfahren: https://konkurado.ch/en/ecole-primaire-inte
 rcommunale-de-malley
X-MICROSOFT-CDO-ALLDAYEVENT:TRUE
DTSTART;TZID=Europe/Zurich;VALUE=DATE:20250516
END:VEVENT
BEGIN:VEVENT
UID:69ea0815e9721
DTSTAMP:20260423T115253Z
SUMMARY:KONKURADO: École Primaire Intercommunale de Malley\, Modellausgabe
  ab 16.05.2025 - 03.10.2025
DESCRIPTION:Link zum Verfahren: https://konkurado.ch/en/ecole-primaire-inte
 rcommunale-de-malley
X-MICROSOFT-CDO-ALLDAYEVENT:TRUE
DTSTART;TZID=Europe/Zurich;VALUE=DATE:20251003
END:VEVENT
BEGIN:VEVENT
UID:69ea0815e9778
DTSTAMP:20260423T115253Z
SUMMARY:KONKURADO: École Primaire Intercommunale de Malley\, Begehung 28.0
 5.2025 - 28.05.2025
DESCRIPTION:Link zum Verfahren: https://konkurado.ch/en/ecole-primaire-inte
 rcommunale-de-malley
X-MICROSOFT-CDO-ALLDAYEVENT:TRUE
DTSTART;TZID=Europe/Zurich;VALUE=DATE:20250528
END:VEVENT
BEGIN:VEVENT
UID:69ea0815e979e
DTSTAMP:20260423T115253Z
SUMMARY:KONKURADO: École Primaire Intercommunale de Malley\, Begehung 28.0
 5.2025 - 28.05.2025
DESCRIPTION:Link zum Verfahren: https://konkurado.ch/en/ecole-primaire-inte
 rcommunale-de-malley
X-MICROSOFT-CDO-ALLDAYEVENT:TRUE
DTSTART;TZID=Europe/Zurich;VALUE=DATE:20250528
END:VEVENT
BEGIN:VEVENT
UID:69ea0815e980b
DTSTAMP:20260423T115253Z
SUMMARY:KONKURADO: École Primaire Intercommunale de Malley\, Fragenbeantwo
 rtung 05.06.2025 - 25.06.2025
DESCRIPTION:Link zum Verfahren: https://konkurado.ch/en/ecole-primaire-inte
 rcommunale-de-malley
X-MICROSOFT-CDO-ALLDAYEVENT:TRUE
DTSTART;TZID=Europe/Zurich;VALUE=DATE:20250605
END:VEVENT
BEGIN:VEVENT
UID:69ea0815e9831
DTSTAMP:20260423T115253Z
SUMMARY:KONKURADO: École Primaire Intercommunale de Malley\, Fragenbeantwo
 rtung 05.06.2025 - 25.06.2025
DESCRIPTION:Link zum Verfahren: https://konkurado.ch/en/ecole-primaire-inte
 rcommunale-de-malley
X-MICROSOFT-CDO-ALLDAYEVENT:TRUE
DTSTART;TZID=Europe/Zurich;VALUE=DATE:20250625
END:VEVENT
BEGIN:VEVENT
UID:69ea0815e9884
DTSTAMP:20260423T115253Z
SUMMARY:KONKURADO: École Primaire Intercommunale de Malley\, Modellabgabe 
 bis 16.05.2025 - 03.10.2025
DESCRIPTION:Link zum Verfahren: https://konkurado.ch/en/ecole-primaire-inte
 rcommunale-de-malley
X-MICROSOFT-CDO-ALLDAYEVENT:TRUE
DTSTART;TZID=Europe/Zurich;VALUE=DATE:20250516
END:VEVENT
BEGIN:VEVENT
UID:69ea0815e98aa
DTSTAMP:20260423T115253Z
SUMMARY:KONKURADO: École Primaire Intercommunale de Malley\, Modellabgabe 
 bis 16.05.2025 - 03.10.2025
DESCRIPTION:Link zum Verfahren: https://konkurado.ch/en/ecole-primaire-inte
 rcommunale-de-malley
X-MICROSOFT-CDO-ALLDAYEVENT:TRUE
DTSTART;TZID=Europe/Zurich;VALUE=DATE:20251003
END:VEVENT
END:VCALENDAR