BEGIN:VCALENDAR
VERSION:2.0
PRODID:spatie/icalendar-generator
NAME:Dorfkernentwicklung Egolzwil
X-WR-CALNAME:Dorfkernentwicklung Egolzwil
BEGIN:VTIMEZONE
TZID:Europe/Zurich
BEGIN:STANDARD
DTSTART:20241027T030000
TZOFFSETFROM:+0200
TZOFFSETTO:+0100
END:STANDARD
BEGIN:DAYLIGHT
DTSTART:20250330T010000
TZOFFSETFROM:+0100
TZOFFSETTO:+0200
END:DAYLIGHT
BEGIN:STANDARD
DTSTART:20251026T030000
TZOFFSETFROM:+0200
TZOFFSETTO:+0100
END:STANDARD
BEGIN:DAYLIGHT
DTSTART:20260329T010000
TZOFFSETFROM:+0100
TZOFFSETTO:+0200
END:DAYLIGHT
END:VTIMEZONE
BEGIN:VTIMEZONE
TZID:UTC
BEGIN:STANDARD
DTSTART:20250727T115415
TZOFFSETFROM:+0000
TZOFFSETTO:+0000
END:STANDARD
END:VTIMEZONE
BEGIN:VEVENT
UID:69ea086717d05
DTSTAMP:20260423T115415Z
SUMMARY:KONKURADO: Dorfkernentwicklung Egolzwil\, Einreichung der Präquali
 fikationsunterlagen 27.05.2025 - 10.07.2025
DESCRIPTION:Link zum Verfahren: https://konkurado.ch/en/dorfkernentwicklung
 -egolzwil
X-MICROSOFT-CDO-ALLDAYEVENT:TRUE
DTSTART;TZID=Europe/Zurich;VALUE=DATE:20250527
END:VEVENT
BEGIN:VEVENT
UID:69ea086717d98
DTSTAMP:20260423T115415Z
SUMMARY:KONKURADO: Dorfkernentwicklung Egolzwil\, Einreichung der Präquali
 fikationsunterlagen 27.05.2025 - 10.07.2025
DESCRIPTION:Link zum Verfahren: https://konkurado.ch/en/dorfkernentwicklung
 -egolzwil
X-MICROSOFT-CDO-ALLDAYEVENT:TRUE
DTSTART;TZID=Europe/Zurich;VALUE=DATE:20250710
END:VEVENT
BEGIN:VEVENT
UID:69ea086717eca
DTSTAMP:20260423T115415Z
SUMMARY:KONKURADO: Dorfkernentwicklung Egolzwil\, Versand Programm und Unte
 rlagen zum Studienauftrag 21.10.2025 - 25.02.2026
DESCRIPTION:Link zum Verfahren: https://konkurado.ch/en/dorfkernentwicklung
 -egolzwil
X-MICROSOFT-CDO-ALLDAYEVENT:TRUE
DTSTART;TZID=Europe/Zurich;VALUE=DATE:20251021
END:VEVENT
BEGIN:VEVENT
UID:69ea086717ef5
DTSTAMP:20260423T115415Z
SUMMARY:KONKURADO: Dorfkernentwicklung Egolzwil\, Versand Programm und Unte
 rlagen zum Studienauftrag 21.10.2025 - 25.02.2026
DESCRIPTION:Link zum Verfahren: https://konkurado.ch/en/dorfkernentwicklung
 -egolzwil
X-MICROSOFT-CDO-ALLDAYEVENT:TRUE
DTSTART;TZID=Europe/Zurich;VALUE=DATE:20260225
END:VEVENT
BEGIN:VEVENT
UID:69ea086717f2d
DTSTAMP:20260423T115415Z
SUMMARY:KONKURADO: Dorfkernentwicklung Egolzwil\, Fragenstellung 21.10.2025
  - 06.11.2025
DESCRIPTION:Link zum Verfahren: https://konkurado.ch/en/dorfkernentwicklung
 -egolzwil
X-MICROSOFT-CDO-ALLDAYEVENT:TRUE
DTSTART;TZID=Europe/Zurich;VALUE=DATE:20251021
END:VEVENT
BEGIN:VEVENT
UID:69ea086717f53
DTSTAMP:20260423T115415Z
SUMMARY:KONKURADO: Dorfkernentwicklung Egolzwil\, Fragenstellung 21.10.2025
  - 06.11.2025
DESCRIPTION:Link zum Verfahren: https://konkurado.ch/en/dorfkernentwicklung
 -egolzwil
X-MICROSOFT-CDO-ALLDAYEVENT:TRUE
DTSTART;TZID=Europe/Zurich;VALUE=DATE:20251106
END:VEVENT
BEGIN:VEVENT
UID:69ea086717f86
DTSTAMP:20260423T115415Z
SUMMARY:KONKURADO: Dorfkernentwicklung Egolzwil\, Abgabe Planunterlagen 21.
 10.2025 - 25.02.2026
DESCRIPTION:Link zum Verfahren: https://konkurado.ch/en/dorfkernentwicklung
 -egolzwil
X-MICROSOFT-CDO-ALLDAYEVENT:TRUE
DTSTART;TZID=Europe/Zurich;VALUE=DATE:20251021
END:VEVENT
BEGIN:VEVENT
UID:69ea086717fab
DTSTAMP:20260423T115415Z
SUMMARY:KONKURADO: Dorfkernentwicklung Egolzwil\, Abgabe Planunterlagen 21.
 10.2025 - 25.02.2026
DESCRIPTION:Link zum Verfahren: https://konkurado.ch/en/dorfkernentwicklung
 -egolzwil
X-MICROSOFT-CDO-ALLDAYEVENT:TRUE
DTSTART;TZID=Europe/Zurich;VALUE=DATE:20260225
END:VEVENT
BEGIN:VEVENT
UID:69ea086718008
DTSTAMP:20260423T115415Z
SUMMARY:KONKURADO: Dorfkernentwicklung Egolzwil\, Begehung vor Ort\, Abgabe
  Modellgrundlage 30.10.2025 - 30.10.2025
DESCRIPTION:Link zum Verfahren: https://konkurado.ch/en/dorfkernentwicklung
 -egolzwil
X-MICROSOFT-CDO-ALLDAYEVENT:TRUE
DTSTART;TZID=Europe/Zurich;VALUE=DATE:20251030
END:VEVENT
BEGIN:VEVENT
UID:69ea08671803b
DTSTAMP:20260423T115415Z
SUMMARY:KONKURADO: Dorfkernentwicklung Egolzwil\, Begehung vor Ort\, Abgabe
  Modellgrundlage 30.10.2025 - 30.10.2025
DESCRIPTION:Link zum Verfahren: https://konkurado.ch/en/dorfkernentwicklung
 -egolzwil
X-MICROSOFT-CDO-ALLDAYEVENT:TRUE
DTSTART;TZID=Europe/Zurich;VALUE=DATE:20251030
END:VEVENT
BEGIN:VEVENT
UID:69ea0867180ae
DTSTAMP:20260423T115415Z
SUMMARY:KONKURADO: Dorfkernentwicklung Egolzwil\, Fragenbeantwortung ab 08.
 11.2025 - 25.02.2026
DESCRIPTION:Link zum Verfahren: https://konkurado.ch/en/dorfkernentwicklung
 -egolzwil
X-MICROSOFT-CDO-ALLDAYEVENT:TRUE
DTSTART;TZID=Europe/Zurich;VALUE=DATE:20251108
END:VEVENT
BEGIN:VEVENT
UID:69ea0867180d5
DTSTAMP:20260423T115415Z
SUMMARY:KONKURADO: Dorfkernentwicklung Egolzwil\, Fragenbeantwortung ab 08.
 11.2025 - 25.02.2026
DESCRIPTION:Link zum Verfahren: https://konkurado.ch/en/dorfkernentwicklung
 -egolzwil
X-MICROSOFT-CDO-ALLDAYEVENT:TRUE
DTSTART;TZID=Europe/Zurich;VALUE=DATE:20260225
END:VEVENT
BEGIN:VEVENT
UID:69ea08671812e
DTSTAMP:20260423T115415Z
SUMMARY:KONKURADO: Dorfkernentwicklung Egolzwil\, Zwischenbesprechung 06.12
 .2025 - 06.12.2025
DESCRIPTION:Link zum Verfahren: https://konkurado.ch/en/dorfkernentwicklung
 -egolzwil
X-MICROSOFT-CDO-ALLDAYEVENT:TRUE
DTSTART;TZID=Europe/Zurich;VALUE=DATE:20251206
END:VEVENT
BEGIN:VEVENT
UID:69ea086718180
DTSTAMP:20260423T115415Z
SUMMARY:KONKURADO: Dorfkernentwicklung Egolzwil\, Zwischenbesprechung 06.12
 .2025 - 06.12.2025
DESCRIPTION:Link zum Verfahren: https://konkurado.ch/en/dorfkernentwicklung
 -egolzwil
X-MICROSOFT-CDO-ALLDAYEVENT:TRUE
DTSTART;TZID=Europe/Zurich;VALUE=DATE:20251206
END:VEVENT
BEGIN:VEVENT
UID:69ea0867181d8
DTSTAMP:20260423T115415Z
SUMMARY:KONKURADO: Dorfkernentwicklung Egolzwil\, Rückmeldung Zwischenbesp
 rechung bis 08.01.2026 - 08.01.2026
DESCRIPTION:Link zum Verfahren: https://konkurado.ch/en/dorfkernentwicklung
 -egolzwil
X-MICROSOFT-CDO-ALLDAYEVENT:TRUE
DTSTART;TZID=Europe/Zurich;VALUE=DATE:20260108
END:VEVENT
BEGIN:VEVENT
UID:69ea0867181fe
DTSTAMP:20260423T115415Z
SUMMARY:KONKURADO: Dorfkernentwicklung Egolzwil\, Rückmeldung Zwischenbesp
 rechung bis 08.01.2026 - 08.01.2026
DESCRIPTION:Link zum Verfahren: https://konkurado.ch/en/dorfkernentwicklung
 -egolzwil
X-MICROSOFT-CDO-ALLDAYEVENT:TRUE
DTSTART;TZID=Europe/Zurich;VALUE=DATE:20260108
END:VEVENT
BEGIN:VEVENT
UID:69ea086718250
DTSTAMP:20260423T115415Z
SUMMARY:KONKURADO: Dorfkernentwicklung Egolzwil\, Abgabe Modelle 21.10.2025
  - 11.03.2026
DESCRIPTION:Link zum Verfahren: https://konkurado.ch/en/dorfkernentwicklung
 -egolzwil
X-MICROSOFT-CDO-ALLDAYEVENT:TRUE
DTSTART;TZID=Europe/Zurich;VALUE=DATE:20251021
END:VEVENT
BEGIN:VEVENT
UID:69ea086718275
DTSTAMP:20260423T115415Z
SUMMARY:KONKURADO: Dorfkernentwicklung Egolzwil\, Abgabe Modelle 21.10.2025
  - 11.03.2026
DESCRIPTION:Link zum Verfahren: https://konkurado.ch/en/dorfkernentwicklung
 -egolzwil
X-MICROSOFT-CDO-ALLDAYEVENT:TRUE
DTSTART;TZID=Europe/Zurich;VALUE=DATE:20260311
END:VEVENT
END:VCALENDAR