BEGIN:VCALENDAR
VERSION:2.0
PRODID:spatie/icalendar-generator
NAME:Déconstruction\, reconstruction et réaménagements des espaces exté
 rieurs ensemble Gourgas Sainte-Clotilde
X-WR-CALNAME:Déconstruction\, reconstruction et réaménagements des espac
 es extérieurs ensemble Gourgas Sainte-Clotilde
BEGIN:VTIMEZONE
TZID:Europe/Zurich
BEGIN:STANDARD
DTSTART:20241027T030000
TZOFFSETFROM:+0200
TZOFFSETTO:+0100
END:STANDARD
BEGIN:DAYLIGHT
DTSTART:20250330T010000
TZOFFSETFROM:+0100
TZOFFSETTO:+0200
END:DAYLIGHT
BEGIN:STANDARD
DTSTART:20251026T030000
TZOFFSETFROM:+0200
TZOFFSETTO:+0100
END:STANDARD
BEGIN:DAYLIGHT
DTSTART:20260329T010000
TZOFFSETFROM:+0100
TZOFFSETTO:+0200
END:DAYLIGHT
END:VTIMEZONE
BEGIN:VTIMEZONE
TZID:UTC
BEGIN:STANDARD
DTSTART:20250727T120403
TZOFFSETFROM:+0000
TZOFFSETTO:+0000
END:STANDARD
END:VTIMEZONE
BEGIN:VEVENT
UID:69ea0ab3cc3a5
DTSTAMP:20260423T120403Z
SUMMARY:KONKURADO: Déconstruction\, reconstruction et réaménagements des
  espaces extérieurs ensemble Gourgas Sainte-Clotilde\, Einreichung Teilna
 hmeantrag bis 28.02.2025 - 28.03.2025
DESCRIPTION:Link zum Verfahren: https://konkurado.ch/en/deconstruction-reco
 nstruction-et-reamenagements-des-espaces-exterieurs-ensemble-Gourgas-Saint
 e-Clotilde
X-MICROSOFT-CDO-ALLDAYEVENT:TRUE
DTSTART;TZID=Europe/Zurich;VALUE=DATE:20250228
END:VEVENT
BEGIN:VEVENT
UID:69ea0ab3cc511
DTSTAMP:20260423T120403Z
SUMMARY:KONKURADO: Déconstruction\, reconstruction et réaménagements des
  espaces extérieurs ensemble Gourgas Sainte-Clotilde\, Einreichung Teilna
 hmeantrag bis 28.02.2025 - 28.03.2025
DESCRIPTION:Link zum Verfahren: https://konkurado.ch/en/deconstruction-reco
 nstruction-et-reamenagements-des-espaces-exterieurs-ensemble-Gourgas-Saint
 e-Clotilde
X-MICROSOFT-CDO-ALLDAYEVENT:TRUE
DTSTART;TZID=Europe/Zurich;VALUE=DATE:20250328
END:VEVENT
BEGIN:VEVENT
UID:69ea0ab3cc57d
DTSTAMP:20260423T120403Z
SUMMARY:KONKURADO: Déconstruction\, reconstruction et réaménagements des
  espaces extérieurs ensemble Gourgas Sainte-Clotilde\, Selektion 15.04.20
 25 - 16.04.2025
DESCRIPTION:Link zum Verfahren: https://konkurado.ch/en/deconstruction-reco
 nstruction-et-reamenagements-des-espaces-exterieurs-ensemble-Gourgas-Saint
 e-Clotilde
X-MICROSOFT-CDO-ALLDAYEVENT:TRUE
DTSTART;TZID=Europe/Zurich;VALUE=DATE:20250415
END:VEVENT
BEGIN:VEVENT
UID:69ea0ab3cc5a6
DTSTAMP:20260423T120403Z
SUMMARY:KONKURADO: Déconstruction\, reconstruction et réaménagements des
  espaces extérieurs ensemble Gourgas Sainte-Clotilde\, Selektion 15.04.20
 25 - 16.04.2025
DESCRIPTION:Link zum Verfahren: https://konkurado.ch/en/deconstruction-reco
 nstruction-et-reamenagements-des-espaces-exterieurs-ensemble-Gourgas-Saint
 e-Clotilde
X-MICROSOFT-CDO-ALLDAYEVENT:TRUE
DTSTART;TZID=Europe/Zurich;VALUE=DATE:20250416
END:VEVENT
BEGIN:VEVENT
UID:69ea0ab3cc71e
DTSTAMP:20260423T120403Z
SUMMARY:KONKURADO: Déconstruction\, reconstruction et réaménagements des
  espaces extérieurs ensemble Gourgas Sainte-Clotilde\, Versand der Selekt
 ionsverfügung 15.04.2025 - 16.04.2025
DESCRIPTION:Link zum Verfahren: https://konkurado.ch/en/deconstruction-reco
 nstruction-et-reamenagements-des-espaces-exterieurs-ensemble-Gourgas-Saint
 e-Clotilde
X-MICROSOFT-CDO-ALLDAYEVENT:TRUE
DTSTART;TZID=Europe/Zurich;VALUE=DATE:20250415
END:VEVENT
BEGIN:VEVENT
UID:69ea0ab3cc835
DTSTAMP:20260423T120403Z
SUMMARY:KONKURADO: Déconstruction\, reconstruction et réaménagements des
  espaces extérieurs ensemble Gourgas Sainte-Clotilde\, Versand der Selekt
 ionsverfügung 15.04.2025 - 16.04.2025
DESCRIPTION:Link zum Verfahren: https://konkurado.ch/en/deconstruction-reco
 nstruction-et-reamenagements-des-espaces-exterieurs-ensemble-Gourgas-Saint
 e-Clotilde
X-MICROSOFT-CDO-ALLDAYEVENT:TRUE
DTSTART;TZID=Europe/Zurich;VALUE=DATE:20250416
END:VEVENT
BEGIN:VEVENT
UID:69ea0ab3cc8b2
DTSTAMP:20260423T120403Z
SUMMARY:KONKURADO: Déconstruction\, reconstruction et réaménagements des
  espaces extérieurs ensemble Gourgas Sainte-Clotilde\, Teilnahmebestätig
 ung bis 28.04.2025 - 08.05.2025
DESCRIPTION:Link zum Verfahren: https://konkurado.ch/en/deconstruction-reco
 nstruction-et-reamenagements-des-espaces-exterieurs-ensemble-Gourgas-Saint
 e-Clotilde
X-MICROSOFT-CDO-ALLDAYEVENT:TRUE
DTSTART;TZID=Europe/Zurich;VALUE=DATE:20250428
END:VEVENT
BEGIN:VEVENT
UID:69ea0ab3cc8da
DTSTAMP:20260423T120403Z
SUMMARY:KONKURADO: Déconstruction\, reconstruction et réaménagements des
  espaces extérieurs ensemble Gourgas Sainte-Clotilde\, Teilnahmebestätig
 ung bis 28.04.2025 - 08.05.2025
DESCRIPTION:Link zum Verfahren: https://konkurado.ch/en/deconstruction-reco
 nstruction-et-reamenagements-des-espaces-exterieurs-ensemble-Gourgas-Saint
 e-Clotilde
X-MICROSOFT-CDO-ALLDAYEVENT:TRUE
DTSTART;TZID=Europe/Zurich;VALUE=DATE:20250508
END:VEVENT
BEGIN:VEVENT
UID:69ea0ab3cca6c
DTSTAMP:20260423T120403Z
SUMMARY:KONKURADO: Déconstruction\, reconstruction et réaménagements des
  espaces extérieurs ensemble Gourgas Sainte-Clotilde\, Begehung Gebäude 
 B884 und B885 16.05.2025 - 16.05.2025
DESCRIPTION:Link zum Verfahren: https://konkurado.ch/en/deconstruction-reco
 nstruction-et-reamenagements-des-espaces-exterieurs-ensemble-Gourgas-Saint
 e-Clotilde
X-MICROSOFT-CDO-ALLDAYEVENT:TRUE
DTSTART;TZID=Europe/Zurich;VALUE=DATE:20250516
END:VEVENT
BEGIN:VEVENT
UID:69ea0ab3cca96
DTSTAMP:20260423T120403Z
SUMMARY:KONKURADO: Déconstruction\, reconstruction et réaménagements des
  espaces extérieurs ensemble Gourgas Sainte-Clotilde\, Begehung Gebäude 
 B884 und B885 16.05.2025 - 16.05.2025
DESCRIPTION:Link zum Verfahren: https://konkurado.ch/en/deconstruction-reco
 nstruction-et-reamenagements-des-espaces-exterieurs-ensemble-Gourgas-Saint
 e-Clotilde
X-MICROSOFT-CDO-ALLDAYEVENT:TRUE
DTSTART;TZID=Europe/Zurich;VALUE=DATE:20250516
END:VEVENT
BEGIN:VEVENT
UID:69ea0ab3ccaf9
DTSTAMP:20260423T120403Z
SUMMARY:KONKURADO: Déconstruction\, reconstruction et réaménagements des
  espaces extérieurs ensemble Gourgas Sainte-Clotilde\, Ausgabe Unterlagen
  ab 12.05.2025 - 22.08.2025
DESCRIPTION:Link zum Verfahren: https://konkurado.ch/en/deconstruction-reco
 nstruction-et-reamenagements-des-espaces-exterieurs-ensemble-Gourgas-Saint
 e-Clotilde
X-MICROSOFT-CDO-ALLDAYEVENT:TRUE
DTSTART;TZID=Europe/Zurich;VALUE=DATE:20250512
END:VEVENT
BEGIN:VEVENT
UID:69ea0ab3ccb20
DTSTAMP:20260423T120403Z
SUMMARY:KONKURADO: Déconstruction\, reconstruction et réaménagements des
  espaces extérieurs ensemble Gourgas Sainte-Clotilde\, Ausgabe Unterlagen
  ab 12.05.2025 - 22.08.2025
DESCRIPTION:Link zum Verfahren: https://konkurado.ch/en/deconstruction-reco
 nstruction-et-reamenagements-des-espaces-exterieurs-ensemble-Gourgas-Saint
 e-Clotilde
X-MICROSOFT-CDO-ALLDAYEVENT:TRUE
DTSTART;TZID=Europe/Zurich;VALUE=DATE:20250822
END:VEVENT
BEGIN:VEVENT
UID:69ea0ab3cd1d4
DTSTAMP:20260423T120403Z
SUMMARY:KONKURADO: Déconstruction\, reconstruction et réaménagements des
  espaces extérieurs ensemble Gourgas Sainte-Clotilde\, Einreichung von Fr
 agen bis 12.05.2025 - 23.05.2025
DESCRIPTION:Link zum Verfahren: https://konkurado.ch/en/deconstruction-reco
 nstruction-et-reamenagements-des-espaces-exterieurs-ensemble-Gourgas-Saint
 e-Clotilde
X-MICROSOFT-CDO-ALLDAYEVENT:TRUE
DTSTART;TZID=Europe/Zurich;VALUE=DATE:20250512
END:VEVENT
BEGIN:VEVENT
UID:69ea0ab3cd225
DTSTAMP:20260423T120403Z
SUMMARY:KONKURADO: Déconstruction\, reconstruction et réaménagements des
  espaces extérieurs ensemble Gourgas Sainte-Clotilde\, Einreichung von Fr
 agen bis 12.05.2025 - 23.05.2025
DESCRIPTION:Link zum Verfahren: https://konkurado.ch/en/deconstruction-reco
 nstruction-et-reamenagements-des-espaces-exterieurs-ensemble-Gourgas-Saint
 e-Clotilde
X-MICROSOFT-CDO-ALLDAYEVENT:TRUE
DTSTART;TZID=Europe/Zurich;VALUE=DATE:20250523
END:VEVENT
BEGIN:VEVENT
UID:69ea0ab3cd2b8
DTSTAMP:20260423T120403Z
SUMMARY:KONKURADO: Déconstruction\, reconstruction et réaménagements des
  espaces extérieurs ensemble Gourgas Sainte-Clotilde\, Fragenbeantwortung
  ab 24.05.2025 - 06.06.2025
DESCRIPTION:Link zum Verfahren: https://konkurado.ch/en/deconstruction-reco
 nstruction-et-reamenagements-des-espaces-exterieurs-ensemble-Gourgas-Saint
 e-Clotilde
X-MICROSOFT-CDO-ALLDAYEVENT:TRUE
DTSTART;TZID=Europe/Zurich;VALUE=DATE:20250524
END:VEVENT
BEGIN:VEVENT
UID:69ea0ab3cd2e8
DTSTAMP:20260423T120403Z
SUMMARY:KONKURADO: Déconstruction\, reconstruction et réaménagements des
  espaces extérieurs ensemble Gourgas Sainte-Clotilde\, Fragenbeantwortung
  ab 24.05.2025 - 06.06.2025
DESCRIPTION:Link zum Verfahren: https://konkurado.ch/en/deconstruction-reco
 nstruction-et-reamenagements-des-espaces-exterieurs-ensemble-Gourgas-Saint
 e-Clotilde
X-MICROSOFT-CDO-ALLDAYEVENT:TRUE
DTSTART;TZID=Europe/Zurich;VALUE=DATE:20250606
END:VEVENT
BEGIN:VEVENT
UID:69ea0ab3cd35c
DTSTAMP:20260423T120403Z
SUMMARY:KONKURADO: Déconstruction\, reconstruction et réaménagements des
  espaces extérieurs ensemble Gourgas Sainte-Clotilde\, Zwischenbesprechun
 g am Modell 03.07.2025 - 03.07.2025
DESCRIPTION:Link zum Verfahren: https://konkurado.ch/en/deconstruction-reco
 nstruction-et-reamenagements-des-espaces-exterieurs-ensemble-Gourgas-Saint
 e-Clotilde
X-MICROSOFT-CDO-ALLDAYEVENT:TRUE
DTSTART;TZID=Europe/Zurich;VALUE=DATE:20250703
END:VEVENT
BEGIN:VEVENT
UID:69ea0ab3cd389
DTSTAMP:20260423T120403Z
SUMMARY:KONKURADO: Déconstruction\, reconstruction et réaménagements des
  espaces extérieurs ensemble Gourgas Sainte-Clotilde\, Zwischenbesprechun
 g am Modell 03.07.2025 - 03.07.2025
DESCRIPTION:Link zum Verfahren: https://konkurado.ch/en/deconstruction-reco
 nstruction-et-reamenagements-des-espaces-exterieurs-ensemble-Gourgas-Saint
 e-Clotilde
X-MICROSOFT-CDO-ALLDAYEVENT:TRUE
DTSTART;TZID=Europe/Zurich;VALUE=DATE:20250703
END:VEVENT
BEGIN:VEVENT
UID:69ea0ab3cd3cd
DTSTAMP:20260423T120403Z
SUMMARY:KONKURADO: Déconstruction\, reconstruction et réaménagements des
  espaces extérieurs ensemble Gourgas Sainte-Clotilde\, Abgabe Studien bis
  12.05.2025 - 22.08.2025
DESCRIPTION:Link zum Verfahren: https://konkurado.ch/en/deconstruction-reco
 nstruction-et-reamenagements-des-espaces-exterieurs-ensemble-Gourgas-Saint
 e-Clotilde
X-MICROSOFT-CDO-ALLDAYEVENT:TRUE
DTSTART;TZID=Europe/Zurich;VALUE=DATE:20250512
END:VEVENT
BEGIN:VEVENT
UID:69ea0ab3cd3f4
DTSTAMP:20260423T120403Z
SUMMARY:KONKURADO: Déconstruction\, reconstruction et réaménagements des
  espaces extérieurs ensemble Gourgas Sainte-Clotilde\, Abgabe Studien bis
  12.05.2025 - 22.08.2025
DESCRIPTION:Link zum Verfahren: https://konkurado.ch/en/deconstruction-reco
 nstruction-et-reamenagements-des-espaces-exterieurs-ensemble-Gourgas-Saint
 e-Clotilde
X-MICROSOFT-CDO-ALLDAYEVENT:TRUE
DTSTART;TZID=Europe/Zurich;VALUE=DATE:20250822
END:VEVENT
BEGIN:VEVENT
UID:69ea0ab3cd44b
DTSTAMP:20260423T120403Z
SUMMARY:KONKURADO: Déconstruction\, reconstruction et réaménagements des
  espaces extérieurs ensemble Gourgas Sainte-Clotilde\, Schlussbesprechung
  und Modellabgabe 28.08.2025 - 28.08.2025
DESCRIPTION:Link zum Verfahren: https://konkurado.ch/en/deconstruction-reco
 nstruction-et-reamenagements-des-espaces-exterieurs-ensemble-Gourgas-Saint
 e-Clotilde
X-MICROSOFT-CDO-ALLDAYEVENT:TRUE
DTSTART;TZID=Europe/Zurich;VALUE=DATE:20250828
END:VEVENT
BEGIN:VEVENT
UID:69ea0ab3cd473
DTSTAMP:20260423T120403Z
SUMMARY:KONKURADO: Déconstruction\, reconstruction et réaménagements des
  espaces extérieurs ensemble Gourgas Sainte-Clotilde\, Schlussbesprechung
  und Modellabgabe 28.08.2025 - 28.08.2025
DESCRIPTION:Link zum Verfahren: https://konkurado.ch/en/deconstruction-reco
 nstruction-et-reamenagements-des-espaces-exterieurs-ensemble-Gourgas-Saint
 e-Clotilde
X-MICROSOFT-CDO-ALLDAYEVENT:TRUE
DTSTART;TZID=Europe/Zurich;VALUE=DATE:20250828
END:VEVENT
BEGIN:VEVENT
UID:69ea0ab3cd4b1
DTSTAMP:20260423T120403Z
SUMMARY:KONKURADO: Déconstruction\, reconstruction et réaménagements des
  espaces extérieurs ensemble Gourgas Sainte-Clotilde\, Beurteilung Studie
 n 29.08.2025 - 29.08.2025
DESCRIPTION:Link zum Verfahren: https://konkurado.ch/en/deconstruction-reco
 nstruction-et-reamenagements-des-espaces-exterieurs-ensemble-Gourgas-Saint
 e-Clotilde
X-MICROSOFT-CDO-ALLDAYEVENT:TRUE
DTSTART;TZID=Europe/Zurich;VALUE=DATE:20250829
END:VEVENT
BEGIN:VEVENT
UID:69ea0ab3cd4d6
DTSTAMP:20260423T120403Z
SUMMARY:KONKURADO: Déconstruction\, reconstruction et réaménagements des
  espaces extérieurs ensemble Gourgas Sainte-Clotilde\, Beurteilung Studie
 n 29.08.2025 - 29.08.2025
DESCRIPTION:Link zum Verfahren: https://konkurado.ch/en/deconstruction-reco
 nstruction-et-reamenagements-des-espaces-exterieurs-ensemble-Gourgas-Saint
 e-Clotilde
X-MICROSOFT-CDO-ALLDAYEVENT:TRUE
DTSTART;TZID=Europe/Zurich;VALUE=DATE:20250829
END:VEVENT
BEGIN:VEVENT
UID:69ea0ab3cd52b
DTSTAMP:20260423T120403Z
SUMMARY:KONKURADO: Déconstruction\, reconstruction et réaménagements des
  espaces extérieurs ensemble Gourgas Sainte-Clotilde\, Versand Bericht de
 s Beurteilungsgremiums 10.09.2025 - 10.09.2025
DESCRIPTION:Link zum Verfahren: https://konkurado.ch/en/deconstruction-reco
 nstruction-et-reamenagements-des-espaces-exterieurs-ensemble-Gourgas-Saint
 e-Clotilde
X-MICROSOFT-CDO-ALLDAYEVENT:TRUE
DTSTART;TZID=Europe/Zurich;VALUE=DATE:20250910
END:VEVENT
BEGIN:VEVENT
UID:69ea0ab3cd551
DTSTAMP:20260423T120403Z
SUMMARY:KONKURADO: Déconstruction\, reconstruction et réaménagements des
  espaces extérieurs ensemble Gourgas Sainte-Clotilde\, Versand Bericht de
 s Beurteilungsgremiums 10.09.2025 - 10.09.2025
DESCRIPTION:Link zum Verfahren: https://konkurado.ch/en/deconstruction-reco
 nstruction-et-reamenagements-des-espaces-exterieurs-ensemble-Gourgas-Saint
 e-Clotilde
X-MICROSOFT-CDO-ALLDAYEVENT:TRUE
DTSTART;TZID=Europe/Zurich;VALUE=DATE:20250910
END:VEVENT
BEGIN:VEVENT
UID:69ea0ab3cd583
DTSTAMP:20260423T120403Z
SUMMARY:KONKURADO: Déconstruction\, reconstruction et réaménagements des
  espaces extérieurs ensemble Gourgas Sainte-Clotilde\, Einreichung von Fr
 agen bis 10.09.2025 - 17.09.2025
DESCRIPTION:Link zum Verfahren: https://konkurado.ch/en/deconstruction-reco
 nstruction-et-reamenagements-des-espaces-exterieurs-ensemble-Gourgas-Saint
 e-Clotilde
X-MICROSOFT-CDO-ALLDAYEVENT:TRUE
DTSTART;TZID=Europe/Zurich;VALUE=DATE:20250910
END:VEVENT
BEGIN:VEVENT
UID:69ea0ab3cd5a9
DTSTAMP:20260423T120403Z
SUMMARY:KONKURADO: Déconstruction\, reconstruction et réaménagements des
  espaces extérieurs ensemble Gourgas Sainte-Clotilde\, Einreichung von Fr
 agen bis 10.09.2025 - 17.09.2025
DESCRIPTION:Link zum Verfahren: https://konkurado.ch/en/deconstruction-reco
 nstruction-et-reamenagements-des-espaces-exterieurs-ensemble-Gourgas-Saint
 e-Clotilde
X-MICROSOFT-CDO-ALLDAYEVENT:TRUE
DTSTART;TZID=Europe/Zurich;VALUE=DATE:20250917
END:VEVENT
BEGIN:VEVENT
UID:69ea0ab3cd5fb
DTSTAMP:20260423T120403Z
SUMMARY:KONKURADO: Déconstruction\, reconstruction et réaménagements des
  espaces extérieurs ensemble Gourgas Sainte-Clotilde\, Fragenbeantwortung
  ab 18.09.2025 - 26.09.2025
DESCRIPTION:Link zum Verfahren: https://konkurado.ch/en/deconstruction-reco
 nstruction-et-reamenagements-des-espaces-exterieurs-ensemble-Gourgas-Saint
 e-Clotilde
X-MICROSOFT-CDO-ALLDAYEVENT:TRUE
DTSTART;TZID=Europe/Zurich;VALUE=DATE:20250918
END:VEVENT
BEGIN:VEVENT
UID:69ea0ab3cd621
DTSTAMP:20260423T120403Z
SUMMARY:KONKURADO: Déconstruction\, reconstruction et réaménagements des
  espaces extérieurs ensemble Gourgas Sainte-Clotilde\, Fragenbeantwortung
  ab 18.09.2025 - 26.09.2025
DESCRIPTION:Link zum Verfahren: https://konkurado.ch/en/deconstruction-reco
 nstruction-et-reamenagements-des-espaces-exterieurs-ensemble-Gourgas-Saint
 e-Clotilde
X-MICROSOFT-CDO-ALLDAYEVENT:TRUE
DTSTART;TZID=Europe/Zurich;VALUE=DATE:20250926
END:VEVENT
BEGIN:VEVENT
UID:69ea0ab3cd674
DTSTAMP:20260423T120403Z
SUMMARY:KONKURADO: Déconstruction\, reconstruction et réaménagements des
  espaces extérieurs ensemble Gourgas Sainte-Clotilde\, Zwischenbesprechun
 g am Modell 17.10.2025 - 17.10.2025
DESCRIPTION:Link zum Verfahren: https://konkurado.ch/en/deconstruction-reco
 nstruction-et-reamenagements-des-espaces-exterieurs-ensemble-Gourgas-Saint
 e-Clotilde
X-MICROSOFT-CDO-ALLDAYEVENT:TRUE
DTSTART;TZID=Europe/Zurich;VALUE=DATE:20251017
END:VEVENT
BEGIN:VEVENT
UID:69ea0ab3cd699
DTSTAMP:20260423T120403Z
SUMMARY:KONKURADO: Déconstruction\, reconstruction et réaménagements des
  espaces extérieurs ensemble Gourgas Sainte-Clotilde\, Zwischenbesprechun
 g am Modell 17.10.2025 - 17.10.2025
DESCRIPTION:Link zum Verfahren: https://konkurado.ch/en/deconstruction-reco
 nstruction-et-reamenagements-des-espaces-exterieurs-ensemble-Gourgas-Saint
 e-Clotilde
X-MICROSOFT-CDO-ALLDAYEVENT:TRUE
DTSTART;TZID=Europe/Zurich;VALUE=DATE:20251017
END:VEVENT
BEGIN:VEVENT
UID:69ea0ab3cd6c8
DTSTAMP:20260423T120403Z
SUMMARY:KONKURADO: Déconstruction\, reconstruction et réaménagements des
  espaces extérieurs ensemble Gourgas Sainte-Clotilde\, Abgabe Studien 10.
 09.2025 - 07.11.2025
DESCRIPTION:Link zum Verfahren: https://konkurado.ch/en/deconstruction-reco
 nstruction-et-reamenagements-des-espaces-exterieurs-ensemble-Gourgas-Saint
 e-Clotilde
X-MICROSOFT-CDO-ALLDAYEVENT:TRUE
DTSTART;TZID=Europe/Zurich;VALUE=DATE:20250910
END:VEVENT
BEGIN:VEVENT
UID:69ea0ab3cd6ec
DTSTAMP:20260423T120403Z
SUMMARY:KONKURADO: Déconstruction\, reconstruction et réaménagements des
  espaces extérieurs ensemble Gourgas Sainte-Clotilde\, Abgabe Studien 10.
 09.2025 - 07.11.2025
DESCRIPTION:Link zum Verfahren: https://konkurado.ch/en/deconstruction-reco
 nstruction-et-reamenagements-des-espaces-exterieurs-ensemble-Gourgas-Saint
 e-Clotilde
X-MICROSOFT-CDO-ALLDAYEVENT:TRUE
DTSTART;TZID=Europe/Zurich;VALUE=DATE:20251107
END:VEVENT
BEGIN:VEVENT
UID:69ea0ab3cd73e
DTSTAMP:20260423T120403Z
SUMMARY:KONKURADO: Déconstruction\, reconstruction et réaménagements des
  espaces extérieurs ensemble Gourgas Sainte-Clotilde\, Abgabe Modell 10.0
 9.2025 - 17.11.2025
DESCRIPTION:Link zum Verfahren: https://konkurado.ch/en/deconstruction-reco
 nstruction-et-reamenagements-des-espaces-exterieurs-ensemble-Gourgas-Saint
 e-Clotilde
X-MICROSOFT-CDO-ALLDAYEVENT:TRUE
DTSTART;TZID=Europe/Zurich;VALUE=DATE:20250910
END:VEVENT
BEGIN:VEVENT
UID:69ea0ab3cd764
DTSTAMP:20260423T120403Z
SUMMARY:KONKURADO: Déconstruction\, reconstruction et réaménagements des
  espaces extérieurs ensemble Gourgas Sainte-Clotilde\, Abgabe Modell 10.0
 9.2025 - 17.11.2025
DESCRIPTION:Link zum Verfahren: https://konkurado.ch/en/deconstruction-reco
 nstruction-et-reamenagements-des-espaces-exterieurs-ensemble-Gourgas-Saint
 e-Clotilde
X-MICROSOFT-CDO-ALLDAYEVENT:TRUE
DTSTART;TZID=Europe/Zurich;VALUE=DATE:20251117
END:VEVENT
BEGIN:VEVENT
UID:69ea0ab3cd79b
DTSTAMP:20260423T120403Z
SUMMARY:KONKURADO: Déconstruction\, reconstruction et réaménagements des
  espaces extérieurs ensemble Gourgas Sainte-Clotilde\, Beurteilung Studie
 n 21.11.2025 - 21.11.2025
DESCRIPTION:Link zum Verfahren: https://konkurado.ch/en/deconstruction-reco
 nstruction-et-reamenagements-des-espaces-exterieurs-ensemble-Gourgas-Saint
 e-Clotilde
X-MICROSOFT-CDO-ALLDAYEVENT:TRUE
DTSTART;TZID=Europe/Zurich;VALUE=DATE:20251121
END:VEVENT
BEGIN:VEVENT
UID:69ea0ab3cd7bf
DTSTAMP:20260423T120403Z
SUMMARY:KONKURADO: Déconstruction\, reconstruction et réaménagements des
  espaces extérieurs ensemble Gourgas Sainte-Clotilde\, Beurteilung Studie
 n 21.11.2025 - 21.11.2025
DESCRIPTION:Link zum Verfahren: https://konkurado.ch/en/deconstruction-reco
 nstruction-et-reamenagements-des-espaces-exterieurs-ensemble-Gourgas-Saint
 e-Clotilde
X-MICROSOFT-CDO-ALLDAYEVENT:TRUE
DTSTART;TZID=Europe/Zurich;VALUE=DATE:20251121
END:VEVENT
BEGIN:VEVENT
UID:69ea0ab3cd811
DTSTAMP:20260423T120403Z
SUMMARY:KONKURADO: Déconstruction\, reconstruction et réaménagements des
  espaces extérieurs ensemble Gourgas Sainte-Clotilde\, Bericht des Beurte
 ilungsgremiums 12.12.2025 - 12.12.2025
DESCRIPTION:Link zum Verfahren: https://konkurado.ch/en/deconstruction-reco
 nstruction-et-reamenagements-des-espaces-exterieurs-ensemble-Gourgas-Saint
 e-Clotilde
X-MICROSOFT-CDO-ALLDAYEVENT:TRUE
DTSTART;TZID=Europe/Zurich;VALUE=DATE:20251212
END:VEVENT
BEGIN:VEVENT
UID:69ea0ab3cd837
DTSTAMP:20260423T120403Z
SUMMARY:KONKURADO: Déconstruction\, reconstruction et réaménagements des
  espaces extérieurs ensemble Gourgas Sainte-Clotilde\, Bericht des Beurte
 ilungsgremiums 12.12.2025 - 12.12.2025
DESCRIPTION:Link zum Verfahren: https://konkurado.ch/en/deconstruction-reco
 nstruction-et-reamenagements-des-espaces-exterieurs-ensemble-Gourgas-Saint
 e-Clotilde
X-MICROSOFT-CDO-ALLDAYEVENT:TRUE
DTSTART;TZID=Europe/Zurich;VALUE=DATE:20251212
END:VEVENT
END:VCALENDAR