BEGIN:VCALENDAR
VERSION:2.0
PRODID:spatie/icalendar-generator
NAME:Courtepin - Raccordement de la STEP de Villarepos à l'AESC - Planific
 ateur général
X-WR-CALNAME:Courtepin - Raccordement de la STEP de Villarepos à l'AESC - 
 Planificateur général
BEGIN:VTIMEZONE
TZID:Europe/Zurich
BEGIN:STANDARD
DTSTART:20251026T030000
TZOFFSETFROM:+0200
TZOFFSETTO:+0100
END:STANDARD
BEGIN:DAYLIGHT
DTSTART:20260329T010000
TZOFFSETFROM:+0100
TZOFFSETTO:+0200
END:DAYLIGHT
BEGIN:STANDARD
DTSTART:20261025T030000
TZOFFSETFROM:+0200
TZOFFSETTO:+0100
END:STANDARD
END:VTIMEZONE
BEGIN:VTIMEZONE
TZID:UTC
BEGIN:STANDARD
DTSTART:20250727T101838
TZOFFSETFROM:+0000
TZOFFSETTO:+0000
END:STANDARD
END:VTIMEZONE
BEGIN:VEVENT
UID:69e9f1feb9926
DTSTAMP:20260423T101838Z
SUMMARY:KONKURADO: Courtepin - Raccordement de la STEP de Villarepos à l'A
 ESC - Planificateur général\, Session de questions\, soumettre avant 13.
 04.2026 - 13.04.2026
DESCRIPTION:Link zum Verfahren: https://konkurado.ch/en/courtepin-raccordem
 ent-de-la-step-de-villarepos-a-laesc-planificateur-general
X-MICROSOFT-CDO-ALLDAYEVENT:TRUE
DTSTART;TZID=Europe/Zurich;VALUE=DATE:20260413
END:VEVENT
BEGIN:VEVENT
UID:69e9f1feb999e
DTSTAMP:20260423T101838Z
SUMMARY:KONKURADO: Courtepin - Raccordement de la STEP de Villarepos à l'A
 ESC - Planificateur général\, Session de questions\, soumettre avant 13.
 04.2026 - 13.04.2026
DESCRIPTION:Link zum Verfahren: https://konkurado.ch/en/courtepin-raccordem
 ent-de-la-step-de-villarepos-a-laesc-planificateur-general
X-MICROSOFT-CDO-ALLDAYEVENT:TRUE
DTSTART;TZID=Europe/Zurich;VALUE=DATE:20260413
END:VEVENT
BEGIN:VEVENT
UID:69e9f1feb9a54
DTSTAMP:20260423T101838Z
SUMMARY:KONKURADO: Courtepin - Raccordement de la STEP de Villarepos à l'A
 ESC - Planificateur général\, Soumission des offres jusqu’au 15.05.202
 6 - 15.05.2026
DESCRIPTION:Link zum Verfahren: https://konkurado.ch/en/courtepin-raccordem
 ent-de-la-step-de-villarepos-a-laesc-planificateur-general
X-MICROSOFT-CDO-ALLDAYEVENT:TRUE
DTSTART;TZID=Europe/Zurich;VALUE=DATE:20260515
END:VEVENT
BEGIN:VEVENT
UID:69e9f1feb9a7e
DTSTAMP:20260423T101838Z
SUMMARY:KONKURADO: Courtepin - Raccordement de la STEP de Villarepos à l'A
 ESC - Planificateur général\, Soumission des offres jusqu’au 15.05.202
 6 - 15.05.2026
DESCRIPTION:Link zum Verfahren: https://konkurado.ch/en/courtepin-raccordem
 ent-de-la-step-de-villarepos-a-laesc-planificateur-general
X-MICROSOFT-CDO-ALLDAYEVENT:TRUE
DTSTART;TZID=Europe/Zurich;VALUE=DATE:20260515
END:VEVENT
BEGIN:VEVENT
UID:69e9f1feb9ae1
DTSTAMP:20260423T101838Z
SUMMARY:KONKURADO: Courtepin - Raccordement de la STEP de Villarepos à l'A
 ESC - Planificateur général\, Disponibilité des documents d’appel d
 ’offres 30.03.2026 - 15.05.2026
DESCRIPTION:Link zum Verfahren: https://konkurado.ch/en/courtepin-raccordem
 ent-de-la-step-de-villarepos-a-laesc-planificateur-general
X-MICROSOFT-CDO-ALLDAYEVENT:TRUE
DTSTART;TZID=Europe/Zurich;VALUE=DATE:20260330
END:VEVENT
BEGIN:VEVENT
UID:69e9f1feb9b08
DTSTAMP:20260423T101838Z
SUMMARY:KONKURADO: Courtepin - Raccordement de la STEP de Villarepos à l'A
 ESC - Planificateur général\, Disponibilité des documents d’appel d
 ’offres 30.03.2026 - 15.05.2026
DESCRIPTION:Link zum Verfahren: https://konkurado.ch/en/courtepin-raccordem
 ent-de-la-step-de-villarepos-a-laesc-planificateur-general
X-MICROSOFT-CDO-ALLDAYEVENT:TRUE
DTSTART;TZID=Europe/Zurich;VALUE=DATE:20260515
END:VEVENT
END:VCALENDAR