BEGIN:VCALENDAR
VERSION:2.0
PRODID:spatie/icalendar-generator
NAME:Construction d'une salle de sport triple et d'un centre de natation à
  Châtel-St-Denis
X-WR-CALNAME:Construction d'une salle de sport triple et d'un centre de nat
 ation à Châtel-St-Denis
BEGIN:VTIMEZONE
TZID:Europe/Zurich
BEGIN:STANDARD
DTSTART:20241027T030000
TZOFFSETFROM:+0200
TZOFFSETTO:+0100
END:STANDARD
BEGIN:DAYLIGHT
DTSTART:20250330T010000
TZOFFSETFROM:+0100
TZOFFSETTO:+0200
END:DAYLIGHT
BEGIN:STANDARD
DTSTART:20251026T030000
TZOFFSETFROM:+0200
TZOFFSETTO:+0100
END:STANDARD
END:VTIMEZONE
BEGIN:VTIMEZONE
TZID:UTC
BEGIN:STANDARD
DTSTART:20250727T120149
TZOFFSETFROM:+0000
TZOFFSETTO:+0000
END:STANDARD
END:VTIMEZONE
BEGIN:VEVENT
UID:69ea0a2df3cec
DTSTAMP:20260423T120149Z
SUMMARY:KONKURADO: Construction d'une salle de sport triple et d'un centre 
 de natation à Châtel-St-Denis\, Anmeldung ab 07.02.2025 - 30.05.2025
DESCRIPTION:Link zum Verfahren: https://konkurado.ch/en/construction-dune-s
 alle-de-sport-triple-et-dun-centre-de-natation-a-chatel-st-denis
X-MICROSOFT-CDO-ALLDAYEVENT:TRUE
DTSTART;TZID=Europe/Zurich;VALUE=DATE:20250207
END:VEVENT
BEGIN:VEVENT
UID:69ea0a2df3d7e
DTSTAMP:20260423T120149Z
SUMMARY:KONKURADO: Construction d'une salle de sport triple et d'un centre 
 de natation à Châtel-St-Denis\, Anmeldung ab 07.02.2025 - 30.05.2025
DESCRIPTION:Link zum Verfahren: https://konkurado.ch/en/construction-dune-s
 alle-de-sport-triple-et-dun-centre-de-natation-a-chatel-st-denis
X-MICROSOFT-CDO-ALLDAYEVENT:TRUE
DTSTART;TZID=Europe/Zurich;VALUE=DATE:20250530
END:VEVENT
BEGIN:VEVENT
UID:69ea0a2df3ef3
DTSTAMP:20260423T120149Z
SUMMARY:KONKURADO: Construction d'une salle de sport triple et d'un centre 
 de natation à Châtel-St-Denis\, Publikation der Unterlagen 13.02.2025 - 
 14.02.2025
DESCRIPTION:Link zum Verfahren: https://konkurado.ch/en/construction-dune-s
 alle-de-sport-triple-et-dun-centre-de-natation-a-chatel-st-denis
X-MICROSOFT-CDO-ALLDAYEVENT:TRUE
DTSTART;TZID=Europe/Zurich;VALUE=DATE:20250213
END:VEVENT
BEGIN:VEVENT
UID:69ea0a2df3f35
DTSTAMP:20260423T120149Z
SUMMARY:KONKURADO: Construction d'une salle de sport triple et d'un centre 
 de natation à Châtel-St-Denis\, Publikation der Unterlagen 13.02.2025 - 
 14.02.2025
DESCRIPTION:Link zum Verfahren: https://konkurado.ch/en/construction-dune-s
 alle-de-sport-triple-et-dun-centre-de-natation-a-chatel-st-denis
X-MICROSOFT-CDO-ALLDAYEVENT:TRUE
DTSTART;TZID=Europe/Zurich;VALUE=DATE:20250214
END:VEVENT
BEGIN:VEVENT
UID:69ea0a2df3f8a
DTSTAMP:20260423T120149Z
SUMMARY:KONKURADO: Construction d'une salle de sport triple et d'un centre 
 de natation à Châtel-St-Denis\, Fragerunde bis 07.02.2025 - 21.02.2025
DESCRIPTION:Link zum Verfahren: https://konkurado.ch/en/construction-dune-s
 alle-de-sport-triple-et-dun-centre-de-natation-a-chatel-st-denis
X-MICROSOFT-CDO-ALLDAYEVENT:TRUE
DTSTART;TZID=Europe/Zurich;VALUE=DATE:20250207
END:VEVENT
BEGIN:VEVENT
UID:69ea0a2df3fc6
DTSTAMP:20260423T120149Z
SUMMARY:KONKURADO: Construction d'une salle de sport triple et d'un centre 
 de natation à Châtel-St-Denis\, Fragerunde bis 07.02.2025 - 21.02.2025
DESCRIPTION:Link zum Verfahren: https://konkurado.ch/en/construction-dune-s
 alle-de-sport-triple-et-dun-centre-de-natation-a-chatel-st-denis
X-MICROSOFT-CDO-ALLDAYEVENT:TRUE
DTSTART;TZID=Europe/Zurich;VALUE=DATE:20250221
END:VEVENT
BEGIN:VEVENT
UID:69ea0a2df4017
DTSTAMP:20260423T120149Z
SUMMARY:KONKURADO: Construction d'une salle de sport triple et d'un centre 
 de natation à Châtel-St-Denis\, Projektabgabe bis 07.02.2025 - 30.05.202
 5
DESCRIPTION:Link zum Verfahren: https://konkurado.ch/en/construction-dune-s
 alle-de-sport-triple-et-dun-centre-de-natation-a-chatel-st-denis
X-MICROSOFT-CDO-ALLDAYEVENT:TRUE
DTSTART;TZID=Europe/Zurich;VALUE=DATE:20250207
END:VEVENT
BEGIN:VEVENT
UID:69ea0a2df4054
DTSTAMP:20260423T120149Z
SUMMARY:KONKURADO: Construction d'une salle de sport triple et d'un centre 
 de natation à Châtel-St-Denis\, Projektabgabe bis 07.02.2025 - 30.05.202
 5
DESCRIPTION:Link zum Verfahren: https://konkurado.ch/en/construction-dune-s
 alle-de-sport-triple-et-dun-centre-de-natation-a-chatel-st-denis
X-MICROSOFT-CDO-ALLDAYEVENT:TRUE
DTSTART;TZID=Europe/Zurich;VALUE=DATE:20250530
END:VEVENT
BEGIN:VEVENT
UID:69ea0a2df40e1
DTSTAMP:20260423T120149Z
SUMMARY:KONKURADO: Construction d'une salle de sport triple et d'un centre 
 de natation à Châtel-St-Denis\, Modellausgabe ab 07.02.2025 - 13.06.2025
DESCRIPTION:Link zum Verfahren: https://konkurado.ch/en/construction-dune-s
 alle-de-sport-triple-et-dun-centre-de-natation-a-chatel-st-denis
X-MICROSOFT-CDO-ALLDAYEVENT:TRUE
DTSTART;TZID=Europe/Zurich;VALUE=DATE:20250207
END:VEVENT
BEGIN:VEVENT
UID:69ea0a2df411f
DTSTAMP:20260423T120149Z
SUMMARY:KONKURADO: Construction d'une salle de sport triple et d'un centre 
 de natation à Châtel-St-Denis\, Modellausgabe ab 07.02.2025 - 13.06.2025
DESCRIPTION:Link zum Verfahren: https://konkurado.ch/en/construction-dune-s
 alle-de-sport-triple-et-dun-centre-de-natation-a-chatel-st-denis
X-MICROSOFT-CDO-ALLDAYEVENT:TRUE
DTSTART;TZID=Europe/Zurich;VALUE=DATE:20250613
END:VEVENT
BEGIN:VEVENT
UID:69ea0a2e0021b
DTSTAMP:20260423T120150Z
SUMMARY:KONKURADO: Construction d'une salle de sport triple et d'un centre 
 de natation à Châtel-St-Denis\, Fragenbeantwortung 22.02.2025 - 28.02.20
 25
DESCRIPTION:Link zum Verfahren: https://konkurado.ch/en/construction-dune-s
 alle-de-sport-triple-et-dun-centre-de-natation-a-chatel-st-denis
X-MICROSOFT-CDO-ALLDAYEVENT:TRUE
DTSTART;TZID=Europe/Zurich;VALUE=DATE:20250222
END:VEVENT
BEGIN:VEVENT
UID:69ea0a2e0024c
DTSTAMP:20260423T120150Z
SUMMARY:KONKURADO: Construction d'une salle de sport triple et d'un centre 
 de natation à Châtel-St-Denis\, Fragenbeantwortung 22.02.2025 - 28.02.20
 25
DESCRIPTION:Link zum Verfahren: https://konkurado.ch/en/construction-dune-s
 alle-de-sport-triple-et-dun-centre-de-natation-a-chatel-st-denis
X-MICROSOFT-CDO-ALLDAYEVENT:TRUE
DTSTART;TZID=Europe/Zurich;VALUE=DATE:20250228
END:VEVENT
BEGIN:VEVENT
UID:69ea0a2e002c9
DTSTAMP:20260423T120150Z
SUMMARY:KONKURADO: Construction d'une salle de sport triple et d'un centre 
 de natation à Châtel-St-Denis\, Modellabgabe bis 07.02.2025 - 13.06.2025
DESCRIPTION:Link zum Verfahren: https://konkurado.ch/en/construction-dune-s
 alle-de-sport-triple-et-dun-centre-de-natation-a-chatel-st-denis
X-MICROSOFT-CDO-ALLDAYEVENT:TRUE
DTSTART;TZID=Europe/Zurich;VALUE=DATE:20250207
END:VEVENT
BEGIN:VEVENT
UID:69ea0a2e002f8
DTSTAMP:20260423T120150Z
SUMMARY:KONKURADO: Construction d'une salle de sport triple et d'un centre 
 de natation à Châtel-St-Denis\, Modellabgabe bis 07.02.2025 - 13.06.2025
DESCRIPTION:Link zum Verfahren: https://konkurado.ch/en/construction-dune-s
 alle-de-sport-triple-et-dun-centre-de-natation-a-chatel-st-denis
X-MICROSOFT-CDO-ALLDAYEVENT:TRUE
DTSTART;TZID=Europe/Zurich;VALUE=DATE:20250613
END:VEVENT
BEGIN:VEVENT
UID:69ea0a2e00356
DTSTAMP:20260423T120150Z
SUMMARY:KONKURADO: Construction d'une salle de sport triple et d'un centre 
 de natation à Châtel-St-Denis\, Vernissage 21.08.2025 - 21.08.2025
DESCRIPTION:Link zum Verfahren: https://konkurado.ch/en/construction-dune-s
 alle-de-sport-triple-et-dun-centre-de-natation-a-chatel-st-denis
X-MICROSOFT-CDO-ALLDAYEVENT:TRUE
DTSTART;TZID=Europe/Zurich;VALUE=DATE:20250821
END:VEVENT
BEGIN:VEVENT
UID:69ea0a2e0037c
DTSTAMP:20260423T120150Z
SUMMARY:KONKURADO: Construction d'une salle de sport triple et d'un centre 
 de natation à Châtel-St-Denis\, Vernissage 21.08.2025 - 21.08.2025
DESCRIPTION:Link zum Verfahren: https://konkurado.ch/en/construction-dune-s
 alle-de-sport-triple-et-dun-centre-de-natation-a-chatel-st-denis
X-MICROSOFT-CDO-ALLDAYEVENT:TRUE
DTSTART;TZID=Europe/Zurich;VALUE=DATE:20250821
END:VEVENT
END:VCALENDAR