BEGIN:VCALENDAR
VERSION:2.0
PRODID:spatie/icalendar-generator
NAME:CONSTRUCTION DE LA MAISON DE LA CULTURE ET DE LA MUSIQUE_MCM - CHÊNE-
 BOUGERIES (GE)
X-WR-CALNAME:CONSTRUCTION DE LA MAISON DE LA CULTURE ET DE LA MUSIQUE_MCM -
  CHÊNE-BOUGERIES (GE)
BEGIN:VTIMEZONE
TZID:Europe/Zurich
BEGIN:STANDARD
DTSTART:20251026T030000
TZOFFSETFROM:+0200
TZOFFSETTO:+0100
END:STANDARD
BEGIN:DAYLIGHT
DTSTART:20260329T010000
TZOFFSETFROM:+0100
TZOFFSETTO:+0200
END:DAYLIGHT
BEGIN:STANDARD
DTSTART:20261025T030000
TZOFFSETFROM:+0200
TZOFFSETTO:+0100
END:STANDARD
END:VTIMEZONE
BEGIN:VTIMEZONE
TZID:UTC
BEGIN:STANDARD
DTSTART:20250727T101806
TZOFFSETFROM:+0000
TZOFFSETTO:+0000
END:STANDARD
END:VTIMEZONE
BEGIN:VEVENT
UID:69e9f1deed73a
DTSTAMP:20260423T101806Z
SUMMARY:KONKURADO: CONSTRUCTION DE LA MAISON DE LA CULTURE ET DE LA MUSIQUE
 _MCM - CHÊNE-BOUGERIES (GE)\, Session de questions\, soumettre avant 16.0
 4.2026 - 16.04.2026
DESCRIPTION:Link zum Verfahren: https://konkurado.ch/en/construction-de-la-
 maison-de-la-culture-et-de-la-musique-mcm-chene-bougeries-ge
X-MICROSOFT-CDO-ALLDAYEVENT:TRUE
DTSTART;TZID=Europe/Zurich;VALUE=DATE:20260416
END:VEVENT
BEGIN:VEVENT
UID:69e9f1deed84f
DTSTAMP:20260423T101806Z
SUMMARY:KONKURADO: CONSTRUCTION DE LA MAISON DE LA CULTURE ET DE LA MUSIQUE
 _MCM - CHÊNE-BOUGERIES (GE)\, Session de questions\, soumettre avant 16.0
 4.2026 - 16.04.2026
DESCRIPTION:Link zum Verfahren: https://konkurado.ch/en/construction-de-la-
 maison-de-la-culture-et-de-la-musique-mcm-chene-bougeries-ge
X-MICROSOFT-CDO-ALLDAYEVENT:TRUE
DTSTART;TZID=Europe/Zurich;VALUE=DATE:20260416
END:VEVENT
BEGIN:VEVENT
UID:69e9f1deed902
DTSTAMP:20260423T101806Z
SUMMARY:KONKURADO: CONSTRUCTION DE LA MAISON DE LA CULTURE ET DE LA MUSIQUE
 _MCM - CHÊNE-BOUGERIES (GE)\, Soumission de la demande de participation 1
 2.05.2026 - 12.05.2026
DESCRIPTION:Link zum Verfahren: https://konkurado.ch/en/construction-de-la-
 maison-de-la-culture-et-de-la-musique-mcm-chene-bougeries-ge
X-MICROSOFT-CDO-ALLDAYEVENT:TRUE
DTSTART;TZID=Europe/Zurich;VALUE=DATE:20260512
END:VEVENT
BEGIN:VEVENT
UID:69e9f1deed943
DTSTAMP:20260423T101806Z
SUMMARY:KONKURADO: CONSTRUCTION DE LA MAISON DE LA CULTURE ET DE LA MUSIQUE
 _MCM - CHÊNE-BOUGERIES (GE)\, Soumission de la demande de participation 1
 2.05.2026 - 12.05.2026
DESCRIPTION:Link zum Verfahren: https://konkurado.ch/en/construction-de-la-
 maison-de-la-culture-et-de-la-musique-mcm-chene-bougeries-ge
X-MICROSOFT-CDO-ALLDAYEVENT:TRUE
DTSTART;TZID=Europe/Zurich;VALUE=DATE:20260512
END:VEVENT
BEGIN:VEVENT
UID:69e9f1deed9a7
DTSTAMP:20260423T101806Z
SUMMARY:KONKURADO: CONSTRUCTION DE LA MAISON DE LA CULTURE ET DE LA MUSIQUE
 _MCM - CHÊNE-BOUGERIES (GE)\, Disponibilité des documents d’appel d’
 offres 13.04.2026 - 12.05.2026
DESCRIPTION:Link zum Verfahren: https://konkurado.ch/en/construction-de-la-
 maison-de-la-culture-et-de-la-musique-mcm-chene-bougeries-ge
X-MICROSOFT-CDO-ALLDAYEVENT:TRUE
DTSTART;TZID=Europe/Zurich;VALUE=DATE:20260413
END:VEVENT
BEGIN:VEVENT
UID:69e9f1deed9cd
DTSTAMP:20260423T101806Z
SUMMARY:KONKURADO: CONSTRUCTION DE LA MAISON DE LA CULTURE ET DE LA MUSIQUE
 _MCM - CHÊNE-BOUGERIES (GE)\, Disponibilité des documents d’appel d’
 offres 13.04.2026 - 12.05.2026
DESCRIPTION:Link zum Verfahren: https://konkurado.ch/en/construction-de-la-
 maison-de-la-culture-et-de-la-musique-mcm-chene-bougeries-ge
X-MICROSOFT-CDO-ALLDAYEVENT:TRUE
DTSTART;TZID=Europe/Zurich;VALUE=DATE:20260512
END:VEVENT
END:VCALENDAR