BEGIN:VCALENDAR
VERSION:2.0
PRODID:spatie/icalendar-generator
NAME:Construcfion d’une nouvelle école à Siviriez
X-WR-CALNAME:Construcfion d’une nouvelle école à Siviriez
BEGIN:VTIMEZONE
TZID:Europe/Zurich
BEGIN:STANDARD
DTSTART:20241027T030000
TZOFFSETFROM:+0200
TZOFFSETTO:+0100
END:STANDARD
BEGIN:DAYLIGHT
DTSTART:20250330T010000
TZOFFSETFROM:+0100
TZOFFSETTO:+0200
END:DAYLIGHT
BEGIN:STANDARD
DTSTART:20251026T030000
TZOFFSETFROM:+0200
TZOFFSETTO:+0100
END:STANDARD
END:VTIMEZONE
BEGIN:VTIMEZONE
TZID:UTC
BEGIN:STANDARD
DTSTART:20250727T115416
TZOFFSETFROM:+0000
TZOFFSETTO:+0000
END:STANDARD
END:VTIMEZONE
BEGIN:VEVENT
UID:69ea08688ffee
DTSTAMP:20260423T115416Z
SUMMARY:KONKURADO: Construcfion d’une nouvelle école à Siviriez\, Einre
 ichung der Teilnahmeanträge bis 25.01.2025 - 24.02.2025
DESCRIPTION:Link zum Verfahren: https://konkurado.ch/en/construcfion-dune-n
 ouvelle-ecole-a-siviriez
X-MICROSOFT-CDO-ALLDAYEVENT:TRUE
DTSTART;TZID=Europe/Zurich;VALUE=DATE:20250125
END:VEVENT
BEGIN:VEVENT
UID:69ea0868900b9
DTSTAMP:20260423T115416Z
SUMMARY:KONKURADO: Construcfion d’une nouvelle école à Siviriez\, Einre
 ichung der Teilnahmeanträge bis 25.01.2025 - 24.02.2025
DESCRIPTION:Link zum Verfahren: https://konkurado.ch/en/construcfion-dune-n
 ouvelle-ecole-a-siviriez
X-MICROSOFT-CDO-ALLDAYEVENT:TRUE
DTSTART;TZID=Europe/Zurich;VALUE=DATE:20250224
END:VEVENT
BEGIN:VEVENT
UID:69ea08689011c
DTSTAMP:20260423T115416Z
SUMMARY:KONKURADO: Construcfion d’une nouvelle école à Siviriez\, Einre
 ichung von Fragen bis 03.03.2025 - 14.03.2025
DESCRIPTION:Link zum Verfahren: https://konkurado.ch/en/construcfion-dune-n
 ouvelle-ecole-a-siviriez
X-MICROSOFT-CDO-ALLDAYEVENT:TRUE
DTSTART;TZID=Europe/Zurich;VALUE=DATE:20250303
END:VEVENT
BEGIN:VEVENT
UID:69ea086890159
DTSTAMP:20260423T115416Z
SUMMARY:KONKURADO: Construcfion d’une nouvelle école à Siviriez\, Einre
 ichung von Fragen bis 03.03.2025 - 14.03.2025
DESCRIPTION:Link zum Verfahren: https://konkurado.ch/en/construcfion-dune-n
 ouvelle-ecole-a-siviriez
X-MICROSOFT-CDO-ALLDAYEVENT:TRUE
DTSTART;TZID=Europe/Zurich;VALUE=DATE:20250314
END:VEVENT
BEGIN:VEVENT
UID:69ea0868901aa
DTSTAMP:20260423T115416Z
SUMMARY:KONKURADO: Construcfion d’une nouvelle école à Siviriez\, Abgab
 e der Dossiers 02.05.2025 - 03.06.2025
DESCRIPTION:Link zum Verfahren: https://konkurado.ch/en/construcfion-dune-n
 ouvelle-ecole-a-siviriez
X-MICROSOFT-CDO-ALLDAYEVENT:TRUE
DTSTART;TZID=Europe/Zurich;VALUE=DATE:20250502
END:VEVENT
BEGIN:VEVENT
UID:69ea0868901eb
DTSTAMP:20260423T115416Z
SUMMARY:KONKURADO: Construcfion d’une nouvelle école à Siviriez\, Abgab
 e der Dossiers 02.05.2025 - 03.06.2025
DESCRIPTION:Link zum Verfahren: https://konkurado.ch/en/construcfion-dune-n
 ouvelle-ecole-a-siviriez
X-MICROSOFT-CDO-ALLDAYEVENT:TRUE
DTSTART;TZID=Europe/Zurich;VALUE=DATE:20250603
END:VEVENT
BEGIN:VEVENT
UID:69ea086890264
DTSTAMP:20260423T115416Z
SUMMARY:KONKURADO: Construcfion d’une nouvelle école à Siviriez\, Ateli
 er 1 - Zwischenbesprechung 24.04.2025 - 24.04.2025
DESCRIPTION:Link zum Verfahren: https://konkurado.ch/en/construcfion-dune-n
 ouvelle-ecole-a-siviriez
X-MICROSOFT-CDO-ALLDAYEVENT:TRUE
DTSTART;TZID=Europe/Zurich;VALUE=DATE:20250424
END:VEVENT
BEGIN:VEVENT
UID:69ea0868902a3
DTSTAMP:20260423T115416Z
SUMMARY:KONKURADO: Construcfion d’une nouvelle école à Siviriez\, Ateli
 er 1 - Zwischenbesprechung 24.04.2025 - 24.04.2025
DESCRIPTION:Link zum Verfahren: https://konkurado.ch/en/construcfion-dune-n
 ouvelle-ecole-a-siviriez
X-MICROSOFT-CDO-ALLDAYEVENT:TRUE
DTSTART;TZID=Europe/Zurich;VALUE=DATE:20250424
END:VEVENT
BEGIN:VEVENT
UID:69ea0868904ad
DTSTAMP:20260423T115416Z
SUMMARY:KONKURADO: Construcfion d’une nouvelle école à Siviriez\, Resul
 tat des Selektionsverfahrens 28.02.2025 - 28.02.2025
DESCRIPTION:Link zum Verfahren: https://konkurado.ch/en/construcfion-dune-n
 ouvelle-ecole-a-siviriez
X-MICROSOFT-CDO-ALLDAYEVENT:TRUE
DTSTART;TZID=Europe/Zurich;VALUE=DATE:20250228
END:VEVENT
BEGIN:VEVENT
UID:69ea0868904f9
DTSTAMP:20260423T115416Z
SUMMARY:KONKURADO: Construcfion d’une nouvelle école à Siviriez\, Resul
 tat des Selektionsverfahrens 28.02.2025 - 28.02.2025
DESCRIPTION:Link zum Verfahren: https://konkurado.ch/en/construcfion-dune-n
 ouvelle-ecole-a-siviriez
X-MICROSOFT-CDO-ALLDAYEVENT:TRUE
DTSTART;TZID=Europe/Zurich;VALUE=DATE:20250228
END:VEVENT
BEGIN:VEVENT
UID:69ea0868905a2
DTSTAMP:20260423T115416Z
SUMMARY:KONKURADO: Construcfion d’une nouvelle école à Siviriez\, Ausga
 be Programm und Anhänge 03.03.2025 - 03.03.2025
DESCRIPTION:Link zum Verfahren: https://konkurado.ch/en/construcfion-dune-n
 ouvelle-ecole-a-siviriez
X-MICROSOFT-CDO-ALLDAYEVENT:TRUE
DTSTART;TZID=Europe/Zurich;VALUE=DATE:20250303
END:VEVENT
BEGIN:VEVENT
UID:69ea0868905e2
DTSTAMP:20260423T115416Z
SUMMARY:KONKURADO: Construcfion d’une nouvelle école à Siviriez\, Ausga
 be Programm und Anhänge 03.03.2025 - 03.03.2025
DESCRIPTION:Link zum Verfahren: https://konkurado.ch/en/construcfion-dune-n
 ouvelle-ecole-a-siviriez
X-MICROSOFT-CDO-ALLDAYEVENT:TRUE
DTSTART;TZID=Europe/Zurich;VALUE=DATE:20250303
END:VEVENT
BEGIN:VEVENT
UID:69ea086890683
DTSTAMP:20260423T115416Z
SUMMARY:KONKURADO: Construcfion d’une nouvelle école à Siviriez\, Frage
 beantwortung 15.03.2025 - 21.03.2025
DESCRIPTION:Link zum Verfahren: https://konkurado.ch/en/construcfion-dune-n
 ouvelle-ecole-a-siviriez
X-MICROSOFT-CDO-ALLDAYEVENT:TRUE
DTSTART;TZID=Europe/Zurich;VALUE=DATE:20250315
END:VEVENT
BEGIN:VEVENT
UID:69ea0868906c2
DTSTAMP:20260423T115416Z
SUMMARY:KONKURADO: Construcfion d’une nouvelle école à Siviriez\, Frage
 beantwortung 15.03.2025 - 21.03.2025
DESCRIPTION:Link zum Verfahren: https://konkurado.ch/en/construcfion-dune-n
 ouvelle-ecole-a-siviriez
X-MICROSOFT-CDO-ALLDAYEVENT:TRUE
DTSTART;TZID=Europe/Zurich;VALUE=DATE:20250321
END:VEVENT
BEGIN:VEVENT
UID:69ea086890714
DTSTAMP:20260423T115416Z
SUMMARY:KONKURADO: Construcfion d’une nouvelle école à Siviriez\, Abgab
 e der Dossiers 03.03.2025 - 17.04.2025
DESCRIPTION:Link zum Verfahren: https://konkurado.ch/en/construcfion-dune-n
 ouvelle-ecole-a-siviriez
X-MICROSOFT-CDO-ALLDAYEVENT:TRUE
DTSTART;TZID=Europe/Zurich;VALUE=DATE:20250303
END:VEVENT
BEGIN:VEVENT
UID:69ea086890751
DTSTAMP:20260423T115416Z
SUMMARY:KONKURADO: Construcfion d’une nouvelle école à Siviriez\, Abgab
 e der Dossiers 03.03.2025 - 17.04.2025
DESCRIPTION:Link zum Verfahren: https://konkurado.ch/en/construcfion-dune-n
 ouvelle-ecole-a-siviriez
X-MICROSOFT-CDO-ALLDAYEVENT:TRUE
DTSTART;TZID=Europe/Zurich;VALUE=DATE:20250417
END:VEVENT
BEGIN:VEVENT
UID:69ea0868907ed
DTSTAMP:20260423T115416Z
SUMMARY:KONKURADO: Construcfion d’une nouvelle école à Siviriez\, Empfe
 hlungen des Beurteilungsgremiums 25.04.2025 - 02.05.2025
DESCRIPTION:Link zum Verfahren: https://konkurado.ch/en/construcfion-dune-n
 ouvelle-ecole-a-siviriez
X-MICROSOFT-CDO-ALLDAYEVENT:TRUE
DTSTART;TZID=Europe/Zurich;VALUE=DATE:20250425
END:VEVENT
BEGIN:VEVENT
UID:69ea086890831
DTSTAMP:20260423T115416Z
SUMMARY:KONKURADO: Construcfion d’une nouvelle école à Siviriez\, Empfe
 hlungen des Beurteilungsgremiums 25.04.2025 - 02.05.2025
DESCRIPTION:Link zum Verfahren: https://konkurado.ch/en/construcfion-dune-n
 ouvelle-ecole-a-siviriez
X-MICROSOFT-CDO-ALLDAYEVENT:TRUE
DTSTART;TZID=Europe/Zurich;VALUE=DATE:20250502
END:VEVENT
BEGIN:VEVENT
UID:69ea086890898
DTSTAMP:20260423T115416Z
SUMMARY:KONKURADO: Construcfion d’une nouvelle école à Siviriez\, Ateli
 er 2 - Schlussbesprechung 12.06.2025 - 12.06.2025
DESCRIPTION:Link zum Verfahren: https://konkurado.ch/en/construcfion-dune-n
 ouvelle-ecole-a-siviriez
X-MICROSOFT-CDO-ALLDAYEVENT:TRUE
DTSTART;TZID=Europe/Zurich;VALUE=DATE:20250612
END:VEVENT
BEGIN:VEVENT
UID:69ea0868908dd
DTSTAMP:20260423T115416Z
SUMMARY:KONKURADO: Construcfion d’une nouvelle école à Siviriez\, Ateli
 er 2 - Schlussbesprechung 12.06.2025 - 12.06.2025
DESCRIPTION:Link zum Verfahren: https://konkurado.ch/en/construcfion-dune-n
 ouvelle-ecole-a-siviriez
X-MICROSOFT-CDO-ALLDAYEVENT:TRUE
DTSTART;TZID=Europe/Zurich;VALUE=DATE:20250612
END:VEVENT
BEGIN:VEVENT
UID:69ea086890962
DTSTAMP:20260423T115416Z
SUMMARY:KONKURADO: Construcfion d’une nouvelle école à Siviriez\, Analy
 se der Dossiers bis 12.06.2025 - 20.06.2025
DESCRIPTION:Link zum Verfahren: https://konkurado.ch/en/construcfion-dune-n
 ouvelle-ecole-a-siviriez
X-MICROSOFT-CDO-ALLDAYEVENT:TRUE
DTSTART;TZID=Europe/Zurich;VALUE=DATE:20250612
END:VEVENT
BEGIN:VEVENT
UID:69ea086890999
DTSTAMP:20260423T115416Z
SUMMARY:KONKURADO: Construcfion d’une nouvelle école à Siviriez\, Analy
 se der Dossiers bis 12.06.2025 - 20.06.2025
DESCRIPTION:Link zum Verfahren: https://konkurado.ch/en/construcfion-dune-n
 ouvelle-ecole-a-siviriez
X-MICROSOFT-CDO-ALLDAYEVENT:TRUE
DTSTART;TZID=Europe/Zurich;VALUE=DATE:20250620
END:VEVENT
BEGIN:VEVENT
UID:69ea086890a4e
DTSTAMP:20260423T115416Z
SUMMARY:KONKURADO: Construcfion d’une nouvelle école à Siviriez\, Jurie
 rung der Dossiers 23.06.2025 - 24.06.2025
DESCRIPTION:Link zum Verfahren: https://konkurado.ch/en/construcfion-dune-n
 ouvelle-ecole-a-siviriez
X-MICROSOFT-CDO-ALLDAYEVENT:TRUE
DTSTART;TZID=Europe/Zurich;VALUE=DATE:20250623
END:VEVENT
BEGIN:VEVENT
UID:69ea086890a93
DTSTAMP:20260423T115416Z
SUMMARY:KONKURADO: Construcfion d’une nouvelle école à Siviriez\, Jurie
 rung der Dossiers 23.06.2025 - 24.06.2025
DESCRIPTION:Link zum Verfahren: https://konkurado.ch/en/construcfion-dune-n
 ouvelle-ecole-a-siviriez
X-MICROSOFT-CDO-ALLDAYEVENT:TRUE
DTSTART;TZID=Europe/Zurich;VALUE=DATE:20250624
END:VEVENT
BEGIN:VEVENT
UID:69ea086890b2c
DTSTAMP:20260423T115416Z
SUMMARY:KONKURADO: Construcfion d’une nouvelle école à Siviriez\, Kommu
 nikation Resultat 11.07.2025 - 11.07.2025
DESCRIPTION:Link zum Verfahren: https://konkurado.ch/en/construcfion-dune-n
 ouvelle-ecole-a-siviriez
X-MICROSOFT-CDO-ALLDAYEVENT:TRUE
DTSTART;TZID=Europe/Zurich;VALUE=DATE:20250711
END:VEVENT
BEGIN:VEVENT
UID:69ea086890b6b
DTSTAMP:20260423T115416Z
SUMMARY:KONKURADO: Construcfion d’une nouvelle école à Siviriez\, Kommu
 nikation Resultat 11.07.2025 - 11.07.2025
DESCRIPTION:Link zum Verfahren: https://konkurado.ch/en/construcfion-dune-n
 ouvelle-ecole-a-siviriez
X-MICROSOFT-CDO-ALLDAYEVENT:TRUE
DTSTART;TZID=Europe/Zurich;VALUE=DATE:20250711
END:VEVENT
END:VCALENDAR