BEGIN:VCALENDAR
VERSION:2.0
PRODID:spatie/icalendar-generator
NAME:Concours EVIPSY- Evolution de l'infrastructure de la psychiatrie hospi
 talière sur le site de Belle-Idée
X-WR-CALNAME:Concours EVIPSY- Evolution de l'infrastructure de la psychiatr
 ie hospitalière sur le site de Belle-Idée
BEGIN:VTIMEZONE
TZID:Europe/Zurich
BEGIN:STANDARD
DTSTART:20241027T030000
TZOFFSETFROM:+0200
TZOFFSETTO:+0100
END:STANDARD
BEGIN:DAYLIGHT
DTSTART:20250330T010000
TZOFFSETFROM:+0100
TZOFFSETTO:+0200
END:DAYLIGHT
BEGIN:STANDARD
DTSTART:20251026T030000
TZOFFSETFROM:+0200
TZOFFSETTO:+0100
END:STANDARD
BEGIN:DAYLIGHT
DTSTART:20260329T010000
TZOFFSETFROM:+0100
TZOFFSETTO:+0200
END:DAYLIGHT
BEGIN:STANDARD
DTSTART:20261025T030000
TZOFFSETFROM:+0200
TZOFFSETTO:+0100
END:STANDARD
END:VTIMEZONE
BEGIN:VTIMEZONE
TZID:UTC
BEGIN:STANDARD
DTSTART:20250727T120429
TZOFFSETFROM:+0000
TZOFFSETTO:+0000
END:STANDARD
END:VTIMEZONE
BEGIN:VEVENT
UID:69ea0acd79670
DTSTAMP:20260423T120429Z
SUMMARY:KONKURADO: Concours EVIPSY- Evolution de l'infrastructure de la psy
 chiatrie hospitalière sur le site de Belle-Idée\, Einreichung von Fragen
  bis 17.04.2025 - 02.06.2025
DESCRIPTION:Link zum Verfahren: https://konkurado.ch/en/concours-evipsy-evo
 lution-de-linfrastructure-de-la-psychiatrie-hospitaliere-sur-le-site-de-be
 lle-idee
X-MICROSOFT-CDO-ALLDAYEVENT:TRUE
DTSTART;TZID=Europe/Zurich;VALUE=DATE:20250417
END:VEVENT
BEGIN:VEVENT
UID:69ea0acd796e2
DTSTAMP:20260423T120429Z
SUMMARY:KONKURADO: Concours EVIPSY- Evolution de l'infrastructure de la psy
 chiatrie hospitalière sur le site de Belle-Idée\, Einreichung von Fragen
  bis 17.04.2025 - 02.06.2025
DESCRIPTION:Link zum Verfahren: https://konkurado.ch/en/concours-evipsy-evo
 lution-de-linfrastructure-de-la-psychiatrie-hospitaliere-sur-le-site-de-be
 lle-idee
X-MICROSOFT-CDO-ALLDAYEVENT:TRUE
DTSTART;TZID=Europe/Zurich;VALUE=DATE:20250602
END:VEVENT
BEGIN:VEVENT
UID:69ea0acd7971b
DTSTAMP:20260423T120429Z
SUMMARY:KONKURADO: Concours EVIPSY- Evolution de l'infrastructure de la psy
 chiatrie hospitalière sur le site de Belle-Idée\, Einreichung der Wettbe
 werbsbeiträge 1. Stufe 17.04.2025 - 03.10.2025
DESCRIPTION:Link zum Verfahren: https://konkurado.ch/en/concours-evipsy-evo
 lution-de-linfrastructure-de-la-psychiatrie-hospitaliere-sur-le-site-de-be
 lle-idee
X-MICROSOFT-CDO-ALLDAYEVENT:TRUE
DTSTART;TZID=Europe/Zurich;VALUE=DATE:20250417
END:VEVENT
BEGIN:VEVENT
UID:69ea0acd79743
DTSTAMP:20260423T120429Z
SUMMARY:KONKURADO: Concours EVIPSY- Evolution de l'infrastructure de la psy
 chiatrie hospitalière sur le site de Belle-Idée\, Einreichung der Wettbe
 werbsbeiträge 1. Stufe 17.04.2025 - 03.10.2025
DESCRIPTION:Link zum Verfahren: https://konkurado.ch/en/concours-evipsy-evo
 lution-de-linfrastructure-de-la-psychiatrie-hospitaliere-sur-le-site-de-be
 lle-idee
X-MICROSOFT-CDO-ALLDAYEVENT:TRUE
DTSTART;TZID=Europe/Zurich;VALUE=DATE:20251003
END:VEVENT
BEGIN:VEVENT
UID:69ea0acd79850
DTSTAMP:20260423T120429Z
SUMMARY:KONKURADO: Concours EVIPSY- Evolution de l'infrastructure de la psy
 chiatrie hospitalière sur le site de Belle-Idée\, Ordentliche Modellbest
 ellung bis 17.04.2025 - 06.05.2025
DESCRIPTION:Link zum Verfahren: https://konkurado.ch/en/concours-evipsy-evo
 lution-de-linfrastructure-de-la-psychiatrie-hospitaliere-sur-le-site-de-be
 lle-idee
X-MICROSOFT-CDO-ALLDAYEVENT:TRUE
DTSTART;TZID=Europe/Zurich;VALUE=DATE:20250417
END:VEVENT
BEGIN:VEVENT
UID:69ea0acd79879
DTSTAMP:20260423T120429Z
SUMMARY:KONKURADO: Concours EVIPSY- Evolution de l'infrastructure de la psy
 chiatrie hospitalière sur le site de Belle-Idée\, Ordentliche Modellbest
 ellung bis 17.04.2025 - 06.05.2025
DESCRIPTION:Link zum Verfahren: https://konkurado.ch/en/concours-evipsy-evo
 lution-de-linfrastructure-de-la-psychiatrie-hospitaliere-sur-le-site-de-be
 lle-idee
X-MICROSOFT-CDO-ALLDAYEVENT:TRUE
DTSTART;TZID=Europe/Zurich;VALUE=DATE:20250506
END:VEVENT
BEGIN:VEVENT
UID:69ea0acd798d7
DTSTAMP:20260423T120429Z
SUMMARY:KONKURADO: Concours EVIPSY- Evolution de l'infrastructure de la psy
 chiatrie hospitalière sur le site de Belle-Idée\, Modellausgabe ab 06.05
 .2025 - 23.10.2025
DESCRIPTION:Link zum Verfahren: https://konkurado.ch/en/concours-evipsy-evo
 lution-de-linfrastructure-de-la-psychiatrie-hospitaliere-sur-le-site-de-be
 lle-idee
X-MICROSOFT-CDO-ALLDAYEVENT:TRUE
DTSTART;TZID=Europe/Zurich;VALUE=DATE:20250506
END:VEVENT
BEGIN:VEVENT
UID:69ea0acd798fd
DTSTAMP:20260423T120429Z
SUMMARY:KONKURADO: Concours EVIPSY- Evolution de l'infrastructure de la psy
 chiatrie hospitalière sur le site de Belle-Idée\, Modellausgabe ab 06.05
 .2025 - 23.10.2025
DESCRIPTION:Link zum Verfahren: https://konkurado.ch/en/concours-evipsy-evo
 lution-de-linfrastructure-de-la-psychiatrie-hospitaliere-sur-le-site-de-be
 lle-idee
X-MICROSOFT-CDO-ALLDAYEVENT:TRUE
DTSTART;TZID=Europe/Zurich;VALUE=DATE:20251023
END:VEVENT
BEGIN:VEVENT
UID:69ea0acd79951
DTSTAMP:20260423T120429Z
SUMMARY:KONKURADO: Concours EVIPSY- Evolution de l'infrastructure de la psy
 chiatrie hospitalière sur le site de Belle-Idée\, Fragenbeantwortung 03.
 06.2025 - 26.06.2025
DESCRIPTION:Link zum Verfahren: https://konkurado.ch/en/concours-evipsy-evo
 lution-de-linfrastructure-de-la-psychiatrie-hospitaliere-sur-le-site-de-be
 lle-idee
X-MICROSOFT-CDO-ALLDAYEVENT:TRUE
DTSTART;TZID=Europe/Zurich;VALUE=DATE:20250603
END:VEVENT
BEGIN:VEVENT
UID:69ea0acd79977
DTSTAMP:20260423T120429Z
SUMMARY:KONKURADO: Concours EVIPSY- Evolution de l'infrastructure de la psy
 chiatrie hospitalière sur le site de Belle-Idée\, Fragenbeantwortung 03.
 06.2025 - 26.06.2025
DESCRIPTION:Link zum Verfahren: https://konkurado.ch/en/concours-evipsy-evo
 lution-de-linfrastructure-de-la-psychiatrie-hospitaliere-sur-le-site-de-be
 lle-idee
X-MICROSOFT-CDO-ALLDAYEVENT:TRUE
DTSTART;TZID=Europe/Zurich;VALUE=DATE:20250626
END:VEVENT
BEGIN:VEVENT
UID:69ea0acd799e6
DTSTAMP:20260423T120429Z
SUMMARY:KONKURADO: Concours EVIPSY- Evolution de l'infrastructure de la psy
 chiatrie hospitalière sur le site de Belle-Idée\, Modellabgabe 1. Stufe 
 06.05.2025 - 23.10.2025
DESCRIPTION:Link zum Verfahren: https://konkurado.ch/en/concours-evipsy-evo
 lution-de-linfrastructure-de-la-psychiatrie-hospitaliere-sur-le-site-de-be
 lle-idee
X-MICROSOFT-CDO-ALLDAYEVENT:TRUE
DTSTART;TZID=Europe/Zurich;VALUE=DATE:20250506
END:VEVENT
BEGIN:VEVENT
UID:69ea0acd79a0e
DTSTAMP:20260423T120429Z
SUMMARY:KONKURADO: Concours EVIPSY- Evolution de l'infrastructure de la psy
 chiatrie hospitalière sur le site de Belle-Idée\, Modellabgabe 1. Stufe 
 06.05.2025 - 23.10.2025
DESCRIPTION:Link zum Verfahren: https://konkurado.ch/en/concours-evipsy-evo
 lution-de-linfrastructure-de-la-psychiatrie-hospitaliere-sur-le-site-de-be
 lle-idee
X-MICROSOFT-CDO-ALLDAYEVENT:TRUE
DTSTART;TZID=Europe/Zurich;VALUE=DATE:20251023
END:VEVENT
BEGIN:VEVENT
UID:69ea0acd79a65
DTSTAMP:20260423T120429Z
SUMMARY:KONKURADO: Concours EVIPSY- Evolution de l'infrastructure de la psy
 chiatrie hospitalière sur le site de Belle-Idée\, Start 2. Stufe 28.11.2
 025 - 28.11.2025
DESCRIPTION:Link zum Verfahren: https://konkurado.ch/en/concours-evipsy-evo
 lution-de-linfrastructure-de-la-psychiatrie-hospitaliere-sur-le-site-de-be
 lle-idee
X-MICROSOFT-CDO-ALLDAYEVENT:TRUE
DTSTART;TZID=Europe/Zurich;VALUE=DATE:20251128
END:VEVENT
BEGIN:VEVENT
UID:69ea0acd79a8b
DTSTAMP:20260423T120429Z
SUMMARY:KONKURADO: Concours EVIPSY- Evolution de l'infrastructure de la psy
 chiatrie hospitalière sur le site de Belle-Idée\, Start 2. Stufe 28.11.2
 025 - 28.11.2025
DESCRIPTION:Link zum Verfahren: https://konkurado.ch/en/concours-evipsy-evo
 lution-de-linfrastructure-de-la-psychiatrie-hospitaliere-sur-le-site-de-be
 lle-idee
X-MICROSOFT-CDO-ALLDAYEVENT:TRUE
DTSTART;TZID=Europe/Zurich;VALUE=DATE:20251128
END:VEVENT
BEGIN:VEVENT
UID:69ea0acd79abb
DTSTAMP:20260423T120429Z
SUMMARY:KONKURADO: Concours EVIPSY- Evolution de l'infrastructure de la psy
 chiatrie hospitalière sur le site de Belle-Idée\, Einreichung von Fragen
  bis 28.11.2025 - 12.12.2025
DESCRIPTION:Link zum Verfahren: https://konkurado.ch/en/concours-evipsy-evo
 lution-de-linfrastructure-de-la-psychiatrie-hospitaliere-sur-le-site-de-be
 lle-idee
X-MICROSOFT-CDO-ALLDAYEVENT:TRUE
DTSTART;TZID=Europe/Zurich;VALUE=DATE:20251128
END:VEVENT
BEGIN:VEVENT
UID:69ea0acd79ae1
DTSTAMP:20260423T120429Z
SUMMARY:KONKURADO: Concours EVIPSY- Evolution de l'infrastructure de la psy
 chiatrie hospitalière sur le site de Belle-Idée\, Einreichung von Fragen
  bis 28.11.2025 - 12.12.2025
DESCRIPTION:Link zum Verfahren: https://konkurado.ch/en/concours-evipsy-evo
 lution-de-linfrastructure-de-la-psychiatrie-hospitaliere-sur-le-site-de-be
 lle-idee
X-MICROSOFT-CDO-ALLDAYEVENT:TRUE
DTSTART;TZID=Europe/Zurich;VALUE=DATE:20251212
END:VEVENT
BEGIN:VEVENT
UID:69ea0acd79b0f
DTSTAMP:20260423T120429Z
SUMMARY:KONKURADO: Concours EVIPSY- Evolution de l'infrastructure de la psy
 chiatrie hospitalière sur le site de Belle-Idée\, Einreichung der Wettbe
 werbsbeiträge 2. Stufe 28.11.2025 - 20.03.2026
DESCRIPTION:Link zum Verfahren: https://konkurado.ch/en/concours-evipsy-evo
 lution-de-linfrastructure-de-la-psychiatrie-hospitaliere-sur-le-site-de-be
 lle-idee
X-MICROSOFT-CDO-ALLDAYEVENT:TRUE
DTSTART;TZID=Europe/Zurich;VALUE=DATE:20251128
END:VEVENT
BEGIN:VEVENT
UID:69ea0acd79b33
DTSTAMP:20260423T120429Z
SUMMARY:KONKURADO: Concours EVIPSY- Evolution de l'infrastructure de la psy
 chiatrie hospitalière sur le site de Belle-Idée\, Einreichung der Wettbe
 werbsbeiträge 2. Stufe 28.11.2025 - 20.03.2026
DESCRIPTION:Link zum Verfahren: https://konkurado.ch/en/concours-evipsy-evo
 lution-de-linfrastructure-de-la-psychiatrie-hospitaliere-sur-le-site-de-be
 lle-idee
X-MICROSOFT-CDO-ALLDAYEVENT:TRUE
DTSTART;TZID=Europe/Zurich;VALUE=DATE:20260320
END:VEVENT
BEGIN:VEVENT
UID:69ea0acd79b87
DTSTAMP:20260423T120429Z
SUMMARY:KONKURADO: Concours EVIPSY- Evolution de l'infrastructure de la psy
 chiatrie hospitalière sur le site de Belle-Idée\, Fragenbeantwortung 13.
 12.2025 - 08.01.2026
DESCRIPTION:Link zum Verfahren: https://konkurado.ch/en/concours-evipsy-evo
 lution-de-linfrastructure-de-la-psychiatrie-hospitaliere-sur-le-site-de-be
 lle-idee
X-MICROSOFT-CDO-ALLDAYEVENT:TRUE
DTSTART;TZID=Europe/Zurich;VALUE=DATE:20251213
END:VEVENT
BEGIN:VEVENT
UID:69ea0acd79bae
DTSTAMP:20260423T120429Z
SUMMARY:KONKURADO: Concours EVIPSY- Evolution de l'infrastructure de la psy
 chiatrie hospitalière sur le site de Belle-Idée\, Fragenbeantwortung 13.
 12.2025 - 08.01.2026
DESCRIPTION:Link zum Verfahren: https://konkurado.ch/en/concours-evipsy-evo
 lution-de-linfrastructure-de-la-psychiatrie-hospitaliere-sur-le-site-de-be
 lle-idee
X-MICROSOFT-CDO-ALLDAYEVENT:TRUE
DTSTART;TZID=Europe/Zurich;VALUE=DATE:20260108
END:VEVENT
BEGIN:VEVENT
UID:69ea0acd79bff
DTSTAMP:20260423T120429Z
SUMMARY:KONKURADO: Concours EVIPSY- Evolution de l'infrastructure de la psy
 chiatrie hospitalière sur le site de Belle-Idée\, Modellabgabe 2. Stufe 
 28.11.2025 - 16.04.2026
DESCRIPTION:Link zum Verfahren: https://konkurado.ch/en/concours-evipsy-evo
 lution-de-linfrastructure-de-la-psychiatrie-hospitaliere-sur-le-site-de-be
 lle-idee
X-MICROSOFT-CDO-ALLDAYEVENT:TRUE
DTSTART;TZID=Europe/Zurich;VALUE=DATE:20251128
END:VEVENT
BEGIN:VEVENT
UID:69ea0acd79c24
DTSTAMP:20260423T120429Z
SUMMARY:KONKURADO: Concours EVIPSY- Evolution de l'infrastructure de la psy
 chiatrie hospitalière sur le site de Belle-Idée\, Modellabgabe 2. Stufe 
 28.11.2025 - 16.04.2026
DESCRIPTION:Link zum Verfahren: https://konkurado.ch/en/concours-evipsy-evo
 lution-de-linfrastructure-de-la-psychiatrie-hospitaliere-sur-le-site-de-be
 lle-idee
X-MICROSOFT-CDO-ALLDAYEVENT:TRUE
DTSTART;TZID=Europe/Zurich;VALUE=DATE:20260416
END:VEVENT
BEGIN:VEVENT
UID:69ea0acd79c74
DTSTAMP:20260423T120429Z
SUMMARY:KONKURADO: Concours EVIPSY- Evolution de l'infrastructure de la psy
 chiatrie hospitalière sur le site de Belle-Idée\, Veröffentlichung der 
 Ergebnisse und Preisverleihung 11.06.2026 - 11.06.2026
DESCRIPTION:Link zum Verfahren: https://konkurado.ch/en/concours-evipsy-evo
 lution-de-linfrastructure-de-la-psychiatrie-hospitaliere-sur-le-site-de-be
 lle-idee
X-MICROSOFT-CDO-ALLDAYEVENT:TRUE
DTSTART;TZID=Europe/Zurich;VALUE=DATE:20260611
END:VEVENT
BEGIN:VEVENT
UID:69ea0acd79c9b
DTSTAMP:20260423T120429Z
SUMMARY:KONKURADO: Concours EVIPSY- Evolution de l'infrastructure de la psy
 chiatrie hospitalière sur le site de Belle-Idée\, Veröffentlichung der 
 Ergebnisse und Preisverleihung 11.06.2026 - 11.06.2026
DESCRIPTION:Link zum Verfahren: https://konkurado.ch/en/concours-evipsy-evo
 lution-de-linfrastructure-de-la-psychiatrie-hospitaliere-sur-le-site-de-be
 lle-idee
X-MICROSOFT-CDO-ALLDAYEVENT:TRUE
DTSTART;TZID=Europe/Zurich;VALUE=DATE:20260611
END:VEVENT
BEGIN:VEVENT
UID:69ea0acd79ceb
DTSTAMP:20260423T120429Z
SUMMARY:KONKURADO: Concours EVIPSY- Evolution de l'infrastructure de la psy
 chiatrie hospitalière sur le site de Belle-Idée\, Öffentliche Ausstellu
 ng 11.06.2026 - 23.06.2025
DESCRIPTION:Link zum Verfahren: https://konkurado.ch/en/concours-evipsy-evo
 lution-de-linfrastructure-de-la-psychiatrie-hospitaliere-sur-le-site-de-be
 lle-idee
X-MICROSOFT-CDO-ALLDAYEVENT:TRUE
DTSTART;TZID=Europe/Zurich;VALUE=DATE:20260611
END:VEVENT
BEGIN:VEVENT
UID:69ea0acd79d11
DTSTAMP:20260423T120429Z
SUMMARY:KONKURADO: Concours EVIPSY- Evolution de l'infrastructure de la psy
 chiatrie hospitalière sur le site de Belle-Idée\, Öffentliche Ausstellu
 ng 11.06.2026 - 23.06.2025
DESCRIPTION:Link zum Verfahren: https://konkurado.ch/en/concours-evipsy-evo
 lution-de-linfrastructure-de-la-psychiatrie-hospitaliere-sur-le-site-de-be
 lle-idee
X-MICROSOFT-CDO-ALLDAYEVENT:TRUE
DTSTART;TZID=Europe/Zurich;VALUE=DATE:20250623
END:VEVENT
END:VCALENDAR