BEGIN:VCALENDAR
VERSION:2.0
PRODID:spatie/icalendar-generator
NAME:Campus piéton - Restauration des espaces publics et requalification d
 e la route des Noyerettes et de l’avenue Piccard
X-WR-CALNAME:Campus piéton - Restauration des espaces publics et requalifi
 cation de la route des Noyerettes et de l’avenue Piccard
BEGIN:VTIMEZONE
TZID:Europe/Zurich
BEGIN:DAYLIGHT
DTSTART:20240331T010000
TZOFFSETFROM:+0100
TZOFFSETTO:+0200
END:DAYLIGHT
BEGIN:STANDARD
DTSTART:20241027T030000
TZOFFSETFROM:+0200
TZOFFSETTO:+0100
END:STANDARD
BEGIN:DAYLIGHT
DTSTART:20250330T010000
TZOFFSETFROM:+0100
TZOFFSETTO:+0200
END:DAYLIGHT
BEGIN:STANDARD
DTSTART:20251026T030000
TZOFFSETFROM:+0200
TZOFFSETTO:+0100
END:STANDARD
END:VTIMEZONE
BEGIN:VTIMEZONE
TZID:UTC
BEGIN:STANDARD
DTSTART:20250727T120600
TZOFFSETFROM:+0000
TZOFFSETTO:+0000
END:STANDARD
END:VTIMEZONE
BEGIN:VEVENT
UID:69ea0b283a15a
DTSTAMP:20260423T120600Z
SUMMARY:KONKURADO: Campus piéton - Restauration des espaces publics et req
 ualification de la route des Noyerettes et de l’avenue Piccard\, Einreic
 hen des Teilnahmeantrags 10.12.2024 - 12.02.2025
DESCRIPTION:Link zum Verfahren: https://konkurado.ch/en/campus-pieton-resta
 uration-des-espaces-publics-et-requalification-de-la-route-des-noyerettes-
 et-de-lavenue-piccard
X-MICROSOFT-CDO-ALLDAYEVENT:TRUE
DTSTART;TZID=Europe/Zurich;VALUE=DATE:20241210
END:VEVENT
BEGIN:VEVENT
UID:69ea0b283a1bf
DTSTAMP:20260423T120600Z
SUMMARY:KONKURADO: Campus piéton - Restauration des espaces publics et req
 ualification de la route des Noyerettes et de l’avenue Piccard\, Einreic
 hen des Teilnahmeantrags 10.12.2024 - 12.02.2025
DESCRIPTION:Link zum Verfahren: https://konkurado.ch/en/campus-pieton-resta
 uration-des-espaces-publics-et-requalification-de-la-route-des-noyerettes-
 et-de-lavenue-piccard
X-MICROSOFT-CDO-ALLDAYEVENT:TRUE
DTSTART;TZID=Europe/Zurich;VALUE=DATE:20250212
END:VEVENT
BEGIN:VEVENT
UID:69ea0b283a2bd
DTSTAMP:20260423T120600Z
SUMMARY:KONKURADO: Campus piéton - Restauration des espaces publics et req
 ualification de la route des Noyerettes et de l’avenue Piccard\, Ausgabe
  Wettbewerbsunterlagen 21.03.2025 - 21.03.2025
DESCRIPTION:Link zum Verfahren: https://konkurado.ch/en/campus-pieton-resta
 uration-des-espaces-publics-et-requalification-de-la-route-des-noyerettes-
 et-de-lavenue-piccard
X-MICROSOFT-CDO-ALLDAYEVENT:TRUE
DTSTART;TZID=Europe/Zurich;VALUE=DATE:20250321
END:VEVENT
BEGIN:VEVENT
UID:69ea0b283a2e8
DTSTAMP:20260423T120600Z
SUMMARY:KONKURADO: Campus piéton - Restauration des espaces publics et req
 ualification de la route des Noyerettes et de l’avenue Piccard\, Ausgabe
  Wettbewerbsunterlagen 21.03.2025 - 21.03.2025
DESCRIPTION:Link zum Verfahren: https://konkurado.ch/en/campus-pieton-resta
 uration-des-espaces-publics-et-requalification-de-la-route-des-noyerettes-
 et-de-lavenue-piccard
X-MICROSOFT-CDO-ALLDAYEVENT:TRUE
DTSTART;TZID=Europe/Zurich;VALUE=DATE:20250321
END:VEVENT
BEGIN:VEVENT
UID:69ea0b283a31f
DTSTAMP:20260423T120600Z
SUMMARY:KONKURADO: Campus piéton - Restauration des espaces publics et req
 ualification de la route des Noyerettes et de l’avenue Piccard\, Einreic
 hung von Fragen bis 10.12.2024 - 06.01.2025
DESCRIPTION:Link zum Verfahren: https://konkurado.ch/en/campus-pieton-resta
 uration-des-espaces-publics-et-requalification-de-la-route-des-noyerettes-
 et-de-lavenue-piccard
X-MICROSOFT-CDO-ALLDAYEVENT:TRUE
DTSTART;TZID=Europe/Zurich;VALUE=DATE:20241210
END:VEVENT
BEGIN:VEVENT
UID:69ea0b283a345
DTSTAMP:20260423T120600Z
SUMMARY:KONKURADO: Campus piéton - Restauration des espaces publics et req
 ualification de la route des Noyerettes et de l’avenue Piccard\, Einreic
 hung von Fragen bis 10.12.2024 - 06.01.2025
DESCRIPTION:Link zum Verfahren: https://konkurado.ch/en/campus-pieton-resta
 uration-des-espaces-publics-et-requalification-de-la-route-des-noyerettes-
 et-de-lavenue-piccard
X-MICROSOFT-CDO-ALLDAYEVENT:TRUE
DTSTART;TZID=Europe/Zurich;VALUE=DATE:20250106
END:VEVENT
BEGIN:VEVENT
UID:69ea0b283a376
DTSTAMP:20260423T120600Z
SUMMARY:KONKURADO: Campus piéton - Restauration des espaces publics et req
 ualification de la route des Noyerettes et de l’avenue Piccard\, Wettbew
 erbsabgabe 21.03.2025 - 20.06.2025
DESCRIPTION:Link zum Verfahren: https://konkurado.ch/en/campus-pieton-resta
 uration-des-espaces-publics-et-requalification-de-la-route-des-noyerettes-
 et-de-lavenue-piccard
X-MICROSOFT-CDO-ALLDAYEVENT:TRUE
DTSTART;TZID=Europe/Zurich;VALUE=DATE:20250321
END:VEVENT
BEGIN:VEVENT
UID:69ea0b283a39b
DTSTAMP:20260423T120600Z
SUMMARY:KONKURADO: Campus piéton - Restauration des espaces publics et req
 ualification de la route des Noyerettes et de l’avenue Piccard\, Wettbew
 erbsabgabe 21.03.2025 - 20.06.2025
DESCRIPTION:Link zum Verfahren: https://konkurado.ch/en/campus-pieton-resta
 uration-des-espaces-publics-et-requalification-de-la-route-des-noyerettes-
 et-de-lavenue-piccard
X-MICROSOFT-CDO-ALLDAYEVENT:TRUE
DTSTART;TZID=Europe/Zurich;VALUE=DATE:20250620
END:VEVENT
BEGIN:VEVENT
UID:69ea0b283aa7a
DTSTAMP:20260423T120600Z
SUMMARY:KONKURADO: Campus piéton - Restauration des espaces publics et req
 ualification de la route des Noyerettes et de l’avenue Piccard\, Jurieru
 ng 03.07.2025 - 03.07.2025
DESCRIPTION:Link zum Verfahren: https://konkurado.ch/en/campus-pieton-resta
 uration-des-espaces-publics-et-requalification-de-la-route-des-noyerettes-
 et-de-lavenue-piccard
X-MICROSOFT-CDO-ALLDAYEVENT:TRUE
DTSTART;TZID=Europe/Zurich;VALUE=DATE:20250703
END:VEVENT
BEGIN:VEVENT
UID:69ea0b283abaf
DTSTAMP:20260423T120600Z
SUMMARY:KONKURADO: Campus piéton - Restauration des espaces publics et req
 ualification de la route des Noyerettes et de l’avenue Piccard\, Jurieru
 ng 03.07.2025 - 03.07.2025
DESCRIPTION:Link zum Verfahren: https://konkurado.ch/en/campus-pieton-resta
 uration-des-espaces-publics-et-requalification-de-la-route-des-noyerettes-
 et-de-lavenue-piccard
X-MICROSOFT-CDO-ALLDAYEVENT:TRUE
DTSTART;TZID=Europe/Zurich;VALUE=DATE:20250703
END:VEVENT
BEGIN:VEVENT
UID:69ea0b283ac2e
DTSTAMP:20260423T120600Z
SUMMARY:KONKURADO: Campus piéton - Restauration des espaces publics et req
 ualification de la route des Noyerettes et de l’avenue Piccard\, Fragenb
 eantwortung 07.01.2025 - 17.01.2025
DESCRIPTION:Link zum Verfahren: https://konkurado.ch/en/campus-pieton-resta
 uration-des-espaces-publics-et-requalification-de-la-route-des-noyerettes-
 et-de-lavenue-piccard
X-MICROSOFT-CDO-ALLDAYEVENT:TRUE
DTSTART;TZID=Europe/Zurich;VALUE=DATE:20250107
END:VEVENT
BEGIN:VEVENT
UID:69ea0b283ac61
DTSTAMP:20260423T120600Z
SUMMARY:KONKURADO: Campus piéton - Restauration des espaces publics et req
 ualification de la route des Noyerettes et de l’avenue Piccard\, Fragenb
 eantwortung 07.01.2025 - 17.01.2025
DESCRIPTION:Link zum Verfahren: https://konkurado.ch/en/campus-pieton-resta
 uration-des-espaces-publics-et-requalification-de-la-route-des-noyerettes-
 et-de-lavenue-piccard
X-MICROSOFT-CDO-ALLDAYEVENT:TRUE
DTSTART;TZID=Europe/Zurich;VALUE=DATE:20250117
END:VEVENT
BEGIN:VEVENT
UID:69ea0b283aed1
DTSTAMP:20260423T120600Z
SUMMARY:KONKURADO: Campus piéton - Restauration des espaces publics et req
 ualification de la route des Noyerettes et de l’avenue Piccard\, Selekti
 on der Teams 26.02.2025 - 26.02.2025
DESCRIPTION:Link zum Verfahren: https://konkurado.ch/en/campus-pieton-resta
 uration-des-espaces-publics-et-requalification-de-la-route-des-noyerettes-
 et-de-lavenue-piccard
X-MICROSOFT-CDO-ALLDAYEVENT:TRUE
DTSTART;TZID=Europe/Zurich;VALUE=DATE:20250226
END:VEVENT
BEGIN:VEVENT
UID:69ea0b283af02
DTSTAMP:20260423T120600Z
SUMMARY:KONKURADO: Campus piéton - Restauration des espaces publics et req
 ualification de la route des Noyerettes et de l’avenue Piccard\, Selekti
 on der Teams 26.02.2025 - 26.02.2025
DESCRIPTION:Link zum Verfahren: https://konkurado.ch/en/campus-pieton-resta
 uration-des-espaces-publics-et-requalification-de-la-route-des-noyerettes-
 et-de-lavenue-piccard
X-MICROSOFT-CDO-ALLDAYEVENT:TRUE
DTSTART;TZID=Europe/Zurich;VALUE=DATE:20250226
END:VEVENT
BEGIN:VEVENT
UID:69ea0b283af69
DTSTAMP:20260423T120600Z
SUMMARY:KONKURADO: Campus piéton - Restauration des espaces publics et req
 ualification de la route des Noyerettes et de l’avenue Piccard\, Besuch 
 vor Ort – Die Teilnahme an dieser Sitzung wird berücksichtigt bei der P
 rojektbewertung 28.03.2025 - 28.03.2025
DESCRIPTION:Link zum Verfahren: https://konkurado.ch/en/campus-pieton-resta
 uration-des-espaces-publics-et-requalification-de-la-route-des-noyerettes-
 et-de-lavenue-piccard
X-MICROSOFT-CDO-ALLDAYEVENT:TRUE
DTSTART;TZID=Europe/Zurich;VALUE=DATE:20250328
END:VEVENT
BEGIN:VEVENT
UID:69ea0b283af95
DTSTAMP:20260423T120600Z
SUMMARY:KONKURADO: Campus piéton - Restauration des espaces publics et req
 ualification de la route des Noyerettes et de l’avenue Piccard\, Besuch 
 vor Ort – Die Teilnahme an dieser Sitzung wird berücksichtigt bei der P
 rojektbewertung 28.03.2025 - 28.03.2025
DESCRIPTION:Link zum Verfahren: https://konkurado.ch/en/campus-pieton-resta
 uration-des-espaces-publics-et-requalification-de-la-route-des-noyerettes-
 et-de-lavenue-piccard
X-MICROSOFT-CDO-ALLDAYEVENT:TRUE
DTSTART;TZID=Europe/Zurich;VALUE=DATE:20250328
END:VEVENT
BEGIN:VEVENT
UID:69ea0b283afce
DTSTAMP:20260423T120600Z
SUMMARY:KONKURADO: Campus piéton - Restauration des espaces publics et req
 ualification de la route des Noyerettes et de l’avenue Piccard\, Einreic
 hung von Fragen bis 21.03.2025 - 04.04.2025
DESCRIPTION:Link zum Verfahren: https://konkurado.ch/en/campus-pieton-resta
 uration-des-espaces-publics-et-requalification-de-la-route-des-noyerettes-
 et-de-lavenue-piccard
X-MICROSOFT-CDO-ALLDAYEVENT:TRUE
DTSTART;TZID=Europe/Zurich;VALUE=DATE:20250321
END:VEVENT
BEGIN:VEVENT
UID:69ea0b283aff8
DTSTAMP:20260423T120600Z
SUMMARY:KONKURADO: Campus piéton - Restauration des espaces publics et req
 ualification de la route des Noyerettes et de l’avenue Piccard\, Einreic
 hung von Fragen bis 21.03.2025 - 04.04.2025
DESCRIPTION:Link zum Verfahren: https://konkurado.ch/en/campus-pieton-resta
 uration-des-espaces-publics-et-requalification-de-la-route-des-noyerettes-
 et-de-lavenue-piccard
X-MICROSOFT-CDO-ALLDAYEVENT:TRUE
DTSTART;TZID=Europe/Zurich;VALUE=DATE:20250404
END:VEVENT
BEGIN:VEVENT
UID:69ea0b283b05f
DTSTAMP:20260423T120600Z
SUMMARY:KONKURADO: Campus piéton - Restauration des espaces publics et req
 ualification de la route des Noyerettes et de l’avenue Piccard\, Fragenb
 eantwortung 05.04.2025 - 18.04.2025
DESCRIPTION:Link zum Verfahren: https://konkurado.ch/en/campus-pieton-resta
 uration-des-espaces-publics-et-requalification-de-la-route-des-noyerettes-
 et-de-lavenue-piccard
X-MICROSOFT-CDO-ALLDAYEVENT:TRUE
DTSTART;TZID=Europe/Zurich;VALUE=DATE:20250405
END:VEVENT
BEGIN:VEVENT
UID:69ea0b283b085
DTSTAMP:20260423T120600Z
SUMMARY:KONKURADO: Campus piéton - Restauration des espaces publics et req
 ualification de la route des Noyerettes et de l’avenue Piccard\, Fragenb
 eantwortung 05.04.2025 - 18.04.2025
DESCRIPTION:Link zum Verfahren: https://konkurado.ch/en/campus-pieton-resta
 uration-des-espaces-publics-et-requalification-de-la-route-des-noyerettes-
 et-de-lavenue-piccard
X-MICROSOFT-CDO-ALLDAYEVENT:TRUE
DTSTART;TZID=Europe/Zurich;VALUE=DATE:20250418
END:VEVENT
END:VCALENDAR