BEGIN:VCALENDAR
VERSION:2.0
PRODID:spatie/icalendar-generator
NAME:BAV 83212 Schulanlage Münchhalde\, Instandsetzung\, Generalplanungsle
 istungen
X-WR-CALNAME:BAV 83212 Schulanlage Münchhalde\, Instandsetzung\, Generalpl
 anungsleistungen
BEGIN:VTIMEZONE
TZID:Europe/Zurich
BEGIN:STANDARD
DTSTART:20241027T030000
TZOFFSETFROM:+0200
TZOFFSETTO:+0100
END:STANDARD
BEGIN:DAYLIGHT
DTSTART:20250330T010000
TZOFFSETFROM:+0100
TZOFFSETTO:+0200
END:DAYLIGHT
END:VTIMEZONE
BEGIN:VTIMEZONE
TZID:UTC
BEGIN:STANDARD
DTSTART:20250727T120553
TZOFFSETFROM:+0000
TZOFFSETTO:+0000
END:STANDARD
END:VTIMEZONE
BEGIN:VEVENT
UID:69ea0b2180472
DTSTAMP:20260423T120553Z
SUMMARY:KONKURADO: BAV 83212 Schulanlage Münchhalde\, Instandsetzung\, Gen
 eralplanungsleistungen\, Einreichen des Teilnahmeantrags 10.02.2025 - 04.0
 3.2025
DESCRIPTION:Link zum Verfahren: https://konkurado.ch/en/bav-83212-schulanla
 ge-munchhalde-instandsetzung-generalplanungsleistungen
X-MICROSOFT-CDO-ALLDAYEVENT:TRUE
DTSTART;TZID=Europe/Zurich;VALUE=DATE:20250210
END:VEVENT
BEGIN:VEVENT
UID:69ea0b21804f4
DTSTAMP:20260423T120553Z
SUMMARY:KONKURADO: BAV 83212 Schulanlage Münchhalde\, Instandsetzung\, Gen
 eralplanungsleistungen\, Einreichen des Teilnahmeantrags 10.02.2025 - 04.0
 3.2025
DESCRIPTION:Link zum Verfahren: https://konkurado.ch/en/bav-83212-schulanla
 ge-munchhalde-instandsetzung-generalplanungsleistungen
X-MICROSOFT-CDO-ALLDAYEVENT:TRUE
DTSTART;TZID=Europe/Zurich;VALUE=DATE:20250304
END:VEVENT
END:VCALENDAR