BEGIN:VCALENDAR
VERSION:2.0
PRODID:spatie/icalendar-generator
NAME:Bauliche Sanierung und Erweiterung MythenForum Schwyz
X-WR-CALNAME:Bauliche Sanierung und Erweiterung MythenForum Schwyz
BEGIN:VTIMEZONE
TZID:Europe/Zurich
BEGIN:STANDARD
DTSTART:20241027T030000
TZOFFSETFROM:+0200
TZOFFSETTO:+0100
END:STANDARD
BEGIN:DAYLIGHT
DTSTART:20250330T010000
TZOFFSETFROM:+0100
TZOFFSETTO:+0200
END:DAYLIGHT
BEGIN:STANDARD
DTSTART:20251026T030000
TZOFFSETFROM:+0200
TZOFFSETTO:+0100
END:STANDARD
BEGIN:DAYLIGHT
DTSTART:20260329T010000
TZOFFSETFROM:+0100
TZOFFSETTO:+0200
END:DAYLIGHT
END:VTIMEZONE
BEGIN:VTIMEZONE
TZID:UTC
BEGIN:STANDARD
DTSTART:20250727T120347
TZOFFSETFROM:+0000
TZOFFSETTO:+0000
END:STANDARD
END:VTIMEZONE
BEGIN:VEVENT
UID:69ea0aa3c69df
DTSTAMP:20260423T120347Z
SUMMARY:KONKURADO: Bauliche Sanierung und Erweiterung MythenForum Schwyz\, 
 Abgabe PQ-Unterlagen 21.03.2025 - 02.05.2025
DESCRIPTION:Link zum Verfahren: https://konkurado.ch/en/bauliche-sanierung-
 und-erweiterung-mythenforum-schwyz
X-MICROSOFT-CDO-ALLDAYEVENT:TRUE
DTSTART;TZID=Europe/Zurich;VALUE=DATE:20250321
END:VEVENT
BEGIN:VEVENT
UID:69ea0aa3c6a5d
DTSTAMP:20260423T120347Z
SUMMARY:KONKURADO: Bauliche Sanierung und Erweiterung MythenForum Schwyz\, 
 Abgabe PQ-Unterlagen 21.03.2025 - 02.05.2025
DESCRIPTION:Link zum Verfahren: https://konkurado.ch/en/bauliche-sanierung-
 und-erweiterung-mythenforum-schwyz
X-MICROSOFT-CDO-ALLDAYEVENT:TRUE
DTSTART;TZID=Europe/Zurich;VALUE=DATE:20250502
END:VEVENT
BEGIN:VEVENT
UID:69ea0aa3c6aa6
DTSTAMP:20260423T120347Z
SUMMARY:KONKURADO: Bauliche Sanierung und Erweiterung MythenForum Schwyz\, 
 Fragenstellung bis 21.03.2025 - 31.03.2025
DESCRIPTION:Link zum Verfahren: https://konkurado.ch/en/bauliche-sanierung-
 und-erweiterung-mythenforum-schwyz
X-MICROSOFT-CDO-ALLDAYEVENT:TRUE
DTSTART;TZID=Europe/Zurich;VALUE=DATE:20250321
END:VEVENT
BEGIN:VEVENT
UID:69ea0aa3c6ae2
DTSTAMP:20260423T120347Z
SUMMARY:KONKURADO: Bauliche Sanierung und Erweiterung MythenForum Schwyz\, 
 Fragenstellung bis 21.03.2025 - 31.03.2025
DESCRIPTION:Link zum Verfahren: https://konkurado.ch/en/bauliche-sanierung-
 und-erweiterung-mythenforum-schwyz
X-MICROSOFT-CDO-ALLDAYEVENT:TRUE
DTSTART;TZID=Europe/Zurich;VALUE=DATE:20250331
END:VEVENT
BEGIN:VEVENT
UID:69ea0aa3c6b21
DTSTAMP:20260423T120347Z
SUMMARY:KONKURADO: Bauliche Sanierung und Erweiterung MythenForum Schwyz\, 
 Abgabe der Studien 18.09.2025 - 07.11.2025
DESCRIPTION:Link zum Verfahren: https://konkurado.ch/en/bauliche-sanierung-
 und-erweiterung-mythenforum-schwyz
X-MICROSOFT-CDO-ALLDAYEVENT:TRUE
DTSTART;TZID=Europe/Zurich;VALUE=DATE:20250918
END:VEVENT
BEGIN:VEVENT
UID:69ea0aa3c6b46
DTSTAMP:20260423T120347Z
SUMMARY:KONKURADO: Bauliche Sanierung und Erweiterung MythenForum Schwyz\, 
 Abgabe der Studien 18.09.2025 - 07.11.2025
DESCRIPTION:Link zum Verfahren: https://konkurado.ch/en/bauliche-sanierung-
 und-erweiterung-mythenforum-schwyz
X-MICROSOFT-CDO-ALLDAYEVENT:TRUE
DTSTART;TZID=Europe/Zurich;VALUE=DATE:20251107
END:VEVENT
BEGIN:VEVENT
UID:69ea0aa3c6b8f
DTSTAMP:20260423T120347Z
SUMMARY:KONKURADO: Bauliche Sanierung und Erweiterung MythenForum Schwyz\, 
 1. Beurteilungstag inkl. Schlusspräsentationen Planungsteams 01.12.2025 -
  01.12.2025
DESCRIPTION:Link zum Verfahren: https://konkurado.ch/en/bauliche-sanierung-
 und-erweiterung-mythenforum-schwyz
X-MICROSOFT-CDO-ALLDAYEVENT:TRUE
DTSTART;TZID=Europe/Zurich;VALUE=DATE:20251201
END:VEVENT
BEGIN:VEVENT
UID:69ea0aa3c6bb3
DTSTAMP:20260423T120347Z
SUMMARY:KONKURADO: Bauliche Sanierung und Erweiterung MythenForum Schwyz\, 
 1. Beurteilungstag inkl. Schlusspräsentationen Planungsteams 01.12.2025 -
  01.12.2025
DESCRIPTION:Link zum Verfahren: https://konkurado.ch/en/bauliche-sanierung-
 und-erweiterung-mythenforum-schwyz
X-MICROSOFT-CDO-ALLDAYEVENT:TRUE
DTSTART;TZID=Europe/Zurich;VALUE=DATE:20251201
END:VEVENT
BEGIN:VEVENT
UID:69ea0aa3c6d36
DTSTAMP:20260423T120347Z
SUMMARY:KONKURADO: Bauliche Sanierung und Erweiterung MythenForum Schwyz\, 
 Fragenbeantwortung 01.04.2025 - 11.04.2025
DESCRIPTION:Link zum Verfahren: https://konkurado.ch/en/bauliche-sanierung-
 und-erweiterung-mythenforum-schwyz
X-MICROSOFT-CDO-ALLDAYEVENT:TRUE
DTSTART;TZID=Europe/Zurich;VALUE=DATE:20250401
END:VEVENT
BEGIN:VEVENT
UID:69ea0aa3c6d60
DTSTAMP:20260423T120347Z
SUMMARY:KONKURADO: Bauliche Sanierung und Erweiterung MythenForum Schwyz\, 
 Fragenbeantwortung 01.04.2025 - 11.04.2025
DESCRIPTION:Link zum Verfahren: https://konkurado.ch/en/bauliche-sanierung-
 und-erweiterung-mythenforum-schwyz
X-MICROSOFT-CDO-ALLDAYEVENT:TRUE
DTSTART;TZID=Europe/Zurich;VALUE=DATE:20250411
END:VEVENT
BEGIN:VEVENT
UID:69ea0aa3c6dbf
DTSTAMP:20260423T120347Z
SUMMARY:KONKURADO: Bauliche Sanierung und Erweiterung MythenForum Schwyz\, 
 Beurteilung der PQ-Unterlagen und Wahl 4-5 Planungsteams 03.05.2025 - 20.0
 5.2025
DESCRIPTION:Link zum Verfahren: https://konkurado.ch/en/bauliche-sanierung-
 und-erweiterung-mythenforum-schwyz
X-MICROSOFT-CDO-ALLDAYEVENT:TRUE
DTSTART;TZID=Europe/Zurich;VALUE=DATE:20250503
END:VEVENT
BEGIN:VEVENT
UID:69ea0aa3c6de7
DTSTAMP:20260423T120347Z
SUMMARY:KONKURADO: Bauliche Sanierung und Erweiterung MythenForum Schwyz\, 
 Beurteilung der PQ-Unterlagen und Wahl 4-5 Planungsteams 03.05.2025 - 20.0
 5.2025
DESCRIPTION:Link zum Verfahren: https://konkurado.ch/en/bauliche-sanierung-
 und-erweiterung-mythenforum-schwyz
X-MICROSOFT-CDO-ALLDAYEVENT:TRUE
DTSTART;TZID=Europe/Zurich;VALUE=DATE:20250520
END:VEVENT
BEGIN:VEVENT
UID:69ea0aa3c6e59
DTSTAMP:20260423T120347Z
SUMMARY:KONKURADO: Bauliche Sanierung und Erweiterung MythenForum Schwyz\, 
 Einreichung Teilnahmebestätigung 01.05.2025 - 06.06.2025
DESCRIPTION:Link zum Verfahren: https://konkurado.ch/en/bauliche-sanierung-
 und-erweiterung-mythenforum-schwyz
X-MICROSOFT-CDO-ALLDAYEVENT:TRUE
DTSTART;TZID=Europe/Zurich;VALUE=DATE:20250501
END:VEVENT
BEGIN:VEVENT
UID:69ea0aa3c6e80
DTSTAMP:20260423T120347Z
SUMMARY:KONKURADO: Bauliche Sanierung und Erweiterung MythenForum Schwyz\, 
 Einreichung Teilnahmebestätigung 01.05.2025 - 06.06.2025
DESCRIPTION:Link zum Verfahren: https://konkurado.ch/en/bauliche-sanierung-
 und-erweiterung-mythenforum-schwyz
X-MICROSOFT-CDO-ALLDAYEVENT:TRUE
DTSTART;TZID=Europe/Zurich;VALUE=DATE:20250606
END:VEVENT
BEGIN:VEVENT
UID:69ea0aa3c6ed5
DTSTAMP:20260423T120347Z
SUMMARY:KONKURADO: Bauliche Sanierung und Erweiterung MythenForum Schwyz\, 
 Startveranstaltung / Begehung (obligatorisch) Briefing Planungsteams mit G
 ebäudebesichtigung / Modellausgabe 01.07.2025 - 01.07.2025
DESCRIPTION:Link zum Verfahren: https://konkurado.ch/en/bauliche-sanierung-
 und-erweiterung-mythenforum-schwyz
X-MICROSOFT-CDO-ALLDAYEVENT:TRUE
DTSTART;TZID=Europe/Zurich;VALUE=DATE:20250701
END:VEVENT
BEGIN:VEVENT
UID:69ea0aa3c6efb
DTSTAMP:20260423T120347Z
SUMMARY:KONKURADO: Bauliche Sanierung und Erweiterung MythenForum Schwyz\, 
 Startveranstaltung / Begehung (obligatorisch) Briefing Planungsteams mit G
 ebäudebesichtigung / Modellausgabe 01.07.2025 - 01.07.2025
DESCRIPTION:Link zum Verfahren: https://konkurado.ch/en/bauliche-sanierung-
 und-erweiterung-mythenforum-schwyz
X-MICROSOFT-CDO-ALLDAYEVENT:TRUE
DTSTART;TZID=Europe/Zurich;VALUE=DATE:20250701
END:VEVENT
BEGIN:VEVENT
UID:69ea0aa3c6f2c
DTSTAMP:20260423T120347Z
SUMMARY:KONKURADO: Bauliche Sanierung und Erweiterung MythenForum Schwyz\, 
 Fragenstellung bis 01.07.2025 - 11.07.2025
DESCRIPTION:Link zum Verfahren: https://konkurado.ch/en/bauliche-sanierung-
 und-erweiterung-mythenforum-schwyz
X-MICROSOFT-CDO-ALLDAYEVENT:TRUE
DTSTART;TZID=Europe/Zurich;VALUE=DATE:20250701
END:VEVENT
BEGIN:VEVENT
UID:69ea0aa3c6f51
DTSTAMP:20260423T120347Z
SUMMARY:KONKURADO: Bauliche Sanierung und Erweiterung MythenForum Schwyz\, 
 Fragenstellung bis 01.07.2025 - 11.07.2025
DESCRIPTION:Link zum Verfahren: https://konkurado.ch/en/bauliche-sanierung-
 und-erweiterung-mythenforum-schwyz
X-MICROSOFT-CDO-ALLDAYEVENT:TRUE
DTSTART;TZID=Europe/Zurich;VALUE=DATE:20250711
END:VEVENT
BEGIN:VEVENT
UID:69ea0aa3c6fa3
DTSTAMP:20260423T120347Z
SUMMARY:KONKURADO: Bauliche Sanierung und Erweiterung MythenForum Schwyz\, 
 Vorabgabe Unterlagen Zwischenbesprechung 01.07.2025 - 10.09.2025
DESCRIPTION:Link zum Verfahren: https://konkurado.ch/en/bauliche-sanierung-
 und-erweiterung-mythenforum-schwyz
X-MICROSOFT-CDO-ALLDAYEVENT:TRUE
DTSTART;TZID=Europe/Zurich;VALUE=DATE:20250701
END:VEVENT
BEGIN:VEVENT
UID:69ea0aa3c6fc9
DTSTAMP:20260423T120347Z
SUMMARY:KONKURADO: Bauliche Sanierung und Erweiterung MythenForum Schwyz\, 
 Vorabgabe Unterlagen Zwischenbesprechung 01.07.2025 - 10.09.2025
DESCRIPTION:Link zum Verfahren: https://konkurado.ch/en/bauliche-sanierung-
 und-erweiterung-mythenforum-schwyz
X-MICROSOFT-CDO-ALLDAYEVENT:TRUE
DTSTART;TZID=Europe/Zurich;VALUE=DATE:20250910
END:VEVENT
BEGIN:VEVENT
UID:69ea0aa3c702c
DTSTAMP:20260423T120347Z
SUMMARY:KONKURADO: Bauliche Sanierung und Erweiterung MythenForum Schwyz\, 
 Zwischenbesprechung mit Planungsteams 17.09.2025 - 17.09.2025
DESCRIPTION:Link zum Verfahren: https://konkurado.ch/en/bauliche-sanierung-
 und-erweiterung-mythenforum-schwyz
X-MICROSOFT-CDO-ALLDAYEVENT:TRUE
DTSTART;TZID=Europe/Zurich;VALUE=DATE:20250917
END:VEVENT
BEGIN:VEVENT
UID:69ea0aa3c705f
DTSTAMP:20260423T120347Z
SUMMARY:KONKURADO: Bauliche Sanierung und Erweiterung MythenForum Schwyz\, 
 Zwischenbesprechung mit Planungsteams 17.09.2025 - 17.09.2025
DESCRIPTION:Link zum Verfahren: https://konkurado.ch/en/bauliche-sanierung-
 und-erweiterung-mythenforum-schwyz
X-MICROSOFT-CDO-ALLDAYEVENT:TRUE
DTSTART;TZID=Europe/Zurich;VALUE=DATE:20250917
END:VEVENT
BEGIN:VEVENT
UID:69ea0aa3c70b6
DTSTAMP:20260423T120347Z
SUMMARY:KONKURADO: Bauliche Sanierung und Erweiterung MythenForum Schwyz\, 
 Abgabe der Modelle 18.09.2025 - 21.11.2025
DESCRIPTION:Link zum Verfahren: https://konkurado.ch/en/bauliche-sanierung-
 und-erweiterung-mythenforum-schwyz
X-MICROSOFT-CDO-ALLDAYEVENT:TRUE
DTSTART;TZID=Europe/Zurich;VALUE=DATE:20250918
END:VEVENT
BEGIN:VEVENT
UID:69ea0aa3c70dd
DTSTAMP:20260423T120347Z
SUMMARY:KONKURADO: Bauliche Sanierung und Erweiterung MythenForum Schwyz\, 
 Abgabe der Modelle 18.09.2025 - 21.11.2025
DESCRIPTION:Link zum Verfahren: https://konkurado.ch/en/bauliche-sanierung-
 und-erweiterung-mythenforum-schwyz
X-MICROSOFT-CDO-ALLDAYEVENT:TRUE
DTSTART;TZID=Europe/Zurich;VALUE=DATE:20251121
END:VEVENT
BEGIN:VEVENT
UID:69ea0aa3c7117
DTSTAMP:20260423T120347Z
SUMMARY:KONKURADO: Bauliche Sanierung und Erweiterung MythenForum Schwyz\, 
 2. Beurteilungstag 04.12.2025 - 04.12.2025
DESCRIPTION:Link zum Verfahren: https://konkurado.ch/en/bauliche-sanierung-
 und-erweiterung-mythenforum-schwyz
X-MICROSOFT-CDO-ALLDAYEVENT:TRUE
DTSTART;TZID=Europe/Zurich;VALUE=DATE:20251204
END:VEVENT
BEGIN:VEVENT
UID:69ea0aa3c713b
DTSTAMP:20260423T120347Z
SUMMARY:KONKURADO: Bauliche Sanierung und Erweiterung MythenForum Schwyz\, 
 2. Beurteilungstag 04.12.2025 - 04.12.2025
DESCRIPTION:Link zum Verfahren: https://konkurado.ch/en/bauliche-sanierung-
 und-erweiterung-mythenforum-schwyz
X-MICROSOFT-CDO-ALLDAYEVENT:TRUE
DTSTART;TZID=Europe/Zurich;VALUE=DATE:20251204
END:VEVENT
END:VCALENDAR