BEGIN:VCALENDAR
VERSION:2.0
PRODID:spatie/icalendar-generator
NAME:Bauliche Entwicklung PUK Lengg
X-WR-CALNAME:Bauliche Entwicklung PUK Lengg
BEGIN:VTIMEZONE
TZID:Europe/Zurich
BEGIN:STANDARD
DTSTART:20241027T030000
TZOFFSETFROM:+0200
TZOFFSETTO:+0100
END:STANDARD
BEGIN:DAYLIGHT
DTSTART:20250330T010000
TZOFFSETFROM:+0100
TZOFFSETTO:+0200
END:DAYLIGHT
BEGIN:STANDARD
DTSTART:20251026T030000
TZOFFSETFROM:+0200
TZOFFSETTO:+0100
END:STANDARD
BEGIN:DAYLIGHT
DTSTART:20260329T010000
TZOFFSETFROM:+0100
TZOFFSETTO:+0200
END:DAYLIGHT
END:VTIMEZONE
BEGIN:VTIMEZONE
TZID:UTC
BEGIN:STANDARD
DTSTART:20250727T115157
TZOFFSETFROM:+0000
TZOFFSETTO:+0000
END:STANDARD
END:VTIMEZONE
BEGIN:VEVENT
UID:69ea07dd88474
DTSTAMP:20260423T115157Z
SUMMARY:KONKURADO: Bauliche Entwicklung PUK Lengg\, Abgabetermin für sämt
 liche Präqualifikationsunterlagen 03.04.2025 - 30.04.2025
DESCRIPTION:Link zum Verfahren: https://konkurado.ch/en/bauliche-entwicklun
 g-puk-lengg
X-MICROSOFT-CDO-ALLDAYEVENT:TRUE
DTSTART;TZID=Europe/Zurich;VALUE=DATE:20250403
END:VEVENT
BEGIN:VEVENT
UID:69ea07dd884fb
DTSTAMP:20260423T115157Z
SUMMARY:KONKURADO: Bauliche Entwicklung PUK Lengg\, Abgabetermin für sämt
 liche Präqualifikationsunterlagen 03.04.2025 - 30.04.2025
DESCRIPTION:Link zum Verfahren: https://konkurado.ch/en/bauliche-entwicklun
 g-puk-lengg
X-MICROSOFT-CDO-ALLDAYEVENT:TRUE
DTSTART;TZID=Europe/Zurich;VALUE=DATE:20250430
END:VEVENT
BEGIN:VEVENT
UID:69ea07dd88538
DTSTAMP:20260423T115157Z
SUMMARY:KONKURADO: Bauliche Entwicklung PUK Lengg\, Eingabe Fragenbeantwort
 ung 24.06.2025 - 08.07.2025
DESCRIPTION:Link zum Verfahren: https://konkurado.ch/en/bauliche-entwicklun
 g-puk-lengg
X-MICROSOFT-CDO-ALLDAYEVENT:TRUE
DTSTART;TZID=Europe/Zurich;VALUE=DATE:20250624
END:VEVENT
BEGIN:VEVENT
UID:69ea07dd8855f
DTSTAMP:20260423T115157Z
SUMMARY:KONKURADO: Bauliche Entwicklung PUK Lengg\, Eingabe Fragenbeantwort
 ung 24.06.2025 - 08.07.2025
DESCRIPTION:Link zum Verfahren: https://konkurado.ch/en/bauliche-entwicklun
 g-puk-lengg
X-MICROSOFT-CDO-ALLDAYEVENT:TRUE
DTSTART;TZID=Europe/Zurich;VALUE=DATE:20250708
END:VEVENT
BEGIN:VEVENT
UID:69ea07dd88590
DTSTAMP:20260423T115157Z
SUMMARY:KONKURADO: Bauliche Entwicklung PUK Lengg\, Eingabe Schlussabgabe 2
 4.06.2025 - 05.02.2026
DESCRIPTION:Link zum Verfahren: https://konkurado.ch/en/bauliche-entwicklun
 g-puk-lengg
X-MICROSOFT-CDO-ALLDAYEVENT:TRUE
DTSTART;TZID=Europe/Zurich;VALUE=DATE:20250624
END:VEVENT
BEGIN:VEVENT
UID:69ea07dd885b5
DTSTAMP:20260423T115157Z
SUMMARY:KONKURADO: Bauliche Entwicklung PUK Lengg\, Eingabe Schlussabgabe 2
 4.06.2025 - 05.02.2026
DESCRIPTION:Link zum Verfahren: https://konkurado.ch/en/bauliche-entwicklun
 g-puk-lengg
X-MICROSOFT-CDO-ALLDAYEVENT:TRUE
DTSTART;TZID=Europe/Zurich;VALUE=DATE:20260205
END:VEVENT
BEGIN:VEVENT
UID:69ea07dd8874b
DTSTAMP:20260423T115157Z
SUMMARY:KONKURADO: Bauliche Entwicklung PUK Lengg\, Versand Programm und Un
 terlagen Studienauftrag 24.06.2025 - 24.06.2025
DESCRIPTION:Link zum Verfahren: https://konkurado.ch/en/bauliche-entwicklun
 g-puk-lengg
X-MICROSOFT-CDO-ALLDAYEVENT:TRUE
DTSTART;TZID=Europe/Zurich;VALUE=DATE:20250624
END:VEVENT
BEGIN:VEVENT
UID:69ea07dd88776
DTSTAMP:20260423T115157Z
SUMMARY:KONKURADO: Bauliche Entwicklung PUK Lengg\, Versand Programm und Un
 terlagen Studienauftrag 24.06.2025 - 24.06.2025
DESCRIPTION:Link zum Verfahren: https://konkurado.ch/en/bauliche-entwicklun
 g-puk-lengg
X-MICROSOFT-CDO-ALLDAYEVENT:TRUE
DTSTART;TZID=Europe/Zurich;VALUE=DATE:20250624
END:VEVENT
BEGIN:VEVENT
UID:69ea07dd887d7
DTSTAMP:20260423T115157Z
SUMMARY:KONKURADO: Bauliche Entwicklung PUK Lengg\, Beantwortung Fragen 08.
 07.2025 - 22.07.2025
DESCRIPTION:Link zum Verfahren: https://konkurado.ch/en/bauliche-entwicklun
 g-puk-lengg
X-MICROSOFT-CDO-ALLDAYEVENT:TRUE
DTSTART;TZID=Europe/Zurich;VALUE=DATE:20250708
END:VEVENT
BEGIN:VEVENT
UID:69ea07dd887fd
DTSTAMP:20260423T115157Z
SUMMARY:KONKURADO: Bauliche Entwicklung PUK Lengg\, Beantwortung Fragen 08.
 07.2025 - 22.07.2025
DESCRIPTION:Link zum Verfahren: https://konkurado.ch/en/bauliche-entwicklun
 g-puk-lengg
X-MICROSOFT-CDO-ALLDAYEVENT:TRUE
DTSTART;TZID=Europe/Zurich;VALUE=DATE:20250722
END:VEVENT
BEGIN:VEVENT
UID:69ea07dd88852
DTSTAMP:20260423T115157Z
SUMMARY:KONKURADO: Bauliche Entwicklung PUK Lengg\, Zwischenbesprechung 24.
 06.2025 - 20.10.2025
DESCRIPTION:Link zum Verfahren: https://konkurado.ch/en/bauliche-entwicklun
 g-puk-lengg
X-MICROSOFT-CDO-ALLDAYEVENT:TRUE
DTSTART;TZID=Europe/Zurich;VALUE=DATE:20250624
END:VEVENT
BEGIN:VEVENT
UID:69ea07dd88879
DTSTAMP:20260423T115157Z
SUMMARY:KONKURADO: Bauliche Entwicklung PUK Lengg\, Zwischenbesprechung 24.
 06.2025 - 20.10.2025
DESCRIPTION:Link zum Verfahren: https://konkurado.ch/en/bauliche-entwicklun
 g-puk-lengg
X-MICROSOFT-CDO-ALLDAYEVENT:TRUE
DTSTART;TZID=Europe/Zurich;VALUE=DATE:20251020
END:VEVENT
BEGIN:VEVENT
UID:69ea07dd888cc
DTSTAMP:20260423T115157Z
SUMMARY:KONKURADO: Bauliche Entwicklung PUK Lengg\, Eingabe Modelle 24.06.2
 025 - 26.02.2026
DESCRIPTION:Link zum Verfahren: https://konkurado.ch/en/bauliche-entwicklun
 g-puk-lengg
X-MICROSOFT-CDO-ALLDAYEVENT:TRUE
DTSTART;TZID=Europe/Zurich;VALUE=DATE:20250624
END:VEVENT
BEGIN:VEVENT
UID:69ea07dd888f2
DTSTAMP:20260423T115157Z
SUMMARY:KONKURADO: Bauliche Entwicklung PUK Lengg\, Eingabe Modelle 24.06.2
 025 - 26.02.2026
DESCRIPTION:Link zum Verfahren: https://konkurado.ch/en/bauliche-entwicklun
 g-puk-lengg
X-MICROSOFT-CDO-ALLDAYEVENT:TRUE
DTSTART;TZID=Europe/Zurich;VALUE=DATE:20260226
END:VEVENT
END:VCALENDAR