BEGIN:VCALENDAR
VERSION:2.0
PRODID:spatie/icalendar-generator
NAME:AVANT-PROJET PLQ GROUET\, BERNEX
X-WR-CALNAME:AVANT-PROJET PLQ GROUET\, BERNEX
BEGIN:VTIMEZONE
TZID:Europe/Zurich
BEGIN:STANDARD
DTSTART:20251026T030000
TZOFFSETFROM:+0200
TZOFFSETTO:+0100
END:STANDARD
BEGIN:DAYLIGHT
DTSTART:20260329T010000
TZOFFSETFROM:+0100
TZOFFSETTO:+0200
END:DAYLIGHT
BEGIN:STANDARD
DTSTART:20261025T030000
TZOFFSETFROM:+0200
TZOFFSETTO:+0100
END:STANDARD
END:VTIMEZONE
BEGIN:VTIMEZONE
TZID:UTC
BEGIN:STANDARD
DTSTART:20250727T101635
TZOFFSETFROM:+0000
TZOFFSETTO:+0000
END:STANDARD
END:VTIMEZONE
BEGIN:VEVENT
UID:69e9f183239ff
DTSTAMP:20260423T101635Z
SUMMARY:KONKURADO: AVANT-PROJET PLQ GROUET\, BERNEX\, Session de questions\
 , soumettre avant 04.05.2026 - 04.05.2026
DESCRIPTION:Link zum Verfahren: https://konkurado.ch/en/avant-projet-plq-gr
 ouet-bernex
X-MICROSOFT-CDO-ALLDAYEVENT:TRUE
DTSTART;TZID=Europe/Zurich;VALUE=DATE:20260504
END:VEVENT
BEGIN:VEVENT
UID:69e9f18323a80
DTSTAMP:20260423T101635Z
SUMMARY:KONKURADO: AVANT-PROJET PLQ GROUET\, BERNEX\, Session de questions\
 , soumettre avant 04.05.2026 - 04.05.2026
DESCRIPTION:Link zum Verfahren: https://konkurado.ch/en/avant-projet-plq-gr
 ouet-bernex
X-MICROSOFT-CDO-ALLDAYEVENT:TRUE
DTSTART;TZID=Europe/Zurich;VALUE=DATE:20260504
END:VEVENT
BEGIN:VEVENT
UID:69e9f18323afb
DTSTAMP:20260423T101635Z
SUMMARY:KONKURADO: AVANT-PROJET PLQ GROUET\, BERNEX\, Soumission de la dema
 nde de participation 05.06.2026 - 05.06.2026
DESCRIPTION:Link zum Verfahren: https://konkurado.ch/en/avant-projet-plq-gr
 ouet-bernex
X-MICROSOFT-CDO-ALLDAYEVENT:TRUE
DTSTART;TZID=Europe/Zurich;VALUE=DATE:20260605
END:VEVENT
BEGIN:VEVENT
UID:69e9f18323b31
DTSTAMP:20260423T101635Z
SUMMARY:KONKURADO: AVANT-PROJET PLQ GROUET\, BERNEX\, Soumission de la dema
 nde de participation 05.06.2026 - 05.06.2026
DESCRIPTION:Link zum Verfahren: https://konkurado.ch/en/avant-projet-plq-gr
 ouet-bernex
X-MICROSOFT-CDO-ALLDAYEVENT:TRUE
DTSTART;TZID=Europe/Zurich;VALUE=DATE:20260605
END:VEVENT
END:VCALENDAR