BEGIN:VCALENDAR
VERSION:2.0
PRODID:spatie/icalendar-generator
NAME:Ausstattung Zeughausstrasse
X-WR-CALNAME:Ausstattung Zeughausstrasse
BEGIN:VTIMEZONE
TZID:Europe/Zurich
BEGIN:STANDARD
DTSTART:20241027T030000
TZOFFSETFROM:+0200
TZOFFSETTO:+0100
END:STANDARD
BEGIN:DAYLIGHT
DTSTART:20250330T010000
TZOFFSETFROM:+0100
TZOFFSETTO:+0200
END:DAYLIGHT
BEGIN:STANDARD
DTSTART:20251026T030000
TZOFFSETFROM:+0200
TZOFFSETTO:+0100
END:STANDARD
BEGIN:DAYLIGHT
DTSTART:20260329T010000
TZOFFSETFROM:+0100
TZOFFSETTO:+0200
END:DAYLIGHT
END:VTIMEZONE
BEGIN:VTIMEZONE
TZID:UTC
BEGIN:STANDARD
DTSTART:20250727T115414
TZOFFSETFROM:+0000
TZOFFSETTO:+0000
END:STANDARD
END:VTIMEZONE
BEGIN:VEVENT
UID:69ea08668e4fc
DTSTAMP:20260423T115414Z
SUMMARY:KONKURADO: Ausstattung Zeughausstrasse\, Einreichen des Teilnahmean
 trags 16.06.2025 - 17.10.2025
DESCRIPTION:Link zum Verfahren: https://konkurado.ch/en/ausstattung-zeughau
 sstrasse
X-MICROSOFT-CDO-ALLDAYEVENT:TRUE
DTSTART;TZID=Europe/Zurich;VALUE=DATE:20250616
END:VEVENT
BEGIN:VEVENT
UID:69ea08668e596
DTSTAMP:20260423T115414Z
SUMMARY:KONKURADO: Ausstattung Zeughausstrasse\, Einreichen des Teilnahmean
 trags 16.06.2025 - 17.10.2025
DESCRIPTION:Link zum Verfahren: https://konkurado.ch/en/ausstattung-zeughau
 sstrasse
X-MICROSOFT-CDO-ALLDAYEVENT:TRUE
DTSTART;TZID=Europe/Zurich;VALUE=DATE:20251017
END:VEVENT
BEGIN:VEVENT
UID:69ea08668e5d2
DTSTAMP:20260423T115414Z
SUMMARY:KONKURADO: Ausstattung Zeughausstrasse\, Einreichung von Fragen bis
  16.06.2025 - 31.07.2025
DESCRIPTION:Link zum Verfahren: https://konkurado.ch/en/ausstattung-zeughau
 sstrasse
X-MICROSOFT-CDO-ALLDAYEVENT:TRUE
DTSTART;TZID=Europe/Zurich;VALUE=DATE:20250616
END:VEVENT
BEGIN:VEVENT
UID:69ea08668e5f9
DTSTAMP:20260423T115414Z
SUMMARY:KONKURADO: Ausstattung Zeughausstrasse\, Einreichung von Fragen bis
  16.06.2025 - 31.07.2025
DESCRIPTION:Link zum Verfahren: https://konkurado.ch/en/ausstattung-zeughau
 sstrasse
X-MICROSOFT-CDO-ALLDAYEVENT:TRUE
DTSTART;TZID=Europe/Zurich;VALUE=DATE:20250731
END:VEVENT
BEGIN:VEVENT
UID:69ea08668e62a
DTSTAMP:20260423T115414Z
SUMMARY:KONKURADO: Ausstattung Zeughausstrasse\, Einreichung des Angebots b
 is 03.04.2026 - 03.04.2026
DESCRIPTION:Link zum Verfahren: https://konkurado.ch/en/ausstattung-zeughau
 sstrasse
X-MICROSOFT-CDO-ALLDAYEVENT:TRUE
DTSTART;TZID=Europe/Zurich;VALUE=DATE:20260403
END:VEVENT
BEGIN:VEVENT
UID:69ea08668e64f
DTSTAMP:20260423T115414Z
SUMMARY:KONKURADO: Ausstattung Zeughausstrasse\, Einreichung des Angebots b
 is 03.04.2026 - 03.04.2026
DESCRIPTION:Link zum Verfahren: https://konkurado.ch/en/ausstattung-zeughau
 sstrasse
X-MICROSOFT-CDO-ALLDAYEVENT:TRUE
DTSTART;TZID=Europe/Zurich;VALUE=DATE:20260403
END:VEVENT
END:VCALENDAR