BEGIN:VCALENDAR
VERSION:2.0
PRODID:spatie/icalendar-generator
NAME:Aufstockung Schulhaus Härkingen
X-WR-CALNAME:Aufstockung Schulhaus Härkingen
BEGIN:VTIMEZONE
TZID:Europe/Zurich
BEGIN:STANDARD
DTSTART:20241027T030000
TZOFFSETFROM:+0200
TZOFFSETTO:+0100
END:STANDARD
BEGIN:DAYLIGHT
DTSTART:20250330T010000
TZOFFSETFROM:+0100
TZOFFSETTO:+0200
END:DAYLIGHT
BEGIN:STANDARD
DTSTART:20251026T030000
TZOFFSETFROM:+0200
TZOFFSETTO:+0100
END:STANDARD
BEGIN:DAYLIGHT
DTSTART:20260329T010000
TZOFFSETFROM:+0100
TZOFFSETTO:+0200
END:DAYLIGHT
END:VTIMEZONE
BEGIN:VTIMEZONE
TZID:UTC
BEGIN:STANDARD
DTSTART:20250727T120106
TZOFFSETFROM:+0000
TZOFFSETTO:+0000
END:STANDARD
END:VTIMEZONE
BEGIN:VEVENT
UID:69ea0a02b1ba7
DTSTAMP:20260423T120106Z
SUMMARY:KONKURADO: Aufstockung Schulhaus Härkingen\, Eingabe der Präquali
 fikationsunterlagen\, Eintreffen bei Vergabestelle! 14.01.2025 - 14.02.202
 5
DESCRIPTION:Link zum Verfahren: https://konkurado.ch/en/aufstockung-schulha
 us-harkingen
X-MICROSOFT-CDO-ALLDAYEVENT:TRUE
DTSTART;TZID=Europe/Zurich;VALUE=DATE:20250114
END:VEVENT
BEGIN:VEVENT
UID:69ea0a02b1c2e
DTSTAMP:20260423T120106Z
SUMMARY:KONKURADO: Aufstockung Schulhaus Härkingen\, Eingabe der Präquali
 fikationsunterlagen\, Eintreffen bei Vergabestelle! 14.01.2025 - 14.02.202
 5
DESCRIPTION:Link zum Verfahren: https://konkurado.ch/en/aufstockung-schulha
 us-harkingen
X-MICROSOFT-CDO-ALLDAYEVENT:TRUE
DTSTART;TZID=Europe/Zurich;VALUE=DATE:20250214
END:VEVENT
BEGIN:VEVENT
UID:69ea0a02b1d83
DTSTAMP:20260423T120106Z
SUMMARY:KONKURADO: Aufstockung Schulhaus Härkingen\, Bezug/Abgabe der Auss
 chreibungsunterlagen 31.03.2025 - 09.05.2025
DESCRIPTION:Link zum Verfahren: https://konkurado.ch/en/aufstockung-schulha
 us-harkingen
X-MICROSOFT-CDO-ALLDAYEVENT:TRUE
DTSTART;TZID=Europe/Zurich;VALUE=DATE:20250331
END:VEVENT
BEGIN:VEVENT
UID:69ea0a02b1dae
DTSTAMP:20260423T120106Z
SUMMARY:KONKURADO: Aufstockung Schulhaus Härkingen\, Bezug/Abgabe der Auss
 chreibungsunterlagen 31.03.2025 - 09.05.2025
DESCRIPTION:Link zum Verfahren: https://konkurado.ch/en/aufstockung-schulha
 us-harkingen
X-MICROSOFT-CDO-ALLDAYEVENT:TRUE
DTSTART;TZID=Europe/Zurich;VALUE=DATE:20250509
END:VEVENT
BEGIN:VEVENT
UID:69ea0a02b1de5
DTSTAMP:20260423T120106Z
SUMMARY:KONKURADO: Aufstockung Schulhaus Härkingen\, Fragenstellung 31.03.
 2025 - 11.04.2025
DESCRIPTION:Link zum Verfahren: https://konkurado.ch/en/aufstockung-schulha
 us-harkingen
X-MICROSOFT-CDO-ALLDAYEVENT:TRUE
DTSTART;TZID=Europe/Zurich;VALUE=DATE:20250331
END:VEVENT
BEGIN:VEVENT
UID:69ea0a02b1e0a
DTSTAMP:20260423T120106Z
SUMMARY:KONKURADO: Aufstockung Schulhaus Härkingen\, Fragenstellung 31.03.
 2025 - 11.04.2025
DESCRIPTION:Link zum Verfahren: https://konkurado.ch/en/aufstockung-schulha
 us-harkingen
X-MICROSOFT-CDO-ALLDAYEVENT:TRUE
DTSTART;TZID=Europe/Zurich;VALUE=DATE:20250411
END:VEVENT
BEGIN:VEVENT
UID:69ea0a02b1e6e
DTSTAMP:20260423T120106Z
SUMMARY:KONKURADO: Aufstockung Schulhaus Härkingen\, Eingabe der Angebote\
 , Eintreffen bei Vergabestelle! 31.03.2025 - 09.05.2025
DESCRIPTION:Link zum Verfahren: https://konkurado.ch/en/aufstockung-schulha
 us-harkingen
X-MICROSOFT-CDO-ALLDAYEVENT:TRUE
DTSTART;TZID=Europe/Zurich;VALUE=DATE:20250331
END:VEVENT
BEGIN:VEVENT
UID:69ea0a02b1e95
DTSTAMP:20260423T120106Z
SUMMARY:KONKURADO: Aufstockung Schulhaus Härkingen\, Eingabe der Angebote\
 , Eintreffen bei Vergabestelle! 31.03.2025 - 09.05.2025
DESCRIPTION:Link zum Verfahren: https://konkurado.ch/en/aufstockung-schulha
 us-harkingen
X-MICROSOFT-CDO-ALLDAYEVENT:TRUE
DTSTART;TZID=Europe/Zurich;VALUE=DATE:20250509
END:VEVENT
BEGIN:VEVENT
UID:69ea0a02b1ed3
DTSTAMP:20260423T120106Z
SUMMARY:KONKURADO: Aufstockung Schulhaus Härkingen\, Beratung des Beurteil
 ungsgremiums 16.06.2025 - 16.06.2025
DESCRIPTION:Link zum Verfahren: https://konkurado.ch/en/aufstockung-schulha
 us-harkingen
X-MICROSOFT-CDO-ALLDAYEVENT:TRUE
DTSTART;TZID=Europe/Zurich;VALUE=DATE:20250616
END:VEVENT
BEGIN:VEVENT
UID:69ea0a02b1efa
DTSTAMP:20260423T120106Z
SUMMARY:KONKURADO: Aufstockung Schulhaus Härkingen\, Beratung des Beurteil
 ungsgremiums 16.06.2025 - 16.06.2025
DESCRIPTION:Link zum Verfahren: https://konkurado.ch/en/aufstockung-schulha
 us-harkingen
X-MICROSOFT-CDO-ALLDAYEVENT:TRUE
DTSTART;TZID=Europe/Zurich;VALUE=DATE:20250616
END:VEVENT
BEGIN:VEVENT
UID:69ea0a02b1f63
DTSTAMP:20260423T120106Z
SUMMARY:KONKURADO: Aufstockung Schulhaus Härkingen\, Informationsveranstal
 tung\, Ortsbesichtigung Treffpunkt: Eingang Schulhaus\, Fröschengasse 2\,
  4624 Härkingen: 13:30 Uhr 04.04.2025 - 04.04.2025
DESCRIPTION:Link zum Verfahren: https://konkurado.ch/en/aufstockung-schulha
 us-harkingen
X-MICROSOFT-CDO-ALLDAYEVENT:TRUE
DTSTART;TZID=Europe/Zurich;VALUE=DATE:20250404
END:VEVENT
BEGIN:VEVENT
UID:69ea0a02b1f8a
DTSTAMP:20260423T120106Z
SUMMARY:KONKURADO: Aufstockung Schulhaus Härkingen\, Informationsveranstal
 tung\, Ortsbesichtigung Treffpunkt: Eingang Schulhaus\, Fröschengasse 2\,
  4624 Härkingen: 13:30 Uhr 04.04.2025 - 04.04.2025
DESCRIPTION:Link zum Verfahren: https://konkurado.ch/en/aufstockung-schulha
 us-harkingen
X-MICROSOFT-CDO-ALLDAYEVENT:TRUE
DTSTART;TZID=Europe/Zurich;VALUE=DATE:20250404
END:VEVENT
BEGIN:VEVENT
UID:69ea0a02b1fe1
DTSTAMP:20260423T120106Z
SUMMARY:KONKURADO: Aufstockung Schulhaus Härkingen\, Fragenbeantwortung 12
 .04.2025 - 22.04.2025
DESCRIPTION:Link zum Verfahren: https://konkurado.ch/en/aufstockung-schulha
 us-harkingen
X-MICROSOFT-CDO-ALLDAYEVENT:TRUE
DTSTART;TZID=Europe/Zurich;VALUE=DATE:20250412
END:VEVENT
BEGIN:VEVENT
UID:69ea0a02b2007
DTSTAMP:20260423T120106Z
SUMMARY:KONKURADO: Aufstockung Schulhaus Härkingen\, Fragenbeantwortung 12
 .04.2025 - 22.04.2025
DESCRIPTION:Link zum Verfahren: https://konkurado.ch/en/aufstockung-schulha
 us-harkingen
X-MICROSOFT-CDO-ALLDAYEVENT:TRUE
DTSTART;TZID=Europe/Zurich;VALUE=DATE:20250422
END:VEVENT
BEGIN:VEVENT
UID:69ea0a02b205b
DTSTAMP:20260423T120106Z
SUMMARY:KONKURADO: Aufstockung Schulhaus Härkingen\, Offertöffnung 09.05.
 2025 - 09.05.2025
DESCRIPTION:Link zum Verfahren: https://konkurado.ch/en/aufstockung-schulha
 us-harkingen
X-MICROSOFT-CDO-ALLDAYEVENT:TRUE
DTSTART;TZID=Europe/Zurich;VALUE=DATE:20250509
END:VEVENT
BEGIN:VEVENT
UID:69ea0a02b2082
DTSTAMP:20260423T120106Z
SUMMARY:KONKURADO: Aufstockung Schulhaus Härkingen\, Offertöffnung 09.05.
 2025 - 09.05.2025
DESCRIPTION:Link zum Verfahren: https://konkurado.ch/en/aufstockung-schulha
 us-harkingen
X-MICROSOFT-CDO-ALLDAYEVENT:TRUE
DTSTART;TZID=Europe/Zurich;VALUE=DATE:20250509
END:VEVENT
BEGIN:VEVENT
UID:69ea0a02b20d4
DTSTAMP:20260423T120106Z
SUMMARY:KONKURADO: Aufstockung Schulhaus Härkingen\, Präsentation der Ang
 ebote vor dem Beurteilungsgremium ▪ Zeitfenster 1: 09:00 Uhr\, Zeitfenst
 er 2: 10:00 Uhr\, Zeitfenster 3: 11:00 Uhr 16.06.2025 - 16.06.2025
DESCRIPTION:Link zum Verfahren: https://konkurado.ch/en/aufstockung-schulha
 us-harkingen
X-MICROSOFT-CDO-ALLDAYEVENT:TRUE
DTSTART;TZID=Europe/Zurich;VALUE=DATE:20250616
END:VEVENT
BEGIN:VEVENT
UID:69ea0a02b2100
DTSTAMP:20260423T120106Z
SUMMARY:KONKURADO: Aufstockung Schulhaus Härkingen\, Präsentation der Ang
 ebote vor dem Beurteilungsgremium ▪ Zeitfenster 1: 09:00 Uhr\, Zeitfenst
 er 2: 10:00 Uhr\, Zeitfenster 3: 11:00 Uhr 16.06.2025 - 16.06.2025
DESCRIPTION:Link zum Verfahren: https://konkurado.ch/en/aufstockung-schulha
 us-harkingen
X-MICROSOFT-CDO-ALLDAYEVENT:TRUE
DTSTART;TZID=Europe/Zurich;VALUE=DATE:20250616
END:VEVENT
BEGIN:VEVENT
UID:69ea0a02b2153
DTSTAMP:20260423T120106Z
SUMMARY:KONKURADO: Aufstockung Schulhaus Härkingen\, Bericht des Beurteilu
 ngsgremiums mit Empfehlung an den Gemeinderat 17.06.2025 - 25.06.2025
DESCRIPTION:Link zum Verfahren: https://konkurado.ch/en/aufstockung-schulha
 us-harkingen
X-MICROSOFT-CDO-ALLDAYEVENT:TRUE
DTSTART;TZID=Europe/Zurich;VALUE=DATE:20250617
END:VEVENT
BEGIN:VEVENT
UID:69ea0a02b2179
DTSTAMP:20260423T120106Z
SUMMARY:KONKURADO: Aufstockung Schulhaus Härkingen\, Bericht des Beurteilu
 ngsgremiums mit Empfehlung an den Gemeinderat 17.06.2025 - 25.06.2025
DESCRIPTION:Link zum Verfahren: https://konkurado.ch/en/aufstockung-schulha
 us-harkingen
X-MICROSOFT-CDO-ALLDAYEVENT:TRUE
DTSTART;TZID=Europe/Zurich;VALUE=DATE:20250625
END:VEVENT
BEGIN:VEVENT
UID:69ea0a02b21c8
DTSTAMP:20260423T120106Z
SUMMARY:KONKURADO: Aufstockung Schulhaus Härkingen\, Entscheid des Gemeind
 erats über die Projekt- und Kreditgenehmigung sowie der Urnen- botschaft 
 mit Antrag an die Gemeindeversammlung 01.07.2025 - 01.07.2025
DESCRIPTION:Link zum Verfahren: https://konkurado.ch/en/aufstockung-schulha
 us-harkingen
X-MICROSOFT-CDO-ALLDAYEVENT:TRUE
DTSTART;TZID=Europe/Zurich;VALUE=DATE:20250701
END:VEVENT
BEGIN:VEVENT
UID:69ea0a02b21ed
DTSTAMP:20260423T120106Z
SUMMARY:KONKURADO: Aufstockung Schulhaus Härkingen\, Entscheid des Gemeind
 erats über die Projekt- und Kreditgenehmigung sowie der Urnen- botschaft 
 mit Antrag an die Gemeindeversammlung 01.07.2025 - 01.07.2025
DESCRIPTION:Link zum Verfahren: https://konkurado.ch/en/aufstockung-schulha
 us-harkingen
X-MICROSOFT-CDO-ALLDAYEVENT:TRUE
DTSTART;TZID=Europe/Zurich;VALUE=DATE:20250701
END:VEVENT
BEGIN:VEVENT
UID:69ea0a02b223c
DTSTAMP:20260423T120106Z
SUMMARY:KONKURADO: Aufstockung Schulhaus Härkingen\, Entscheid der Gemeind
 eversammlung über die Urnenbotschaft mit Projekt- und Kredit- genehmigung
  20.08.2025 - 20.08.2025
DESCRIPTION:Link zum Verfahren: https://konkurado.ch/en/aufstockung-schulha
 us-harkingen
X-MICROSOFT-CDO-ALLDAYEVENT:TRUE
DTSTART;TZID=Europe/Zurich;VALUE=DATE:20250820
END:VEVENT
BEGIN:VEVENT
UID:69ea0a02b2264
DTSTAMP:20260423T120106Z
SUMMARY:KONKURADO: Aufstockung Schulhaus Härkingen\, Entscheid der Gemeind
 eversammlung über die Urnenbotschaft mit Projekt- und Kredit- genehmigung
  20.08.2025 - 20.08.2025
DESCRIPTION:Link zum Verfahren: https://konkurado.ch/en/aufstockung-schulha
 us-harkingen
X-MICROSOFT-CDO-ALLDAYEVENT:TRUE
DTSTART;TZID=Europe/Zurich;VALUE=DATE:20250820
END:VEVENT
BEGIN:VEVENT
UID:69ea0a02b22b4
DTSTAMP:20260423T120106Z
SUMMARY:KONKURADO: Aufstockung Schulhaus Härkingen\, Volksentscheid aus Ur
 nenabstimmung 28.09.2025 - 28.09.2025
DESCRIPTION:Link zum Verfahren: https://konkurado.ch/en/aufstockung-schulha
 us-harkingen
X-MICROSOFT-CDO-ALLDAYEVENT:TRUE
DTSTART;TZID=Europe/Zurich;VALUE=DATE:20250928
END:VEVENT
BEGIN:VEVENT
UID:69ea0a02b22db
DTSTAMP:20260423T120106Z
SUMMARY:KONKURADO: Aufstockung Schulhaus Härkingen\, Volksentscheid aus Ur
 nenabstimmung 28.09.2025 - 28.09.2025
DESCRIPTION:Link zum Verfahren: https://konkurado.ch/en/aufstockung-schulha
 us-harkingen
X-MICROSOFT-CDO-ALLDAYEVENT:TRUE
DTSTART;TZID=Europe/Zurich;VALUE=DATE:20250928
END:VEVENT
BEGIN:VEVENT
UID:69ea0a02b232a
DTSTAMP:20260423T120106Z
SUMMARY:KONKURADO: Aufstockung Schulhaus Härkingen\, Versand der Zuschlags
 verfügung und der Absageverfügungen an die Teilnehmenden der Angebotspha
 se (mit Rechtsmittelbelehrung\, Beschwerdefrist: 20 Tage!) 06.10.2025 - 06
 .10.2025
DESCRIPTION:Link zum Verfahren: https://konkurado.ch/en/aufstockung-schulha
 us-harkingen
X-MICROSOFT-CDO-ALLDAYEVENT:TRUE
DTSTART;TZID=Europe/Zurich;VALUE=DATE:20251006
END:VEVENT
BEGIN:VEVENT
UID:69ea0a02b2350
DTSTAMP:20260423T120106Z
SUMMARY:KONKURADO: Aufstockung Schulhaus Härkingen\, Versand der Zuschlags
 verfügung und der Absageverfügungen an die Teilnehmenden der Angebotspha
 se (mit Rechtsmittelbelehrung\, Beschwerdefrist: 20 Tage!) 06.10.2025 - 06
 .10.2025
DESCRIPTION:Link zum Verfahren: https://konkurado.ch/en/aufstockung-schulha
 us-harkingen
X-MICROSOFT-CDO-ALLDAYEVENT:TRUE
DTSTART;TZID=Europe/Zurich;VALUE=DATE:20251006
END:VEVENT
BEGIN:VEVENT
UID:69ea0a02b23a0
DTSTAMP:20260423T120106Z
SUMMARY:KONKURADO: Aufstockung Schulhaus Härkingen\, Vertragsabschluss\, s
 ofern keine Beschwerde vorliegt 31.10.2025 - 31.10.2025
DESCRIPTION:Link zum Verfahren: https://konkurado.ch/en/aufstockung-schulha
 us-harkingen
X-MICROSOFT-CDO-ALLDAYEVENT:TRUE
DTSTART;TZID=Europe/Zurich;VALUE=DATE:20251031
END:VEVENT
BEGIN:VEVENT
UID:69ea0a02b23c6
DTSTAMP:20260423T120106Z
SUMMARY:KONKURADO: Aufstockung Schulhaus Härkingen\, Vertragsabschluss\, s
 ofern keine Beschwerde vorliegt 31.10.2025 - 31.10.2025
DESCRIPTION:Link zum Verfahren: https://konkurado.ch/en/aufstockung-schulha
 us-harkingen
X-MICROSOFT-CDO-ALLDAYEVENT:TRUE
DTSTART;TZID=Europe/Zurich;VALUE=DATE:20251031
END:VEVENT
BEGIN:VEVENT
UID:69ea0a02b2416
DTSTAMP:20260423T120106Z
SUMMARY:KONKURADO: Aufstockung Schulhaus Härkingen\, Öffnung der Teilnahm
 eanträge 14.02.2025 - 14.02.2025
DESCRIPTION:Link zum Verfahren: https://konkurado.ch/en/aufstockung-schulha
 us-harkingen
X-MICROSOFT-CDO-ALLDAYEVENT:TRUE
DTSTART;TZID=Europe/Zurich;VALUE=DATE:20250214
END:VEVENT
BEGIN:VEVENT
UID:69ea0a02b243d
DTSTAMP:20260423T120106Z
SUMMARY:KONKURADO: Aufstockung Schulhaus Härkingen\, Öffnung der Teilnahm
 eanträge 14.02.2025 - 14.02.2025
DESCRIPTION:Link zum Verfahren: https://konkurado.ch/en/aufstockung-schulha
 us-harkingen
X-MICROSOFT-CDO-ALLDAYEVENT:TRUE
DTSTART;TZID=Europe/Zurich;VALUE=DATE:20250214
END:VEVENT
BEGIN:VEVENT
UID:69ea0a02b2476
DTSTAMP:20260423T120106Z
SUMMARY:KONKURADO: Aufstockung Schulhaus Härkingen\, Beratung des Beurteil
 ungsgremiums 06.03.2025 - 06.03.2025
DESCRIPTION:Link zum Verfahren: https://konkurado.ch/en/aufstockung-schulha
 us-harkingen
X-MICROSOFT-CDO-ALLDAYEVENT:TRUE
DTSTART;TZID=Europe/Zurich;VALUE=DATE:20250306
END:VEVENT
BEGIN:VEVENT
UID:69ea0a02b249b
DTSTAMP:20260423T120106Z
SUMMARY:KONKURADO: Aufstockung Schulhaus Härkingen\, Beratung des Beurteil
 ungsgremiums 06.03.2025 - 06.03.2025
DESCRIPTION:Link zum Verfahren: https://konkurado.ch/en/aufstockung-schulha
 us-harkingen
X-MICROSOFT-CDO-ALLDAYEVENT:TRUE
DTSTART;TZID=Europe/Zurich;VALUE=DATE:20250306
END:VEVENT
BEGIN:VEVENT
UID:69ea0a02b24ed
DTSTAMP:20260423T120106Z
SUMMARY:KONKURADO: Aufstockung Schulhaus Härkingen\, Bericht Beurteilungsg
 remium mit Empfehlung an den Gemeinderat 12.03.2025 - 12.03.2025
DESCRIPTION:Link zum Verfahren: https://konkurado.ch/en/aufstockung-schulha
 us-harkingen
X-MICROSOFT-CDO-ALLDAYEVENT:TRUE
DTSTART;TZID=Europe/Zurich;VALUE=DATE:20250312
END:VEVENT
BEGIN:VEVENT
UID:69ea0a02b2514
DTSTAMP:20260423T120106Z
SUMMARY:KONKURADO: Aufstockung Schulhaus Härkingen\, Bericht Beurteilungsg
 remium mit Empfehlung an den Gemeinderat 12.03.2025 - 12.03.2025
DESCRIPTION:Link zum Verfahren: https://konkurado.ch/en/aufstockung-schulha
 us-harkingen
X-MICROSOFT-CDO-ALLDAYEVENT:TRUE
DTSTART;TZID=Europe/Zurich;VALUE=DATE:20250312
END:VEVENT
BEGIN:VEVENT
UID:69ea0a02b2564
DTSTAMP:20260423T120106Z
SUMMARY:KONKURADO: Aufstockung Schulhaus Härkingen\, Entscheid des Gemeind
 erats über die Teilnahme der Angebotsphase 17.03.2025 - 17.03.2025
DESCRIPTION:Link zum Verfahren: https://konkurado.ch/en/aufstockung-schulha
 us-harkingen
X-MICROSOFT-CDO-ALLDAYEVENT:TRUE
DTSTART;TZID=Europe/Zurich;VALUE=DATE:20250317
END:VEVENT
BEGIN:VEVENT
UID:69ea0a02b258a
DTSTAMP:20260423T120106Z
SUMMARY:KONKURADO: Aufstockung Schulhaus Härkingen\, Entscheid des Gemeind
 erats über die Teilnahme der Angebotsphase 17.03.2025 - 17.03.2025
DESCRIPTION:Link zum Verfahren: https://konkurado.ch/en/aufstockung-schulha
 us-harkingen
X-MICROSOFT-CDO-ALLDAYEVENT:TRUE
DTSTART;TZID=Europe/Zurich;VALUE=DATE:20250317
END:VEVENT
BEGIN:VEVENT
UID:69ea0a02b25d9
DTSTAMP:20260423T120106Z
SUMMARY:KONKURADO: Aufstockung Schulhaus Härkingen\, Versand der Verfügun
 g an die Teilnehmenden der Präqualifikation (mit Rechtsmittelbelehrung\, 
 Beschwerdefrist: 20 Tage!) 24.03.2025 - 24.03.2025
DESCRIPTION:Link zum Verfahren: https://konkurado.ch/en/aufstockung-schulha
 us-harkingen
X-MICROSOFT-CDO-ALLDAYEVENT:TRUE
DTSTART;TZID=Europe/Zurich;VALUE=DATE:20250324
END:VEVENT
BEGIN:VEVENT
UID:69ea0a02b25fe
DTSTAMP:20260423T120106Z
SUMMARY:KONKURADO: Aufstockung Schulhaus Härkingen\, Versand der Verfügun
 g an die Teilnehmenden der Präqualifikation (mit Rechtsmittelbelehrung\, 
 Beschwerdefrist: 20 Tage!) 24.03.2025 - 24.03.2025
DESCRIPTION:Link zum Verfahren: https://konkurado.ch/en/aufstockung-schulha
 us-harkingen
X-MICROSOFT-CDO-ALLDAYEVENT:TRUE
DTSTART;TZID=Europe/Zurich;VALUE=DATE:20250324
END:VEVENT
END:VCALENDAR