BEGIN:VCALENDAR
VERSION:2.0
PRODID:spatie/icalendar-generator
NAME:Arealerneuerung iwaz 2035
X-WR-CALNAME:Arealerneuerung iwaz 2035
BEGIN:VTIMEZONE
TZID:Europe/Zurich
BEGIN:STANDARD
DTSTART:20231029T030000
TZOFFSETFROM:+0200
TZOFFSETTO:+0100
END:STANDARD
BEGIN:DAYLIGHT
DTSTART:20240331T010000
TZOFFSETFROM:+0100
TZOFFSETTO:+0200
END:DAYLIGHT
BEGIN:STANDARD
DTSTART:20241027T030000
TZOFFSETFROM:+0200
TZOFFSETTO:+0100
END:STANDARD
BEGIN:DAYLIGHT
DTSTART:20250330T010000
TZOFFSETFROM:+0100
TZOFFSETTO:+0200
END:DAYLIGHT
BEGIN:STANDARD
DTSTART:20251026T030000
TZOFFSETFROM:+0200
TZOFFSETTO:+0100
END:STANDARD
END:VTIMEZONE
BEGIN:VTIMEZONE
TZID:UTC
BEGIN:STANDARD
DTSTART:20250727T120106
TZOFFSETFROM:+0000
TZOFFSETTO:+0000
END:STANDARD
END:VTIMEZONE
BEGIN:VEVENT
UID:69ea0a02b0b5c
DTSTAMP:20260423T120106Z
SUMMARY:KONKURADO: Arealerneuerung iwaz 2035\, Anmeldung 05.06.2024 - 03.10
 .2024
DESCRIPTION:Link zum Verfahren: https://konkurado.ch/en/arealerneuerung-iwa
 z-2035
X-MICROSOFT-CDO-ALLDAYEVENT:TRUE
DTSTART;TZID=Europe/Zurich;VALUE=DATE:20240605
END:VEVENT
BEGIN:VEVENT
UID:69ea0a02b0bee
DTSTAMP:20260423T120106Z
SUMMARY:KONKURADO: Arealerneuerung iwaz 2035\, Anmeldung 05.06.2024 - 03.10
 .2024
DESCRIPTION:Link zum Verfahren: https://konkurado.ch/en/arealerneuerung-iwa
 z-2035
X-MICROSOFT-CDO-ALLDAYEVENT:TRUE
DTSTART;TZID=Europe/Zurich;VALUE=DATE:20241003
END:VEVENT
BEGIN:VEVENT
UID:69ea0a02b0dcb
DTSTAMP:20260423T120106Z
SUMMARY:KONKURADO: Arealerneuerung iwaz 2035\, Freie Begehung Areal 05.06.2
 024 - 18.06.2024
DESCRIPTION:Link zum Verfahren: https://konkurado.ch/en/arealerneuerung-iwa
 z-2035
X-MICROSOFT-CDO-ALLDAYEVENT:TRUE
DTSTART;TZID=Europe/Zurich;VALUE=DATE:20240605
END:VEVENT
BEGIN:VEVENT
UID:69ea0a02b0df9
DTSTAMP:20260423T120106Z
SUMMARY:KONKURADO: Arealerneuerung iwaz 2035\, Freie Begehung Areal 05.06.2
 024 - 18.06.2024
DESCRIPTION:Link zum Verfahren: https://konkurado.ch/en/arealerneuerung-iwa
 z-2035
X-MICROSOFT-CDO-ALLDAYEVENT:TRUE
DTSTART;TZID=Europe/Zurich;VALUE=DATE:20240618
END:VEVENT
BEGIN:VEVENT
UID:69ea0a02b0e36
DTSTAMP:20260423T120106Z
SUMMARY:KONKURADO: Arealerneuerung iwaz 2035\, Fragerunde 05.06.2024 - 24.0
 6.2024
DESCRIPTION:Link zum Verfahren: https://konkurado.ch/en/arealerneuerung-iwa
 z-2035
X-MICROSOFT-CDO-ALLDAYEVENT:TRUE
DTSTART;TZID=Europe/Zurich;VALUE=DATE:20240605
END:VEVENT
BEGIN:VEVENT
UID:69ea0a02b0e5c
DTSTAMP:20260423T120106Z
SUMMARY:KONKURADO: Arealerneuerung iwaz 2035\, Fragerunde 05.06.2024 - 24.0
 6.2024
DESCRIPTION:Link zum Verfahren: https://konkurado.ch/en/arealerneuerung-iwa
 z-2035
X-MICROSOFT-CDO-ALLDAYEVENT:TRUE
DTSTART;TZID=Europe/Zurich;VALUE=DATE:20240624
END:VEVENT
BEGIN:VEVENT
UID:69ea0a02b0ec6
DTSTAMP:20260423T120106Z
SUMMARY:KONKURADO: Arealerneuerung iwaz 2035\, Fragenbeantwortung 19.06.202
 4 - 05.07.2024
DESCRIPTION:Link zum Verfahren: https://konkurado.ch/en/arealerneuerung-iwa
 z-2035
X-MICROSOFT-CDO-ALLDAYEVENT:TRUE
DTSTART;TZID=Europe/Zurich;VALUE=DATE:20240619
END:VEVENT
BEGIN:VEVENT
UID:69ea0a02b0eed
DTSTAMP:20260423T120106Z
SUMMARY:KONKURADO: Arealerneuerung iwaz 2035\, Fragenbeantwortung 19.06.202
 4 - 05.07.2024
DESCRIPTION:Link zum Verfahren: https://konkurado.ch/en/arealerneuerung-iwa
 z-2035
X-MICROSOFT-CDO-ALLDAYEVENT:TRUE
DTSTART;TZID=Europe/Zurich;VALUE=DATE:20240705
END:VEVENT
BEGIN:VEVENT
UID:69ea0a02b0f43
DTSTAMP:20260423T120106Z
SUMMARY:KONKURADO: Arealerneuerung iwaz 2035\, Anmeldung auf Konkurado (adm
 inistrativ) 05.06.2024 - 01.07.2024
DESCRIPTION:Link zum Verfahren: https://konkurado.ch/en/arealerneuerung-iwa
 z-2035
X-MICROSOFT-CDO-ALLDAYEVENT:TRUE
DTSTART;TZID=Europe/Zurich;VALUE=DATE:20240605
END:VEVENT
BEGIN:VEVENT
UID:69ea0a02b0f68
DTSTAMP:20260423T120106Z
SUMMARY:KONKURADO: Arealerneuerung iwaz 2035\, Anmeldung auf Konkurado (adm
 inistrativ) 05.06.2024 - 01.07.2024
DESCRIPTION:Link zum Verfahren: https://konkurado.ch/en/arealerneuerung-iwa
 z-2035
X-MICROSOFT-CDO-ALLDAYEVENT:TRUE
DTSTART;TZID=Europe/Zurich;VALUE=DATE:20240701
END:VEVENT
BEGIN:VEVENT
UID:69ea0a02b0fbb
DTSTAMP:20260423T120106Z
SUMMARY:KONKURADO: Arealerneuerung iwaz 2035\, Ausgabe Modell (nach Eingang
  Depotzahlung) 11.07.2024 - 11.07.2024
DESCRIPTION:Link zum Verfahren: https://konkurado.ch/en/arealerneuerung-iwa
 z-2035
X-MICROSOFT-CDO-ALLDAYEVENT:TRUE
DTSTART;TZID=Europe/Zurich;VALUE=DATE:20240711
END:VEVENT
BEGIN:VEVENT
UID:69ea0a02b0fe1
DTSTAMP:20260423T120106Z
SUMMARY:KONKURADO: Arealerneuerung iwaz 2035\, Ausgabe Modell (nach Eingang
  Depotzahlung) 11.07.2024 - 11.07.2024
DESCRIPTION:Link zum Verfahren: https://konkurado.ch/en/arealerneuerung-iwa
 z-2035
X-MICROSOFT-CDO-ALLDAYEVENT:TRUE
DTSTART;TZID=Europe/Zurich;VALUE=DATE:20240711
END:VEVENT
BEGIN:VEVENT
UID:69ea0a02b1027
DTSTAMP:20260423T120106Z
SUMMARY:KONKURADO: Arealerneuerung iwaz 2035\, Abgabe Unterlagen (Papierfor
 m und digital) 05.06.2024 - 03.10.2024
DESCRIPTION:Link zum Verfahren: https://konkurado.ch/en/arealerneuerung-iwa
 z-2035
X-MICROSOFT-CDO-ALLDAYEVENT:TRUE
DTSTART;TZID=Europe/Zurich;VALUE=DATE:20240605
END:VEVENT
BEGIN:VEVENT
UID:69ea0a02b105c
DTSTAMP:20260423T120106Z
SUMMARY:KONKURADO: Arealerneuerung iwaz 2035\, Abgabe Unterlagen (Papierfor
 m und digital) 05.06.2024 - 03.10.2024
DESCRIPTION:Link zum Verfahren: https://konkurado.ch/en/arealerneuerung-iwa
 z-2035
X-MICROSOFT-CDO-ALLDAYEVENT:TRUE
DTSTART;TZID=Europe/Zurich;VALUE=DATE:20241003
END:VEVENT
BEGIN:VEVENT
UID:69ea0a02b10b9
DTSTAMP:20260423T120106Z
SUMMARY:KONKURADO: Arealerneuerung iwaz 2035\, Abgabe Modell 11.07.2024 - 2
 4.10.2024
DESCRIPTION:Link zum Verfahren: https://konkurado.ch/en/arealerneuerung-iwa
 z-2035
X-MICROSOFT-CDO-ALLDAYEVENT:TRUE
DTSTART;TZID=Europe/Zurich;VALUE=DATE:20240711
END:VEVENT
BEGIN:VEVENT
UID:69ea0a02b10df
DTSTAMP:20260423T120106Z
SUMMARY:KONKURADO: Arealerneuerung iwaz 2035\, Abgabe Modell 11.07.2024 - 2
 4.10.2024
DESCRIPTION:Link zum Verfahren: https://konkurado.ch/en/arealerneuerung-iwa
 z-2035
X-MICROSOFT-CDO-ALLDAYEVENT:TRUE
DTSTART;TZID=Europe/Zurich;VALUE=DATE:20241024
END:VEVENT
BEGIN:VEVENT
UID:69ea0a02b1123
DTSTAMP:20260423T120106Z
SUMMARY:KONKURADO: Arealerneuerung iwaz 2035\, Jurierung 1. Stufe 07.11.202
 4 - 08.11.2024
DESCRIPTION:Link zum Verfahren: https://konkurado.ch/en/arealerneuerung-iwa
 z-2035
X-MICROSOFT-CDO-ALLDAYEVENT:TRUE
DTSTART;TZID=Europe/Zurich;VALUE=DATE:20241107
END:VEVENT
BEGIN:VEVENT
UID:69ea0a02b1148
DTSTAMP:20260423T120106Z
SUMMARY:KONKURADO: Arealerneuerung iwaz 2035\, Jurierung 1. Stufe 07.11.202
 4 - 08.11.2024
DESCRIPTION:Link zum Verfahren: https://konkurado.ch/en/arealerneuerung-iwa
 z-2035
X-MICROSOFT-CDO-ALLDAYEVENT:TRUE
DTSTART;TZID=Europe/Zurich;VALUE=DATE:20241108
END:VEVENT
BEGIN:VEVENT
UID:69ea0a02b119d
DTSTAMP:20260423T120106Z
SUMMARY:KONKURADO: Arealerneuerung iwaz 2035\, Bestätigung Teilnahme bis 1
 9.12.2024 - 16.01.2025
DESCRIPTION:Link zum Verfahren: https://konkurado.ch/en/arealerneuerung-iwa
 z-2035
X-MICROSOFT-CDO-ALLDAYEVENT:TRUE
DTSTART;TZID=Europe/Zurich;VALUE=DATE:20241219
END:VEVENT
BEGIN:VEVENT
UID:69ea0a02b11c8
DTSTAMP:20260423T120106Z
SUMMARY:KONKURADO: Arealerneuerung iwaz 2035\, Bestätigung Teilnahme bis 1
 9.12.2024 - 16.01.2025
DESCRIPTION:Link zum Verfahren: https://konkurado.ch/en/arealerneuerung-iwa
 z-2035
X-MICROSOFT-CDO-ALLDAYEVENT:TRUE
DTSTART;TZID=Europe/Zurich;VALUE=DATE:20250116
END:VEVENT
BEGIN:VEVENT
UID:69ea0a02b121e
DTSTAMP:20260423T120106Z
SUMMARY:KONKURADO: Arealerneuerung iwaz 2035\, Ausgabe Modell 20.12.2024 - 
 16.01.2025
DESCRIPTION:Link zum Verfahren: https://konkurado.ch/en/arealerneuerung-iwa
 z-2035
X-MICROSOFT-CDO-ALLDAYEVENT:TRUE
DTSTART;TZID=Europe/Zurich;VALUE=DATE:20241220
END:VEVENT
BEGIN:VEVENT
UID:69ea0a02b1247
DTSTAMP:20260423T120106Z
SUMMARY:KONKURADO: Arealerneuerung iwaz 2035\, Ausgabe Modell 20.12.2024 - 
 16.01.2025
DESCRIPTION:Link zum Verfahren: https://konkurado.ch/en/arealerneuerung-iwa
 z-2035
X-MICROSOFT-CDO-ALLDAYEVENT:TRUE
DTSTART;TZID=Europe/Zurich;VALUE=DATE:20250116
END:VEVENT
BEGIN:VEVENT
UID:69ea0a02b1279
DTSTAMP:20260423T120106Z
SUMMARY:KONKURADO: Arealerneuerung iwaz 2035\, Fragenstellung 20.12.2024 - 
 16.01.2025
DESCRIPTION:Link zum Verfahren: https://konkurado.ch/en/arealerneuerung-iwa
 z-2035
X-MICROSOFT-CDO-ALLDAYEVENT:TRUE
DTSTART;TZID=Europe/Zurich;VALUE=DATE:20241220
END:VEVENT
BEGIN:VEVENT
UID:69ea0a02b129e
DTSTAMP:20260423T120106Z
SUMMARY:KONKURADO: Arealerneuerung iwaz 2035\, Fragenstellung 20.12.2024 - 
 16.01.2025
DESCRIPTION:Link zum Verfahren: https://konkurado.ch/en/arealerneuerung-iwa
 z-2035
X-MICROSOFT-CDO-ALLDAYEVENT:TRUE
DTSTART;TZID=Europe/Zurich;VALUE=DATE:20250116
END:VEVENT
BEGIN:VEVENT
UID:69ea0a02b12ef
DTSTAMP:20260423T120106Z
SUMMARY:KONKURADO: Arealerneuerung iwaz 2035\, Fragenbeantwortung 04.02.202
 5 - 04.02.2025
DESCRIPTION:Link zum Verfahren: https://konkurado.ch/en/arealerneuerung-iwa
 z-2035
X-MICROSOFT-CDO-ALLDAYEVENT:TRUE
DTSTART;TZID=Europe/Zurich;VALUE=DATE:20250204
END:VEVENT
BEGIN:VEVENT
UID:69ea0a02b1315
DTSTAMP:20260423T120106Z
SUMMARY:KONKURADO: Arealerneuerung iwaz 2035\, Fragenbeantwortung 04.02.202
 5 - 04.02.2025
DESCRIPTION:Link zum Verfahren: https://konkurado.ch/en/arealerneuerung-iwa
 z-2035
X-MICROSOFT-CDO-ALLDAYEVENT:TRUE
DTSTART;TZID=Europe/Zurich;VALUE=DATE:20250204
END:VEVENT
BEGIN:VEVENT
UID:69ea0a02b1344
DTSTAMP:20260423T120106Z
SUMMARY:KONKURADO: Arealerneuerung iwaz 2035\, Abgabe Unterlagen (digital/P
 apierform) 18.12.2024 - 10.04.2025
DESCRIPTION:Link zum Verfahren: https://konkurado.ch/en/arealerneuerung-iwa
 z-2035
X-MICROSOFT-CDO-ALLDAYEVENT:TRUE
DTSTART;TZID=Europe/Zurich;VALUE=DATE:20241218
END:VEVENT
BEGIN:VEVENT
UID:69ea0a02b136b
DTSTAMP:20260423T120106Z
SUMMARY:KONKURADO: Arealerneuerung iwaz 2035\, Abgabe Unterlagen (digital/P
 apierform) 18.12.2024 - 10.04.2025
DESCRIPTION:Link zum Verfahren: https://konkurado.ch/en/arealerneuerung-iwa
 z-2035
X-MICROSOFT-CDO-ALLDAYEVENT:TRUE
DTSTART;TZID=Europe/Zurich;VALUE=DATE:20250410
END:VEVENT
BEGIN:VEVENT
UID:69ea0a02b13be
DTSTAMP:20260423T120106Z
SUMMARY:KONKURADO: Arealerneuerung iwaz 2035\, Abgabe Modell 15.01.2025 - 0
 8.05.2025
DESCRIPTION:Link zum Verfahren: https://konkurado.ch/en/arealerneuerung-iwa
 z-2035
X-MICROSOFT-CDO-ALLDAYEVENT:TRUE
DTSTART;TZID=Europe/Zurich;VALUE=DATE:20250115
END:VEVENT
BEGIN:VEVENT
UID:69ea0a02b13e7
DTSTAMP:20260423T120106Z
SUMMARY:KONKURADO: Arealerneuerung iwaz 2035\, Abgabe Modell 15.01.2025 - 0
 8.05.2025
DESCRIPTION:Link zum Verfahren: https://konkurado.ch/en/arealerneuerung-iwa
 z-2035
X-MICROSOFT-CDO-ALLDAYEVENT:TRUE
DTSTART;TZID=Europe/Zurich;VALUE=DATE:20250508
END:VEVENT
BEGIN:VEVENT
UID:69ea0a02b144c
DTSTAMP:20260423T120106Z
SUMMARY:KONKURADO: Arealerneuerung iwaz 2035\, Ausgabe Unterlagen 2. Stufe 
 19.12.2024 - 19.12.2024
DESCRIPTION:Link zum Verfahren: https://konkurado.ch/en/arealerneuerung-iwa
 z-2035
X-MICROSOFT-CDO-ALLDAYEVENT:TRUE
DTSTART;TZID=Europe/Zurich;VALUE=DATE:20241219
END:VEVENT
BEGIN:VEVENT
UID:69ea0a02b1473
DTSTAMP:20260423T120106Z
SUMMARY:KONKURADO: Arealerneuerung iwaz 2035\, Ausgabe Unterlagen 2. Stufe 
 19.12.2024 - 19.12.2024
DESCRIPTION:Link zum Verfahren: https://konkurado.ch/en/arealerneuerung-iwa
 z-2035
X-MICROSOFT-CDO-ALLDAYEVENT:TRUE
DTSTART;TZID=Europe/Zurich;VALUE=DATE:20241219
END:VEVENT
END:VCALENDAR