BEGIN:VCALENDAR
VERSION:2.0
PRODID:spatie/icalendar-generator
NAME:Arealentwicklung Blattacker\, Au
X-WR-CALNAME:Arealentwicklung Blattacker\, Au
BEGIN:VTIMEZONE
TZID:Europe/Zurich
BEGIN:DAYLIGHT
DTSTART:20240331T010000
TZOFFSETFROM:+0100
TZOFFSETTO:+0200
END:DAYLIGHT
BEGIN:STANDARD
DTSTART:20241027T030000
TZOFFSETFROM:+0200
TZOFFSETTO:+0100
END:STANDARD
BEGIN:DAYLIGHT
DTSTART:20250330T010000
TZOFFSETFROM:+0100
TZOFFSETTO:+0200
END:DAYLIGHT
BEGIN:STANDARD
DTSTART:20251026T030000
TZOFFSETFROM:+0200
TZOFFSETTO:+0100
END:STANDARD
END:VTIMEZONE
BEGIN:VTIMEZONE
TZID:UTC
BEGIN:STANDARD
DTSTART:20250727T115146
TZOFFSETFROM:+0000
TZOFFSETTO:+0000
END:STANDARD
END:VTIMEZONE
BEGIN:VEVENT
UID:69ea07d2bd212
DTSTAMP:20260423T115146Z
SUMMARY:KONKURADO: Arealentwicklung Blattacker\, Au\, Abgabe Bewerbung 19.1
 2.2024 - 18.12.2024
DESCRIPTION:Link zum Verfahren: https://konkurado.ch/en/arealentwicklung-bl
 attacker-au
X-MICROSOFT-CDO-ALLDAYEVENT:TRUE
DTSTART;TZID=Europe/Zurich;VALUE=DATE:20241219
END:VEVENT
BEGIN:VEVENT
UID:69ea07d2bd297
DTSTAMP:20260423T115146Z
SUMMARY:KONKURADO: Arealentwicklung Blattacker\, Au\, Abgabe Bewerbung 19.1
 2.2024 - 18.12.2024
DESCRIPTION:Link zum Verfahren: https://konkurado.ch/en/arealentwicklung-bl
 attacker-au
X-MICROSOFT-CDO-ALLDAYEVENT:TRUE
DTSTART;TZID=Europe/Zurich;VALUE=DATE:20241218
END:VEVENT
BEGIN:VEVENT
UID:69ea07d2bd2d3
DTSTAMP:20260423T115146Z
SUMMARY:KONKURADO: Arealentwicklung Blattacker\, Au\, Fragerunde 21.02.2025
  - 20.02.2025
DESCRIPTION:Link zum Verfahren: https://konkurado.ch/en/arealentwicklung-bl
 attacker-au
X-MICROSOFT-CDO-ALLDAYEVENT:TRUE
DTSTART;TZID=Europe/Zurich;VALUE=DATE:20250221
END:VEVENT
BEGIN:VEVENT
UID:69ea07d2bd2fa
DTSTAMP:20260423T115146Z
SUMMARY:KONKURADO: Arealentwicklung Blattacker\, Au\, Fragerunde 21.02.2025
  - 20.02.2025
DESCRIPTION:Link zum Verfahren: https://konkurado.ch/en/arealentwicklung-bl
 attacker-au
X-MICROSOFT-CDO-ALLDAYEVENT:TRUE
DTSTART;TZID=Europe/Zurich;VALUE=DATE:20250220
END:VEVENT
BEGIN:VEVENT
UID:69ea07d2bd32b
DTSTAMP:20260423T115146Z
SUMMARY:KONKURADO: Arealentwicklung Blattacker\, Au\, Abgabe Pläne 25.07.2
 025 - 24.07.2025
DESCRIPTION:Link zum Verfahren: https://konkurado.ch/en/arealentwicklung-bl
 attacker-au
X-MICROSOFT-CDO-ALLDAYEVENT:TRUE
DTSTART;TZID=Europe/Zurich;VALUE=DATE:20250725
END:VEVENT
BEGIN:VEVENT
UID:69ea07d2bd34f
DTSTAMP:20260423T115146Z
SUMMARY:KONKURADO: Arealentwicklung Blattacker\, Au\, Abgabe Pläne 25.07.2
 025 - 24.07.2025
DESCRIPTION:Link zum Verfahren: https://konkurado.ch/en/arealentwicklung-bl
 attacker-au
X-MICROSOFT-CDO-ALLDAYEVENT:TRUE
DTSTART;TZID=Europe/Zurich;VALUE=DATE:20250724
END:VEVENT
BEGIN:VEVENT
UID:69ea07d2bd393
DTSTAMP:20260423T115146Z
SUMMARY:KONKURADO: Arealentwicklung Blattacker\, Au\, Jurierung 22.11.2024 
 - 21.11.2024
DESCRIPTION:Link zum Verfahren: https://konkurado.ch/en/arealentwicklung-bl
 attacker-au
X-MICROSOFT-CDO-ALLDAYEVENT:TRUE
DTSTART;TZID=Europe/Zurich;VALUE=DATE:20241122
END:VEVENT
BEGIN:VEVENT
UID:69ea07d2bd3b8
DTSTAMP:20260423T115146Z
SUMMARY:KONKURADO: Arealentwicklung Blattacker\, Au\, Jurierung 22.11.2024 
 - 21.11.2024
DESCRIPTION:Link zum Verfahren: https://konkurado.ch/en/arealentwicklung-bl
 attacker-au
X-MICROSOFT-CDO-ALLDAYEVENT:TRUE
DTSTART;TZID=Europe/Zurich;VALUE=DATE:20241121
END:VEVENT
BEGIN:VEVENT
UID:69ea07d2bd4d0
DTSTAMP:20260423T115146Z
SUMMARY:KONKURADO: Arealentwicklung Blattacker\, Au\, Startsitzung (Kick-Of
 f) 06.02.2025 - 05.02.2025
DESCRIPTION:Link zum Verfahren: https://konkurado.ch/en/arealentwicklung-bl
 attacker-au
X-MICROSOFT-CDO-ALLDAYEVENT:TRUE
DTSTART;TZID=Europe/Zurich;VALUE=DATE:20250206
END:VEVENT
BEGIN:VEVENT
UID:69ea07d2bd4f8
DTSTAMP:20260423T115146Z
SUMMARY:KONKURADO: Arealentwicklung Blattacker\, Au\, Startsitzung (Kick-Of
 f) 06.02.2025 - 05.02.2025
DESCRIPTION:Link zum Verfahren: https://konkurado.ch/en/arealentwicklung-bl
 attacker-au
X-MICROSOFT-CDO-ALLDAYEVENT:TRUE
DTSTART;TZID=Europe/Zurich;VALUE=DATE:20250205
END:VEVENT
BEGIN:VEVENT
UID:69ea07d2bd555
DTSTAMP:20260423T115146Z
SUMMARY:KONKURADO: Arealentwicklung Blattacker\, Au\, Zwischenbesprechung 0
 2.05.2025 - 01.05.2025
DESCRIPTION:Link zum Verfahren: https://konkurado.ch/en/arealentwicklung-bl
 attacker-au
X-MICROSOFT-CDO-ALLDAYEVENT:TRUE
DTSTART;TZID=Europe/Zurich;VALUE=DATE:20250502
END:VEVENT
BEGIN:VEVENT
UID:69ea07d2bd57c
DTSTAMP:20260423T115146Z
SUMMARY:KONKURADO: Arealentwicklung Blattacker\, Au\, Zwischenbesprechung 0
 2.05.2025 - 01.05.2025
DESCRIPTION:Link zum Verfahren: https://konkurado.ch/en/arealentwicklung-bl
 attacker-au
X-MICROSOFT-CDO-ALLDAYEVENT:TRUE
DTSTART;TZID=Europe/Zurich;VALUE=DATE:20250501
END:VEVENT
BEGIN:VEVENT
UID:69ea07d2bd5d0
DTSTAMP:20260423T115146Z
SUMMARY:KONKURADO: Arealentwicklung Blattacker\, Au\, Abgabe Modell 08.08.2
 025 - 07.08.2025
DESCRIPTION:Link zum Verfahren: https://konkurado.ch/en/arealentwicklung-bl
 attacker-au
X-MICROSOFT-CDO-ALLDAYEVENT:TRUE
DTSTART;TZID=Europe/Zurich;VALUE=DATE:20250808
END:VEVENT
BEGIN:VEVENT
UID:69ea07d2bd5f6
DTSTAMP:20260423T115146Z
SUMMARY:KONKURADO: Arealentwicklung Blattacker\, Au\, Abgabe Modell 08.08.2
 025 - 07.08.2025
DESCRIPTION:Link zum Verfahren: https://konkurado.ch/en/arealentwicklung-bl
 attacker-au
X-MICROSOFT-CDO-ALLDAYEVENT:TRUE
DTSTART;TZID=Europe/Zurich;VALUE=DATE:20250807
END:VEVENT
BEGIN:VEVENT
UID:69ea07d2bd649
DTSTAMP:20260423T115146Z
SUMMARY:KONKURADO: Arealentwicklung Blattacker\, Au\, Rückmeldung (Protoko
 ll) 16.05.2025 - 15.05.2025
DESCRIPTION:Link zum Verfahren: https://konkurado.ch/en/arealentwicklung-bl
 attacker-au
X-MICROSOFT-CDO-ALLDAYEVENT:TRUE
DTSTART;TZID=Europe/Zurich;VALUE=DATE:20250516
END:VEVENT
BEGIN:VEVENT
UID:69ea07d2bd66f
DTSTAMP:20260423T115146Z
SUMMARY:KONKURADO: Arealentwicklung Blattacker\, Au\, Rückmeldung (Protoko
 ll) 16.05.2025 - 15.05.2025
DESCRIPTION:Link zum Verfahren: https://konkurado.ch/en/arealentwicklung-bl
 attacker-au
X-MICROSOFT-CDO-ALLDAYEVENT:TRUE
DTSTART;TZID=Europe/Zurich;VALUE=DATE:20250515
END:VEVENT
END:VCALENDAR