BEGIN:VCALENDAR
VERSION:2.0
PRODID:spatie/icalendar-generator
NAME:Areal «Steinfabrik» Pfäffikon SZ
X-WR-CALNAME:Areal «Steinfabrik» Pfäffikon SZ
BEGIN:VTIMEZONE
TZID:Europe/Zurich
BEGIN:STANDARD
DTSTART:20241027T030000
TZOFFSETFROM:+0200
TZOFFSETTO:+0100
END:STANDARD
BEGIN:DAYLIGHT
DTSTART:20250330T010000
TZOFFSETFROM:+0100
TZOFFSETTO:+0200
END:DAYLIGHT
BEGIN:STANDARD
DTSTART:20251026T030000
TZOFFSETFROM:+0200
TZOFFSETTO:+0100
END:STANDARD
BEGIN:DAYLIGHT
DTSTART:20260329T010000
TZOFFSETFROM:+0100
TZOFFSETTO:+0200
END:DAYLIGHT
END:VTIMEZONE
BEGIN:VTIMEZONE
TZID:UTC
BEGIN:STANDARD
DTSTART:20250727T115414
TZOFFSETFROM:+0000
TZOFFSETTO:+0000
END:STANDARD
END:VTIMEZONE
BEGIN:VEVENT
UID:69ea0866159f1
DTSTAMP:20260423T115414Z
SUMMARY:KONKURADO: Areal «Steinfabrik» Pfäffikon SZ\, Einreichung Teilna
 hmeantrag bis 10.01.2025 - 31.03.2025
DESCRIPTION:Link zum Verfahren: https://konkurado.ch/en/areal-steinfabrik-p
 faffikon-sz
X-MICROSOFT-CDO-ALLDAYEVENT:TRUE
DTSTART;TZID=Europe/Zurich;VALUE=DATE:20250110
END:VEVENT
BEGIN:VEVENT
UID:69ea086615ab8
DTSTAMP:20260423T115414Z
SUMMARY:KONKURADO: Areal «Steinfabrik» Pfäffikon SZ\, Einreichung Teilna
 hmeantrag bis 10.01.2025 - 31.03.2025
DESCRIPTION:Link zum Verfahren: https://konkurado.ch/en/areal-steinfabrik-p
 faffikon-sz
X-MICROSOFT-CDO-ALLDAYEVENT:TRUE
DTSTART;TZID=Europe/Zurich;VALUE=DATE:20250331
END:VEVENT
BEGIN:VEVENT
UID:69ea086615b17
DTSTAMP:20260423T115414Z
SUMMARY:KONKURADO: Areal «Steinfabrik» Pfäffikon SZ\, Abgabe Pläne und 
 Modell 1. Bearbeitungsstufe 10.01.2025 - 30.05.2025
DESCRIPTION:Link zum Verfahren: https://konkurado.ch/en/areal-steinfabrik-p
 faffikon-sz
X-MICROSOFT-CDO-ALLDAYEVENT:TRUE
DTSTART;TZID=Europe/Zurich;VALUE=DATE:20250110
END:VEVENT
BEGIN:VEVENT
UID:69ea086615b55
DTSTAMP:20260423T115414Z
SUMMARY:KONKURADO: Areal «Steinfabrik» Pfäffikon SZ\, Abgabe Pläne und 
 Modell 1. Bearbeitungsstufe 10.01.2025 - 30.05.2025
DESCRIPTION:Link zum Verfahren: https://konkurado.ch/en/areal-steinfabrik-p
 faffikon-sz
X-MICROSOFT-CDO-ALLDAYEVENT:TRUE
DTSTART;TZID=Europe/Zurich;VALUE=DATE:20250530
END:VEVENT
BEGIN:VEVENT
UID:69ea086615bcc
DTSTAMP:20260423T115414Z
SUMMARY:KONKURADO: Areal «Steinfabrik» Pfäffikon SZ\, Schriftliche Empfe
 hlungen an Teams\, die sich für die 2. Bearbeitungsstufe qualifiziert hab
 en 31.05.2025 - 18.07.2025
DESCRIPTION:Link zum Verfahren: https://konkurado.ch/en/areal-steinfabrik-p
 faffikon-sz
X-MICROSOFT-CDO-ALLDAYEVENT:TRUE
DTSTART;TZID=Europe/Zurich;VALUE=DATE:20250531
END:VEVENT
BEGIN:VEVENT
UID:69ea086615c0b
DTSTAMP:20260423T115414Z
SUMMARY:KONKURADO: Areal «Steinfabrik» Pfäffikon SZ\, Schriftliche Empfe
 hlungen an Teams\, die sich für die 2. Bearbeitungsstufe qualifiziert hab
 en 31.05.2025 - 18.07.2025
DESCRIPTION:Link zum Verfahren: https://konkurado.ch/en/areal-steinfabrik-p
 faffikon-sz
X-MICROSOFT-CDO-ALLDAYEVENT:TRUE
DTSTART;TZID=Europe/Zurich;VALUE=DATE:20250718
END:VEVENT
BEGIN:VEVENT
UID:69ea086615c55
DTSTAMP:20260423T115414Z
SUMMARY:KONKURADO: Areal «Steinfabrik» Pfäffikon SZ\, Abgabe Pläne bis 
 18.07.2025 - 07.11.2025
DESCRIPTION:Link zum Verfahren: https://konkurado.ch/en/areal-steinfabrik-p
 faffikon-sz
X-MICROSOFT-CDO-ALLDAYEVENT:TRUE
DTSTART;TZID=Europe/Zurich;VALUE=DATE:20250718
END:VEVENT
BEGIN:VEVENT
UID:69ea086615c90
DTSTAMP:20260423T115414Z
SUMMARY:KONKURADO: Areal «Steinfabrik» Pfäffikon SZ\, Abgabe Pläne bis 
 18.07.2025 - 07.11.2025
DESCRIPTION:Link zum Verfahren: https://konkurado.ch/en/areal-steinfabrik-p
 faffikon-sz
X-MICROSOFT-CDO-ALLDAYEVENT:TRUE
DTSTART;TZID=Europe/Zurich;VALUE=DATE:20251107
END:VEVENT
BEGIN:VEVENT
UID:69ea086615e3d
DTSTAMP:20260423T115414Z
SUMMARY:KONKURADO: Areal «Steinfabrik» Pfäffikon SZ\, Jurybericht 14.01.
 2026 - 
DESCRIPTION:Link zum Verfahren: https://konkurado.ch/en/areal-steinfabrik-p
 faffikon-sz
X-MICROSOFT-CDO-ALLDAYEVENT:TRUE
DTSTART;TZID=Europe/Zurich;VALUE=DATE:20260114
END:VEVENT
BEGIN:VEVENT
UID:69ea086615ede
DTSTAMP:20260423T115414Z
SUMMARY:KONKURADO: Areal «Steinfabrik» Pfäffikon SZ\, Einzahlung  Modell
 -Depot bis 10.01.2025 - 31.03.2025
DESCRIPTION:Link zum Verfahren: https://konkurado.ch/en/areal-steinfabrik-p
 faffikon-sz
X-MICROSOFT-CDO-ALLDAYEVENT:TRUE
DTSTART;TZID=Europe/Zurich;VALUE=DATE:20250110
END:VEVENT
BEGIN:VEVENT
UID:69ea086615f1e
DTSTAMP:20260423T115414Z
SUMMARY:KONKURADO: Areal «Steinfabrik» Pfäffikon SZ\, Einzahlung  Modell
 -Depot bis 10.01.2025 - 31.03.2025
DESCRIPTION:Link zum Verfahren: https://konkurado.ch/en/areal-steinfabrik-p
 faffikon-sz
X-MICROSOFT-CDO-ALLDAYEVENT:TRUE
DTSTART;TZID=Europe/Zurich;VALUE=DATE:20250331
END:VEVENT
BEGIN:VEVENT
UID:69ea086615fa7
DTSTAMP:20260423T115414Z
SUMMARY:KONKURADO: Areal «Steinfabrik» Pfäffikon SZ\, Teilnahmebestätig
 ung an die Teams bis 10.01.2025 - 04.04.2025
DESCRIPTION:Link zum Verfahren: https://konkurado.ch/en/areal-steinfabrik-p
 faffikon-sz
X-MICROSOFT-CDO-ALLDAYEVENT:TRUE
DTSTART;TZID=Europe/Zurich;VALUE=DATE:20250110
END:VEVENT
BEGIN:VEVENT
UID:69ea086615fe6
DTSTAMP:20260423T115414Z
SUMMARY:KONKURADO: Areal «Steinfabrik» Pfäffikon SZ\, Teilnahmebestätig
 ung an die Teams bis 10.01.2025 - 04.04.2025
DESCRIPTION:Link zum Verfahren: https://konkurado.ch/en/areal-steinfabrik-p
 faffikon-sz
X-MICROSOFT-CDO-ALLDAYEVENT:TRUE
DTSTART;TZID=Europe/Zurich;VALUE=DATE:20250404
END:VEVENT
BEGIN:VEVENT
UID:69ea08661606a
DTSTAMP:20260423T115414Z
SUMMARY:KONKURADO: Areal «Steinfabrik» Pfäffikon SZ\, Begehung (individu
 ell) ab 13.01.2025 - 30.05.2025
DESCRIPTION:Link zum Verfahren: https://konkurado.ch/en/areal-steinfabrik-p
 faffikon-sz
X-MICROSOFT-CDO-ALLDAYEVENT:TRUE
DTSTART;TZID=Europe/Zurich;VALUE=DATE:20250113
END:VEVENT
BEGIN:VEVENT
UID:69ea0866160a8
DTSTAMP:20260423T115414Z
SUMMARY:KONKURADO: Areal «Steinfabrik» Pfäffikon SZ\, Begehung (individu
 ell) ab 13.01.2025 - 30.05.2025
DESCRIPTION:Link zum Verfahren: https://konkurado.ch/en/areal-steinfabrik-p
 faffikon-sz
X-MICROSOFT-CDO-ALLDAYEVENT:TRUE
DTSTART;TZID=Europe/Zurich;VALUE=DATE:20250530
END:VEVENT
BEGIN:VEVENT
UID:69ea08661612a
DTSTAMP:20260423T115414Z
SUMMARY:KONKURADO: Areal «Steinfabrik» Pfäffikon SZ\, Bezug Modelle beim
  Modellbauer ab 31.01.2025 - 30.05.2025
DESCRIPTION:Link zum Verfahren: https://konkurado.ch/en/areal-steinfabrik-p
 faffikon-sz
X-MICROSOFT-CDO-ALLDAYEVENT:TRUE
DTSTART;TZID=Europe/Zurich;VALUE=DATE:20250131
END:VEVENT
BEGIN:VEVENT
UID:69ea086616167
DTSTAMP:20260423T115414Z
SUMMARY:KONKURADO: Areal «Steinfabrik» Pfäffikon SZ\, Bezug Modelle beim
  Modellbauer ab 31.01.2025 - 30.05.2025
DESCRIPTION:Link zum Verfahren: https://konkurado.ch/en/areal-steinfabrik-p
 faffikon-sz
X-MICROSOFT-CDO-ALLDAYEVENT:TRUE
DTSTART;TZID=Europe/Zurich;VALUE=DATE:20250530
END:VEVENT
BEGIN:VEVENT
UID:69ea0866161be
DTSTAMP:20260423T115414Z
SUMMARY:KONKURADO: Areal «Steinfabrik» Pfäffikon SZ\, Eingabe schriftlic
 her Fragen bis 10.01.2025 - 07.03.2025
DESCRIPTION:Link zum Verfahren: https://konkurado.ch/en/areal-steinfabrik-p
 faffikon-sz
X-MICROSOFT-CDO-ALLDAYEVENT:TRUE
DTSTART;TZID=Europe/Zurich;VALUE=DATE:20250110
END:VEVENT
BEGIN:VEVENT
UID:69ea086616226
DTSTAMP:20260423T115414Z
SUMMARY:KONKURADO: Areal «Steinfabrik» Pfäffikon SZ\, Eingabe schriftlic
 her Fragen bis 10.01.2025 - 07.03.2025
DESCRIPTION:Link zum Verfahren: https://konkurado.ch/en/areal-steinfabrik-p
 faffikon-sz
X-MICROSOFT-CDO-ALLDAYEVENT:TRUE
DTSTART;TZID=Europe/Zurich;VALUE=DATE:20250307
END:VEVENT
BEGIN:VEVENT
UID:69ea0866162a9
DTSTAMP:20260423T115414Z
SUMMARY:KONKURADO: Areal «Steinfabrik» Pfäffikon SZ\, Schriftliche Frage
 nbeantwortung 08.03.2025 - 28.03.2025
DESCRIPTION:Link zum Verfahren: https://konkurado.ch/en/areal-steinfabrik-p
 faffikon-sz
X-MICROSOFT-CDO-ALLDAYEVENT:TRUE
DTSTART;TZID=Europe/Zurich;VALUE=DATE:20250308
END:VEVENT
BEGIN:VEVENT
UID:69ea0866162d1
DTSTAMP:20260423T115414Z
SUMMARY:KONKURADO: Areal «Steinfabrik» Pfäffikon SZ\, Schriftliche Frage
 nbeantwortung 08.03.2025 - 28.03.2025
DESCRIPTION:Link zum Verfahren: https://konkurado.ch/en/areal-steinfabrik-p
 faffikon-sz
X-MICROSOFT-CDO-ALLDAYEVENT:TRUE
DTSTART;TZID=Europe/Zurich;VALUE=DATE:20250328
END:VEVENT
BEGIN:VEVENT
UID:69ea086616327
DTSTAMP:20260423T115414Z
SUMMARY:KONKURADO: Areal «Steinfabrik» Pfäffikon SZ\, Abschluss Vorprüf
 ung 31.05.2025 - 27.06.2025
DESCRIPTION:Link zum Verfahren: https://konkurado.ch/en/areal-steinfabrik-p
 faffikon-sz
X-MICROSOFT-CDO-ALLDAYEVENT:TRUE
DTSTART;TZID=Europe/Zurich;VALUE=DATE:20250531
END:VEVENT
BEGIN:VEVENT
UID:69ea08661634e
DTSTAMP:20260423T115414Z
SUMMARY:KONKURADO: Areal «Steinfabrik» Pfäffikon SZ\, Abschluss Vorprüf
 ung 31.05.2025 - 27.06.2025
DESCRIPTION:Link zum Verfahren: https://konkurado.ch/en/areal-steinfabrik-p
 faffikon-sz
X-MICROSOFT-CDO-ALLDAYEVENT:TRUE
DTSTART;TZID=Europe/Zurich;VALUE=DATE:20250627
END:VEVENT
BEGIN:VEVENT
UID:69ea08661638a
DTSTAMP:20260423T115414Z
SUMMARY:KONKURADO: Areal «Steinfabrik» Pfäffikon SZ\, 1. Tag Beurteilung
  Projektvorschläge 1. Stufe 01.07.2025 - 01.07.2025
DESCRIPTION:Link zum Verfahren: https://konkurado.ch/en/areal-steinfabrik-p
 faffikon-sz
X-MICROSOFT-CDO-ALLDAYEVENT:TRUE
DTSTART;TZID=Europe/Zurich;VALUE=DATE:20250701
END:VEVENT
BEGIN:VEVENT
UID:69ea0866163af
DTSTAMP:20260423T115414Z
SUMMARY:KONKURADO: Areal «Steinfabrik» Pfäffikon SZ\, 1. Tag Beurteilung
  Projektvorschläge 1. Stufe 01.07.2025 - 01.07.2025
DESCRIPTION:Link zum Verfahren: https://konkurado.ch/en/areal-steinfabrik-p
 faffikon-sz
X-MICROSOFT-CDO-ALLDAYEVENT:TRUE
DTSTART;TZID=Europe/Zurich;VALUE=DATE:20250701
END:VEVENT
BEGIN:VEVENT
UID:69ea08661642a
DTSTAMP:20260423T115414Z
SUMMARY:KONKURADO: Areal «Steinfabrik» Pfäffikon SZ\, 2. Tag Beurteilung
  Projektvorschläge 1. Stufe 03.07.2025 - 03.07.2025
DESCRIPTION:Link zum Verfahren: https://konkurado.ch/en/areal-steinfabrik-p
 faffikon-sz
X-MICROSOFT-CDO-ALLDAYEVENT:TRUE
DTSTART;TZID=Europe/Zurich;VALUE=DATE:20250703
END:VEVENT
BEGIN:VEVENT
UID:69ea086616456
DTSTAMP:20260423T115414Z
SUMMARY:KONKURADO: Areal «Steinfabrik» Pfäffikon SZ\, 2. Tag Beurteilung
  Projektvorschläge 1. Stufe 03.07.2025 - 03.07.2025
DESCRIPTION:Link zum Verfahren: https://konkurado.ch/en/areal-steinfabrik-p
 faffikon-sz
X-MICROSOFT-CDO-ALLDAYEVENT:TRUE
DTSTART;TZID=Europe/Zurich;VALUE=DATE:20250703
END:VEVENT
BEGIN:VEVENT
UID:69ea0866164ac
DTSTAMP:20260423T115414Z
SUMMARY:KONKURADO: Areal «Steinfabrik» Pfäffikon SZ\, 3. Tag Bestimmung 
 Teams und Entwurf Empfehlun- gen für die 2. Bearbeitungsstufe sowie allge
 meine Erkenntnisse zur Programmergänzung 08.07.2025 - 08.07.2025
DESCRIPTION:Link zum Verfahren: https://konkurado.ch/en/areal-steinfabrik-p
 faffikon-sz
X-MICROSOFT-CDO-ALLDAYEVENT:TRUE
DTSTART;TZID=Europe/Zurich;VALUE=DATE:20250708
END:VEVENT
BEGIN:VEVENT
UID:69ea0866164d2
DTSTAMP:20260423T115414Z
SUMMARY:KONKURADO: Areal «Steinfabrik» Pfäffikon SZ\, 3. Tag Bestimmung 
 Teams und Entwurf Empfehlun- gen für die 2. Bearbeitungsstufe sowie allge
 meine Erkenntnisse zur Programmergänzung 08.07.2025 - 08.07.2025
DESCRIPTION:Link zum Verfahren: https://konkurado.ch/en/areal-steinfabrik-p
 faffikon-sz
X-MICROSOFT-CDO-ALLDAYEVENT:TRUE
DTSTART;TZID=Europe/Zurich;VALUE=DATE:20250708
END:VEVENT
BEGIN:VEVENT
UID:69ea086616503
DTSTAMP:20260423T115414Z
SUMMARY:KONKURADO: Areal «Steinfabrik» Pfäffikon SZ\, Eingabe schriftlic
 her Fragen bis 18.07.2025 - 18.08.2025
DESCRIPTION:Link zum Verfahren: https://konkurado.ch/en/areal-steinfabrik-p
 faffikon-sz
X-MICROSOFT-CDO-ALLDAYEVENT:TRUE
DTSTART;TZID=Europe/Zurich;VALUE=DATE:20250718
END:VEVENT
BEGIN:VEVENT
UID:69ea086616528
DTSTAMP:20260423T115414Z
SUMMARY:KONKURADO: Areal «Steinfabrik» Pfäffikon SZ\, Eingabe schriftlic
 her Fragen bis 18.07.2025 - 18.08.2025
DESCRIPTION:Link zum Verfahren: https://konkurado.ch/en/areal-steinfabrik-p
 faffikon-sz
X-MICROSOFT-CDO-ALLDAYEVENT:TRUE
DTSTART;TZID=Europe/Zurich;VALUE=DATE:20250818
END:VEVENT
BEGIN:VEVENT
UID:69ea08661657a
DTSTAMP:20260423T115414Z
SUMMARY:KONKURADO: Areal «Steinfabrik» Pfäffikon SZ\, Versand Fragenbean
 twortung 19.08.2025 - 29.08.2025
DESCRIPTION:Link zum Verfahren: https://konkurado.ch/en/areal-steinfabrik-p
 faffikon-sz
X-MICROSOFT-CDO-ALLDAYEVENT:TRUE
DTSTART;TZID=Europe/Zurich;VALUE=DATE:20250819
END:VEVENT
BEGIN:VEVENT
UID:69ea08661659f
DTSTAMP:20260423T115414Z
SUMMARY:KONKURADO: Areal «Steinfabrik» Pfäffikon SZ\, Versand Fragenbean
 twortung 19.08.2025 - 29.08.2025
DESCRIPTION:Link zum Verfahren: https://konkurado.ch/en/areal-steinfabrik-p
 faffikon-sz
X-MICROSOFT-CDO-ALLDAYEVENT:TRUE
DTSTART;TZID=Europe/Zurich;VALUE=DATE:20250829
END:VEVENT
BEGIN:VEVENT
UID:69ea0866165f1
DTSTAMP:20260423T115414Z
SUMMARY:KONKURADO: Areal «Steinfabrik» Pfäffikon SZ\, Abgabe Modell bis 
 18.07.2025 - 21.11.2025
DESCRIPTION:Link zum Verfahren: https://konkurado.ch/en/areal-steinfabrik-p
 faffikon-sz
X-MICROSOFT-CDO-ALLDAYEVENT:TRUE
DTSTART;TZID=Europe/Zurich;VALUE=DATE:20250718
END:VEVENT
BEGIN:VEVENT
UID:69ea086616618
DTSTAMP:20260423T115414Z
SUMMARY:KONKURADO: Areal «Steinfabrik» Pfäffikon SZ\, Abgabe Modell bis 
 18.07.2025 - 21.11.2025
DESCRIPTION:Link zum Verfahren: https://konkurado.ch/en/areal-steinfabrik-p
 faffikon-sz
X-MICROSOFT-CDO-ALLDAYEVENT:TRUE
DTSTART;TZID=Europe/Zurich;VALUE=DATE:20251121
END:VEVENT
BEGIN:VEVENT
UID:69ea086616669
DTSTAMP:20260423T115414Z
SUMMARY:KONKURADO: Areal «Steinfabrik» Pfäffikon SZ\, Abgabe Modell bis 
 31.01.2025 - 21.11.2025
DESCRIPTION:Link zum Verfahren: https://konkurado.ch/en/areal-steinfabrik-p
 faffikon-sz
X-MICROSOFT-CDO-ALLDAYEVENT:TRUE
DTSTART;TZID=Europe/Zurich;VALUE=DATE:20250131
END:VEVENT
BEGIN:VEVENT
UID:69ea08661668e
DTSTAMP:20260423T115414Z
SUMMARY:KONKURADO: Areal «Steinfabrik» Pfäffikon SZ\, Abgabe Modell bis 
 31.01.2025 - 21.11.2025
DESCRIPTION:Link zum Verfahren: https://konkurado.ch/en/areal-steinfabrik-p
 faffikon-sz
X-MICROSOFT-CDO-ALLDAYEVENT:TRUE
DTSTART;TZID=Europe/Zurich;VALUE=DATE:20251121
END:VEVENT
BEGIN:VEVENT
UID:69ea0866166de
DTSTAMP:20260423T115414Z
SUMMARY:KONKURADO: Areal «Steinfabrik» Pfäffikon SZ\, Abschluss Vorprüf
 ung 08.11.2025 - 24.11.2025
DESCRIPTION:Link zum Verfahren: https://konkurado.ch/en/areal-steinfabrik-p
 faffikon-sz
X-MICROSOFT-CDO-ALLDAYEVENT:TRUE
DTSTART;TZID=Europe/Zurich;VALUE=DATE:20251108
END:VEVENT
BEGIN:VEVENT
UID:69ea086616704
DTSTAMP:20260423T115414Z
SUMMARY:KONKURADO: Areal «Steinfabrik» Pfäffikon SZ\, Abschluss Vorprüf
 ung 08.11.2025 - 24.11.2025
DESCRIPTION:Link zum Verfahren: https://konkurado.ch/en/areal-steinfabrik-p
 faffikon-sz
X-MICROSOFT-CDO-ALLDAYEVENT:TRUE
DTSTART;TZID=Europe/Zurich;VALUE=DATE:20251124
END:VEVENT
BEGIN:VEVENT
UID:69ea08661673b
DTSTAMP:20260423T115414Z
SUMMARY:KONKURADO: Areal «Steinfabrik» Pfäffikon SZ\, 1. Tag Beurteilung
  Projektvorschläge 2. Stufe 27.11.2025 - 27.11.2025
DESCRIPTION:Link zum Verfahren: https://konkurado.ch/en/areal-steinfabrik-p
 faffikon-sz
X-MICROSOFT-CDO-ALLDAYEVENT:TRUE
DTSTART;TZID=Europe/Zurich;VALUE=DATE:20251127
END:VEVENT
BEGIN:VEVENT
UID:69ea08661675f
DTSTAMP:20260423T115414Z
SUMMARY:KONKURADO: Areal «Steinfabrik» Pfäffikon SZ\, 1. Tag Beurteilung
  Projektvorschläge 2. Stufe 27.11.2025 - 27.11.2025
DESCRIPTION:Link zum Verfahren: https://konkurado.ch/en/areal-steinfabrik-p
 faffikon-sz
X-MICROSOFT-CDO-ALLDAYEVENT:TRUE
DTSTART;TZID=Europe/Zurich;VALUE=DATE:20251127
END:VEVENT
BEGIN:VEVENT
UID:69ea086616793
DTSTAMP:20260423T115414Z
SUMMARY:KONKURADO: Areal «Steinfabrik» Pfäffikon SZ\, 2. Tag Beurteilung
  Projektvorschläge 2. Stufe 28.11.2025 - 28.11.2025
DESCRIPTION:Link zum Verfahren: https://konkurado.ch/en/areal-steinfabrik-p
 faffikon-sz
X-MICROSOFT-CDO-ALLDAYEVENT:TRUE
DTSTART;TZID=Europe/Zurich;VALUE=DATE:20251128
END:VEVENT
BEGIN:VEVENT
UID:69ea0866167c7
DTSTAMP:20260423T115414Z
SUMMARY:KONKURADO: Areal «Steinfabrik» Pfäffikon SZ\, 2. Tag Beurteilung
  Projektvorschläge 2. Stufe 28.11.2025 - 28.11.2025
DESCRIPTION:Link zum Verfahren: https://konkurado.ch/en/areal-steinfabrik-p
 faffikon-sz
X-MICROSOFT-CDO-ALLDAYEVENT:TRUE
DTSTART;TZID=Europe/Zurich;VALUE=DATE:20251128
END:VEVENT
BEGIN:VEVENT
UID:69ea08661682c
DTSTAMP:20260423T115414Z
SUMMARY:KONKURADO: Areal «Steinfabrik» Pfäffikon SZ\, 3. Tag Beratung Pr
 ojektbeschriebe\, Rangierung und Preisverteilung\, Festlegung Kommunikatio
 n 11.12.2025 - 11.12.2025
DESCRIPTION:Link zum Verfahren: https://konkurado.ch/en/areal-steinfabrik-p
 faffikon-sz
X-MICROSOFT-CDO-ALLDAYEVENT:TRUE
DTSTART;TZID=Europe/Zurich;VALUE=DATE:20251211
END:VEVENT
BEGIN:VEVENT
UID:69ea086616853
DTSTAMP:20260423T115414Z
SUMMARY:KONKURADO: Areal «Steinfabrik» Pfäffikon SZ\, 3. Tag Beratung Pr
 ojektbeschriebe\, Rangierung und Preisverteilung\, Festlegung Kommunikatio
 n 11.12.2025 - 11.12.2025
DESCRIPTION:Link zum Verfahren: https://konkurado.ch/en/areal-steinfabrik-p
 faffikon-sz
X-MICROSOFT-CDO-ALLDAYEVENT:TRUE
DTSTART;TZID=Europe/Zurich;VALUE=DATE:20251211
END:VEVENT
END:VCALENDAR