BEGIN:VCALENDAR
VERSION:2.0
PRODID:spatie/icalendar-generator
NAME:Architektenleistungen Umbau Betriebsgebäude ARA Werdhölzli
X-WR-CALNAME:Architektenleistungen Umbau Betriebsgebäude ARA Werdhölzli
BEGIN:VTIMEZONE
TZID:Europe/Zurich
BEGIN:STANDARD
DTSTART:20251026T030000
TZOFFSETFROM:+0200
TZOFFSETTO:+0100
END:STANDARD
BEGIN:DAYLIGHT
DTSTART:20260329T010000
TZOFFSETFROM:+0100
TZOFFSETTO:+0200
END:DAYLIGHT
BEGIN:STANDARD
DTSTART:20261025T030000
TZOFFSETFROM:+0200
TZOFFSETTO:+0100
END:STANDARD
END:VTIMEZONE
BEGIN:VTIMEZONE
TZID:UTC
BEGIN:STANDARD
DTSTART:20250727T101813
TZOFFSETFROM:+0000
TZOFFSETTO:+0000
END:STANDARD
END:VTIMEZONE
BEGIN:VEVENT
UID:69e9f1e570bf6
DTSTAMP:20260423T101813Z
SUMMARY:KONKURADO: Architektenleistungen Umbau Betriebsgebäude ARA Werdhö
 lzli\, Fragerunde\, einreichen bis 05.05.2026 - 05.05.2026
DESCRIPTION:Link zum Verfahren: https://konkurado.ch/en/architektenleistung
 en-umbau-betriebsgebaude-ara-werdholzli
X-MICROSOFT-CDO-ALLDAYEVENT:TRUE
DTSTART;TZID=Europe/Zurich;VALUE=DATE:20260505
END:VEVENT
BEGIN:VEVENT
UID:69e9f1e570c7e
DTSTAMP:20260423T101813Z
SUMMARY:KONKURADO: Architektenleistungen Umbau Betriebsgebäude ARA Werdhö
 lzli\, Fragerunde\, einreichen bis 05.05.2026 - 05.05.2026
DESCRIPTION:Link zum Verfahren: https://konkurado.ch/en/architektenleistung
 en-umbau-betriebsgebaude-ara-werdholzli
X-MICROSOFT-CDO-ALLDAYEVENT:TRUE
DTSTART;TZID=Europe/Zurich;VALUE=DATE:20260505
END:VEVENT
BEGIN:VEVENT
UID:69e9f1e570cf2
DTSTAMP:20260423T101813Z
SUMMARY:KONKURADO: Architektenleistungen Umbau Betriebsgebäude ARA Werdhö
 lzli\, Einreichen von Angeboten bis 22.05.2026 - 22.05.2026
DESCRIPTION:Link zum Verfahren: https://konkurado.ch/en/architektenleistung
 en-umbau-betriebsgebaude-ara-werdholzli
X-MICROSOFT-CDO-ALLDAYEVENT:TRUE
DTSTART;TZID=Europe/Zurich;VALUE=DATE:20260522
END:VEVENT
BEGIN:VEVENT
UID:69e9f1e570d19
DTSTAMP:20260423T101813Z
SUMMARY:KONKURADO: Architektenleistungen Umbau Betriebsgebäude ARA Werdhö
 lzli\, Einreichen von Angeboten bis 22.05.2026 - 22.05.2026
DESCRIPTION:Link zum Verfahren: https://konkurado.ch/en/architektenleistung
 en-umbau-betriebsgebaude-ara-werdholzli
X-MICROSOFT-CDO-ALLDAYEVENT:TRUE
DTSTART;TZID=Europe/Zurich;VALUE=DATE:20260522
END:VEVENT
BEGIN:VEVENT
UID:69e9f1e570d6f
DTSTAMP:20260423T101813Z
SUMMARY:KONKURADO: Architektenleistungen Umbau Betriebsgebäude ARA Werdhö
 lzli\, Offertöffnung 26.05.2026 - 26.05.2026
DESCRIPTION:Link zum Verfahren: https://konkurado.ch/en/architektenleistung
 en-umbau-betriebsgebaude-ara-werdholzli
X-MICROSOFT-CDO-ALLDAYEVENT:TRUE
DTSTART;TZID=Europe/Zurich;VALUE=DATE:20260526
END:VEVENT
BEGIN:VEVENT
UID:69e9f1e570d95
DTSTAMP:20260423T101813Z
SUMMARY:KONKURADO: Architektenleistungen Umbau Betriebsgebäude ARA Werdhö
 lzli\, Offertöffnung 26.05.2026 - 26.05.2026
DESCRIPTION:Link zum Verfahren: https://konkurado.ch/en/architektenleistung
 en-umbau-betriebsgebaude-ara-werdholzli
X-MICROSOFT-CDO-ALLDAYEVENT:TRUE
DTSTART;TZID=Europe/Zurich;VALUE=DATE:20260526
END:VEVENT
BEGIN:VEVENT
UID:69e9f1e570de8
DTSTAMP:20260423T101813Z
SUMMARY:KONKURADO: Architektenleistungen Umbau Betriebsgebäude ARA Werdhö
 lzli\, Verfügbarkeit der Ausschreibungsunterlagen 10.04.2026 - 22.05.2026
DESCRIPTION:Link zum Verfahren: https://konkurado.ch/en/architektenleistung
 en-umbau-betriebsgebaude-ara-werdholzli
X-MICROSOFT-CDO-ALLDAYEVENT:TRUE
DTSTART;TZID=Europe/Zurich;VALUE=DATE:20260410
END:VEVENT
BEGIN:VEVENT
UID:69e9f1e570e0f
DTSTAMP:20260423T101813Z
SUMMARY:KONKURADO: Architektenleistungen Umbau Betriebsgebäude ARA Werdhö
 lzli\, Verfügbarkeit der Ausschreibungsunterlagen 10.04.2026 - 22.05.2026
DESCRIPTION:Link zum Verfahren: https://konkurado.ch/en/architektenleistung
 en-umbau-betriebsgebaude-ara-werdholzli
X-MICROSOFT-CDO-ALLDAYEVENT:TRUE
DTSTART;TZID=Europe/Zurich;VALUE=DATE:20260522
END:VEVENT
BEGIN:VEVENT
UID:69e9f1e570e60
DTSTAMP:20260423T101813Z
SUMMARY:KONKURADO: Architektenleistungen Umbau Betriebsgebäude ARA Werdhö
 lzli\, Begehung 30.04.2026 - 30.04.2026
DESCRIPTION:Link zum Verfahren: https://konkurado.ch/en/architektenleistung
 en-umbau-betriebsgebaude-ara-werdholzli
X-MICROSOFT-CDO-ALLDAYEVENT:TRUE
DTSTART;TZID=Europe/Zurich;VALUE=DATE:20260430
END:VEVENT
BEGIN:VEVENT
UID:69e9f1e570e88
DTSTAMP:20260423T101813Z
SUMMARY:KONKURADO: Architektenleistungen Umbau Betriebsgebäude ARA Werdhö
 lzli\, Begehung 30.04.2026 - 30.04.2026
DESCRIPTION:Link zum Verfahren: https://konkurado.ch/en/architektenleistung
 en-umbau-betriebsgebaude-ara-werdholzli
X-MICROSOFT-CDO-ALLDAYEVENT:TRUE
DTSTART;TZID=Europe/Zurich;VALUE=DATE:20260430
END:VEVENT
END:VCALENDAR