BEGIN:VCALENDAR
VERSION:2.0
PRODID:spatie/icalendar-generator
NAME:Erneuerung Werkhof Gesigen Spiez
X-WR-CALNAME:Erneuerung Werkhof Gesigen Spiez
BEGIN:VTIMEZONE
TZID:Europe/Zurich
BEGIN:STANDARD
DTSTART:20241027T030000
TZOFFSETFROM:+0200
TZOFFSETTO:+0100
END:STANDARD
BEGIN:DAYLIGHT
DTSTART:20250330T010000
TZOFFSETFROM:+0100
TZOFFSETTO:+0200
END:DAYLIGHT
BEGIN:STANDARD
DTSTART:20251026T030000
TZOFFSETFROM:+0200
TZOFFSETTO:+0100
END:STANDARD
BEGIN:DAYLIGHT
DTSTART:20260329T010000
TZOFFSETFROM:+0100
TZOFFSETTO:+0200
END:DAYLIGHT
END:VTIMEZONE
BEGIN:VTIMEZONE
TZID:UTC
BEGIN:STANDARD
DTSTART:20250727T120223
TZOFFSETFROM:+0000
TZOFFSETTO:+0000
END:STANDARD
END:VTIMEZONE
BEGIN:VEVENT
UID:69ea0a4fec142
DTSTAMP:20260423T120223Z
SUMMARY:KONKURADO: Erneuerung Werkhof Gesigen Spiez\, Fragenstellung bis 12
 .02.2025 - 25.02.2025
DESCRIPTION:Link zum Verfahren: https://konkurado.ch/en/Erneuerung-Werkhof-
 Gesigen-Spiez
X-MICROSOFT-CDO-ALLDAYEVENT:TRUE
DTSTART;TZID=Europe/Zurich;VALUE=DATE:20250212
END:VEVENT
BEGIN:VEVENT
UID:69ea0a4fec1f2
DTSTAMP:20260423T120223Z
SUMMARY:KONKURADO: Erneuerung Werkhof Gesigen Spiez\, Fragenstellung bis 12
 .02.2025 - 25.02.2025
DESCRIPTION:Link zum Verfahren: https://konkurado.ch/en/Erneuerung-Werkhof-
 Gesigen-Spiez
X-MICROSOFT-CDO-ALLDAYEVENT:TRUE
DTSTART;TZID=Europe/Zurich;VALUE=DATE:20250225
END:VEVENT
BEGIN:VEVENT
UID:69ea0a4fec3aa
DTSTAMP:20260423T120223Z
SUMMARY:KONKURADO: Erneuerung Werkhof Gesigen Spiez\, Fragenbeantwortung bi
 s 26.02.2025 - 14.03.2025
DESCRIPTION:Link zum Verfahren: https://konkurado.ch/en/Erneuerung-Werkhof-
 Gesigen-Spiez
X-MICROSOFT-CDO-ALLDAYEVENT:TRUE
DTSTART;TZID=Europe/Zurich;VALUE=DATE:20250226
END:VEVENT
BEGIN:VEVENT
UID:69ea0a4fec3f2
DTSTAMP:20260423T120223Z
SUMMARY:KONKURADO: Erneuerung Werkhof Gesigen Spiez\, Fragenbeantwortung bi
 s 26.02.2025 - 14.03.2025
DESCRIPTION:Link zum Verfahren: https://konkurado.ch/en/Erneuerung-Werkhof-
 Gesigen-Spiez
X-MICROSOFT-CDO-ALLDAYEVENT:TRUE
DTSTART;TZID=Europe/Zurich;VALUE=DATE:20250314
END:VEVENT
BEGIN:VEVENT
UID:69ea0a4fec44e
DTSTAMP:20260423T120223Z
SUMMARY:KONKURADO: Erneuerung Werkhof Gesigen Spiez\, Eingabe der Bewerbung
 en bis 12.02.2025 - 10.04.2025
DESCRIPTION:Link zum Verfahren: https://konkurado.ch/en/Erneuerung-Werkhof-
 Gesigen-Spiez
X-MICROSOFT-CDO-ALLDAYEVENT:TRUE
DTSTART;TZID=Europe/Zurich;VALUE=DATE:20250212
END:VEVENT
BEGIN:VEVENT
UID:69ea0a4fec48e
DTSTAMP:20260423T120223Z
SUMMARY:KONKURADO: Erneuerung Werkhof Gesigen Spiez\, Eingabe der Bewerbung
 en bis 12.02.2025 - 10.04.2025
DESCRIPTION:Link zum Verfahren: https://konkurado.ch/en/Erneuerung-Werkhof-
 Gesigen-Spiez
X-MICROSOFT-CDO-ALLDAYEVENT:TRUE
DTSTART;TZID=Europe/Zurich;VALUE=DATE:20250410
END:VEVENT
BEGIN:VEVENT
UID:69ea0a4fec531
DTSTAMP:20260423T120223Z
SUMMARY:KONKURADO: Erneuerung Werkhof Gesigen Spiez\, Publikation selektier
 te Teilnehmende 11.04.2025 - 27.05.2025
DESCRIPTION:Link zum Verfahren: https://konkurado.ch/en/Erneuerung-Werkhof-
 Gesigen-Spiez
X-MICROSOFT-CDO-ALLDAYEVENT:TRUE
DTSTART;TZID=Europe/Zurich;VALUE=DATE:20250411
END:VEVENT
BEGIN:VEVENT
UID:69ea0a4fec573
DTSTAMP:20260423T120223Z
SUMMARY:KONKURADO: Erneuerung Werkhof Gesigen Spiez\, Publikation selektier
 te Teilnehmende 11.04.2025 - 27.05.2025
DESCRIPTION:Link zum Verfahren: https://konkurado.ch/en/Erneuerung-Werkhof-
 Gesigen-Spiez
X-MICROSOFT-CDO-ALLDAYEVENT:TRUE
DTSTART;TZID=Europe/Zurich;VALUE=DATE:20250527
END:VEVENT
BEGIN:VEVENT
UID:69ea0a4fec5fa
DTSTAMP:20260423T120223Z
SUMMARY:KONKURADO: Erneuerung Werkhof Gesigen Spiez\, Versand Programm und 
 Unterlagen Studienauftrag 23.06.2025 - 23.06.2025
DESCRIPTION:Link zum Verfahren: https://konkurado.ch/en/Erneuerung-Werkhof-
 Gesigen-Spiez
X-MICROSOFT-CDO-ALLDAYEVENT:TRUE
DTSTART;TZID=Europe/Zurich;VALUE=DATE:20250623
END:VEVENT
BEGIN:VEVENT
UID:69ea0a4fec63c
DTSTAMP:20260423T120223Z
SUMMARY:KONKURADO: Erneuerung Werkhof Gesigen Spiez\, Versand Programm und 
 Unterlagen Studienauftrag 23.06.2025 - 23.06.2025
DESCRIPTION:Link zum Verfahren: https://konkurado.ch/en/Erneuerung-Werkhof-
 Gesigen-Spiez
X-MICROSOFT-CDO-ALLDAYEVENT:TRUE
DTSTART;TZID=Europe/Zurich;VALUE=DATE:20250623
END:VEVENT
BEGIN:VEVENT
UID:69ea0a4fec6e6
DTSTAMP:20260423T120223Z
SUMMARY:KONKURADO: Erneuerung Werkhof Gesigen Spiez\, Startkolloquium mit B
 egehung 27.06.2025 - 27.06.2025
DESCRIPTION:Link zum Verfahren: https://konkurado.ch/en/Erneuerung-Werkhof-
 Gesigen-Spiez
X-MICROSOFT-CDO-ALLDAYEVENT:TRUE
DTSTART;TZID=Europe/Zurich;VALUE=DATE:20250627
END:VEVENT
BEGIN:VEVENT
UID:69ea0a4fec729
DTSTAMP:20260423T120223Z
SUMMARY:KONKURADO: Erneuerung Werkhof Gesigen Spiez\, Startkolloquium mit B
 egehung 27.06.2025 - 27.06.2025
DESCRIPTION:Link zum Verfahren: https://konkurado.ch/en/Erneuerung-Werkhof-
 Gesigen-Spiez
X-MICROSOFT-CDO-ALLDAYEVENT:TRUE
DTSTART;TZID=Europe/Zurich;VALUE=DATE:20250627
END:VEVENT
BEGIN:VEVENT
UID:69ea0a4fec77c
DTSTAMP:20260423T120223Z
SUMMARY:KONKURADO: Erneuerung Werkhof Gesigen Spiez\, Fragenstellung bis 23
 .06.2025 - 11.07.2025
DESCRIPTION:Link zum Verfahren: https://konkurado.ch/en/Erneuerung-Werkhof-
 Gesigen-Spiez
X-MICROSOFT-CDO-ALLDAYEVENT:TRUE
DTSTART;TZID=Europe/Zurich;VALUE=DATE:20250623
END:VEVENT
BEGIN:VEVENT
UID:69ea0a4fec7ba
DTSTAMP:20260423T120223Z
SUMMARY:KONKURADO: Erneuerung Werkhof Gesigen Spiez\, Fragenstellung bis 23
 .06.2025 - 11.07.2025
DESCRIPTION:Link zum Verfahren: https://konkurado.ch/en/Erneuerung-Werkhof-
 Gesigen-Spiez
X-MICROSOFT-CDO-ALLDAYEVENT:TRUE
DTSTART;TZID=Europe/Zurich;VALUE=DATE:20250711
END:VEVENT
BEGIN:VEVENT
UID:69ea0a4fec847
DTSTAMP:20260423T120223Z
SUMMARY:KONKURADO: Erneuerung Werkhof Gesigen Spiez\, Fragenbeantwortung 12
 .07.2025 - 23.07.2025
DESCRIPTION:Link zum Verfahren: https://konkurado.ch/en/Erneuerung-Werkhof-
 Gesigen-Spiez
X-MICROSOFT-CDO-ALLDAYEVENT:TRUE
DTSTART;TZID=Europe/Zurich;VALUE=DATE:20250712
END:VEVENT
BEGIN:VEVENT
UID:69ea0a4fec888
DTSTAMP:20260423T120223Z
SUMMARY:KONKURADO: Erneuerung Werkhof Gesigen Spiez\, Fragenbeantwortung 12
 .07.2025 - 23.07.2025
DESCRIPTION:Link zum Verfahren: https://konkurado.ch/en/Erneuerung-Werkhof-
 Gesigen-Spiez
X-MICROSOFT-CDO-ALLDAYEVENT:TRUE
DTSTART;TZID=Europe/Zurich;VALUE=DATE:20250723
END:VEVENT
BEGIN:VEVENT
UID:69ea0a4fec8dd
DTSTAMP:20260423T120223Z
SUMMARY:KONKURADO: Erneuerung Werkhof Gesigen Spiez\, Abgabe Unterlagen Zwi
 schenbesprechung bis 27.06.2025 - 15.08.2025
DESCRIPTION:Link zum Verfahren: https://konkurado.ch/en/Erneuerung-Werkhof-
 Gesigen-Spiez
X-MICROSOFT-CDO-ALLDAYEVENT:TRUE
DTSTART;TZID=Europe/Zurich;VALUE=DATE:20250627
END:VEVENT
BEGIN:VEVENT
UID:69ea0a4fec91c
DTSTAMP:20260423T120223Z
SUMMARY:KONKURADO: Erneuerung Werkhof Gesigen Spiez\, Abgabe Unterlagen Zwi
 schenbesprechung bis 27.06.2025 - 15.08.2025
DESCRIPTION:Link zum Verfahren: https://konkurado.ch/en/Erneuerung-Werkhof-
 Gesigen-Spiez
X-MICROSOFT-CDO-ALLDAYEVENT:TRUE
DTSTART;TZID=Europe/Zurich;VALUE=DATE:20250815
END:VEVENT
BEGIN:VEVENT
UID:69ea0a4fec99f
DTSTAMP:20260423T120223Z
SUMMARY:KONKURADO: Erneuerung Werkhof Gesigen Spiez\, Zwischenbesprechung 2
 5.08.2025 - 25.08.2025
DESCRIPTION:Link zum Verfahren: https://konkurado.ch/en/Erneuerung-Werkhof-
 Gesigen-Spiez
X-MICROSOFT-CDO-ALLDAYEVENT:TRUE
DTSTART;TZID=Europe/Zurich;VALUE=DATE:20250825
END:VEVENT
BEGIN:VEVENT
UID:69ea0a4fec9e1
DTSTAMP:20260423T120223Z
SUMMARY:KONKURADO: Erneuerung Werkhof Gesigen Spiez\, Zwischenbesprechung 2
 5.08.2025 - 25.08.2025
DESCRIPTION:Link zum Verfahren: https://konkurado.ch/en/Erneuerung-Werkhof-
 Gesigen-Spiez
X-MICROSOFT-CDO-ALLDAYEVENT:TRUE
DTSTART;TZID=Europe/Zurich;VALUE=DATE:20250825
END:VEVENT
BEGIN:VEVENT
UID:69ea0a4feca31
DTSTAMP:20260423T120223Z
SUMMARY:KONKURADO: Erneuerung Werkhof Gesigen Spiez\, Abgabe Projektdossier
  23.06.2025 - 11.11.2025
DESCRIPTION:Link zum Verfahren: https://konkurado.ch/en/Erneuerung-Werkhof-
 Gesigen-Spiez
X-MICROSOFT-CDO-ALLDAYEVENT:TRUE
DTSTART;TZID=Europe/Zurich;VALUE=DATE:20250623
END:VEVENT
BEGIN:VEVENT
UID:69ea0a4feca6f
DTSTAMP:20260423T120223Z
SUMMARY:KONKURADO: Erneuerung Werkhof Gesigen Spiez\, Abgabe Projektdossier
  23.06.2025 - 11.11.2025
DESCRIPTION:Link zum Verfahren: https://konkurado.ch/en/Erneuerung-Werkhof-
 Gesigen-Spiez
X-MICROSOFT-CDO-ALLDAYEVENT:TRUE
DTSTART;TZID=Europe/Zurich;VALUE=DATE:20251111
END:VEVENT
BEGIN:VEVENT
UID:69ea0a4fecaf3
DTSTAMP:20260423T120223Z
SUMMARY:KONKURADO: Erneuerung Werkhof Gesigen Spiez\, Abgabe Modell 27.06.2
 025 - 03.12.2025
DESCRIPTION:Link zum Verfahren: https://konkurado.ch/en/Erneuerung-Werkhof-
 Gesigen-Spiez
X-MICROSOFT-CDO-ALLDAYEVENT:TRUE
DTSTART;TZID=Europe/Zurich;VALUE=DATE:20250627
END:VEVENT
BEGIN:VEVENT
UID:69ea0a4fecb35
DTSTAMP:20260423T120223Z
SUMMARY:KONKURADO: Erneuerung Werkhof Gesigen Spiez\, Abgabe Modell 27.06.2
 025 - 03.12.2025
DESCRIPTION:Link zum Verfahren: https://konkurado.ch/en/Erneuerung-Werkhof-
 Gesigen-Spiez
X-MICROSOFT-CDO-ALLDAYEVENT:TRUE
DTSTART;TZID=Europe/Zurich;VALUE=DATE:20251203
END:VEVENT
BEGIN:VEVENT
UID:69ea0a4fecbb6
DTSTAMP:20260423T120223Z
SUMMARY:KONKURADO: Erneuerung Werkhof Gesigen Spiez\, Publikation Zuschlag 
 31.12.2025 - 31.12.2025
DESCRIPTION:Link zum Verfahren: https://konkurado.ch/en/Erneuerung-Werkhof-
 Gesigen-Spiez
X-MICROSOFT-CDO-ALLDAYEVENT:TRUE
DTSTART;TZID=Europe/Zurich;VALUE=DATE:20251231
END:VEVENT
BEGIN:VEVENT
UID:69ea0a4fecbf6
DTSTAMP:20260423T120223Z
SUMMARY:KONKURADO: Erneuerung Werkhof Gesigen Spiez\, Publikation Zuschlag 
 31.12.2025 - 31.12.2025
DESCRIPTION:Link zum Verfahren: https://konkurado.ch/en/Erneuerung-Werkhof-
 Gesigen-Spiez
X-MICROSOFT-CDO-ALLDAYEVENT:TRUE
DTSTART;TZID=Europe/Zurich;VALUE=DATE:20251231
END:VEVENT
END:VCALENDAR