BEGIN:VCALENDAR
VERSION:2.0
PRODID:spatie/icalendar-generator
NAME:Albis-Areal\, Gebäude C/D Umbau\, Instandsetzung und Aufstockung
X-WR-CALNAME:Albis-Areal\, Gebäude C/D Umbau\, Instandsetzung und Aufstock
 ung
BEGIN:VTIMEZONE
TZID:Europe/Zurich
BEGIN:STANDARD
DTSTART:20241027T030000
TZOFFSETFROM:+0200
TZOFFSETTO:+0100
END:STANDARD
BEGIN:DAYLIGHT
DTSTART:20250330T010000
TZOFFSETFROM:+0100
TZOFFSETTO:+0200
END:DAYLIGHT
BEGIN:STANDARD
DTSTART:20251026T030000
TZOFFSETFROM:+0200
TZOFFSETTO:+0100
END:STANDARD
BEGIN:DAYLIGHT
DTSTART:20260329T010000
TZOFFSETFROM:+0100
TZOFFSETTO:+0200
END:DAYLIGHT
END:VTIMEZONE
BEGIN:VTIMEZONE
TZID:UTC
BEGIN:STANDARD
DTSTART:20250727T120403
TZOFFSETFROM:+0000
TZOFFSETTO:+0000
END:STANDARD
END:VTIMEZONE
BEGIN:VEVENT
UID:69ea0ab3c8708
DTSTAMP:20260423T120403Z
SUMMARY:KONKURADO: Albis-Areal\, Gebäude C/D Umbau\, Instandsetzung und Au
 fstockung\, Eingabetermin Präqualifikation 20.06.2025 - 23.07.2025
DESCRIPTION:Link zum Verfahren: https://konkurado.ch/en/Albis-Areal-Gebaeud
 e-C-D-Umbau-Instandsetzung-und-Aufstockung
X-MICROSOFT-CDO-ALLDAYEVENT:TRUE
DTSTART;TZID=Europe/Zurich;VALUE=DATE:20250620
END:VEVENT
BEGIN:VEVENT
UID:69ea0ab3c8783
DTSTAMP:20260423T120403Z
SUMMARY:KONKURADO: Albis-Areal\, Gebäude C/D Umbau\, Instandsetzung und Au
 fstockung\, Eingabetermin Präqualifikation 20.06.2025 - 23.07.2025
DESCRIPTION:Link zum Verfahren: https://konkurado.ch/en/Albis-Areal-Gebaeud
 e-C-D-Umbau-Instandsetzung-und-Aufstockung
X-MICROSOFT-CDO-ALLDAYEVENT:TRUE
DTSTART;TZID=Europe/Zurich;VALUE=DATE:20250723
END:VEVENT
BEGIN:VEVENT
UID:69ea0ab3c890f
DTSTAMP:20260423T120403Z
SUMMARY:KONKURADO: Albis-Areal\, Gebäude C/D Umbau\, Instandsetzung und Au
 fstockung\, Ausgabe Unterlagen Phase 2 29.09.2025 - 10.11.2025
DESCRIPTION:Link zum Verfahren: https://konkurado.ch/en/Albis-Areal-Gebaeud
 e-C-D-Umbau-Instandsetzung-und-Aufstockung
X-MICROSOFT-CDO-ALLDAYEVENT:TRUE
DTSTART;TZID=Europe/Zurich;VALUE=DATE:20250929
END:VEVENT
BEGIN:VEVENT
UID:69ea0ab3c8941
DTSTAMP:20260423T120403Z
SUMMARY:KONKURADO: Albis-Areal\, Gebäude C/D Umbau\, Instandsetzung und Au
 fstockung\, Ausgabe Unterlagen Phase 2 29.09.2025 - 10.11.2025
DESCRIPTION:Link zum Verfahren: https://konkurado.ch/en/Albis-Areal-Gebaeud
 e-C-D-Umbau-Instandsetzung-und-Aufstockung
X-MICROSOFT-CDO-ALLDAYEVENT:TRUE
DTSTART;TZID=Europe/Zurich;VALUE=DATE:20251110
END:VEVENT
END:VCALENDAR