BEGIN:VCALENDAR
VERSION:2.0
PRODID:spatie/icalendar-generator
NAME:Zusammenschluss der Kläranlagen Vella und Degen
X-WR-CALNAME:Zusammenschluss der Kläranlagen Vella und Degen
BEGIN:VTIMEZONE
TZID:Europe/Zurich
BEGIN:STANDARD
DTSTART:20251026T030000
TZOFFSETFROM:+0200
TZOFFSETTO:+0100
END:STANDARD
BEGIN:DAYLIGHT
DTSTART:20260329T010000
TZOFFSETFROM:+0100
TZOFFSETTO:+0200
END:DAYLIGHT
END:VTIMEZONE
BEGIN:VTIMEZONE
TZID:UTC
BEGIN:STANDARD
DTSTART:20250728T172133
TZOFFSETFROM:+0000
TZOFFSETTO:+0000
END:STANDARD
END:VTIMEZONE
BEGIN:VEVENT
UID:69eba69dbeaf9
DTSTAMP:20260424T172133Z
SUMMARY:KONKURADO: Zusammenschluss der Kläranlagen Vella und Degen\, Einre
 ichung von Fragen bis 08.04.2026 - 08.04.2026
DESCRIPTION:Link zum Verfahren: https://konkurado.ch/de/zusammenschluss-der
 -klaranlagen-vella-und-degen
X-MICROSOFT-CDO-ALLDAYEVENT:TRUE
DTSTART;TZID=Europe/Zurich;VALUE=DATE:20260408
END:VEVENT
BEGIN:VEVENT
UID:69eba69dbeb7a
DTSTAMP:20260424T172133Z
SUMMARY:KONKURADO: Zusammenschluss der Kläranlagen Vella und Degen\, Einre
 ichung von Fragen bis 08.04.2026 - 08.04.2026
DESCRIPTION:Link zum Verfahren: https://konkurado.ch/de/zusammenschluss-der
 -klaranlagen-vella-und-degen
X-MICROSOFT-CDO-ALLDAYEVENT:TRUE
DTSTART;TZID=Europe/Zurich;VALUE=DATE:20260408
END:VEVENT
BEGIN:VEVENT
UID:69eba69dbebec
DTSTAMP:20260424T172133Z
SUMMARY:KONKURADO: Zusammenschluss der Kläranlagen Vella und Degen\, Einre
 ichung von Angeboten bis 22.04.2026 - 22.04.2026
DESCRIPTION:Link zum Verfahren: https://konkurado.ch/de/zusammenschluss-der
 -klaranlagen-vella-und-degen
X-MICROSOFT-CDO-ALLDAYEVENT:TRUE
DTSTART;TZID=Europe/Zurich;VALUE=DATE:20260422
END:VEVENT
BEGIN:VEVENT
UID:69eba69dbec17
DTSTAMP:20260424T172133Z
SUMMARY:KONKURADO: Zusammenschluss der Kläranlagen Vella und Degen\, Einre
 ichung von Angeboten bis 22.04.2026 - 22.04.2026
DESCRIPTION:Link zum Verfahren: https://konkurado.ch/de/zusammenschluss-der
 -klaranlagen-vella-und-degen
X-MICROSOFT-CDO-ALLDAYEVENT:TRUE
DTSTART;TZID=Europe/Zurich;VALUE=DATE:20260422
END:VEVENT
BEGIN:VEVENT
UID:69eba69dbec70
DTSTAMP:20260424T172133Z
SUMMARY:KONKURADO: Zusammenschluss der Kläranlagen Vella und Degen\, Verf
 ügbarkeit der Ausschreibungsunterlagen 01.04.2026 - 22.04.2026
DESCRIPTION:Link zum Verfahren: https://konkurado.ch/de/zusammenschluss-der
 -klaranlagen-vella-und-degen
X-MICROSOFT-CDO-ALLDAYEVENT:TRUE
DTSTART;TZID=Europe/Zurich;VALUE=DATE:20260401
END:VEVENT
BEGIN:VEVENT
UID:69eba69dbec96
DTSTAMP:20260424T172133Z
SUMMARY:KONKURADO: Zusammenschluss der Kläranlagen Vella und Degen\, Verf
 ügbarkeit der Ausschreibungsunterlagen 01.04.2026 - 22.04.2026
DESCRIPTION:Link zum Verfahren: https://konkurado.ch/de/zusammenschluss-der
 -klaranlagen-vella-und-degen
X-MICROSOFT-CDO-ALLDAYEVENT:TRUE
DTSTART;TZID=Europe/Zurich;VALUE=DATE:20260422
END:VEVENT
END:VCALENDAR