BEGIN:VCALENDAR
VERSION:2.0
PRODID:spatie/icalendar-generator
NAME:Wetzikon\, Oberwetzikon\, BGK Bahnhofstrasse\, Planerleistungen\, Am/m
 m
X-WR-CALNAME:Wetzikon\, Oberwetzikon\, BGK Bahnhofstrasse\, Planerleistunge
 n\, Am/mm
BEGIN:VTIMEZONE
TZID:Europe/Zurich
BEGIN:STANDARD
DTSTART:20251026T030000
TZOFFSETFROM:+0200
TZOFFSETTO:+0100
END:STANDARD
BEGIN:DAYLIGHT
DTSTART:20260329T010000
TZOFFSETFROM:+0100
TZOFFSETTO:+0200
END:DAYLIGHT
BEGIN:STANDARD
DTSTART:20261025T030000
TZOFFSETFROM:+0200
TZOFFSETTO:+0100
END:STANDARD
END:VTIMEZONE
BEGIN:VTIMEZONE
TZID:UTC
BEGIN:STANDARD
DTSTART:20250723T135452
TZOFFSETFROM:+0000
TZOFFSETTO:+0000
END:STANDARD
END:VTIMEZONE
BEGIN:VEVENT
UID:69e4deacecbc8
DTSTAMP:20260419T135452Z
SUMMARY:KONKURADO: Wetzikon\, Oberwetzikon\, BGK Bahnhofstrasse\, Planerlei
 stungen\, Am/mm\, Fragerunde\, einreichen bis 05.05.2026 - 05.05.2026
DESCRIPTION:Link zum Verfahren: https://konkurado.ch/de/wetzikon-oberwetzik
 on-bgk-bahnhofstrasse-planerleistungen-ammm
X-MICROSOFT-CDO-ALLDAYEVENT:TRUE
DTSTART;TZID=Europe/Zurich;VALUE=DATE:20260505
END:VEVENT
BEGIN:VEVENT
UID:69e4deacecc66
DTSTAMP:20260419T135452Z
SUMMARY:KONKURADO: Wetzikon\, Oberwetzikon\, BGK Bahnhofstrasse\, Planerlei
 stungen\, Am/mm\, Fragerunde\, einreichen bis 05.05.2026 - 05.05.2026
DESCRIPTION:Link zum Verfahren: https://konkurado.ch/de/wetzikon-oberwetzik
 on-bgk-bahnhofstrasse-planerleistungen-ammm
X-MICROSOFT-CDO-ALLDAYEVENT:TRUE
DTSTART;TZID=Europe/Zurich;VALUE=DATE:20260505
END:VEVENT
BEGIN:VEVENT
UID:69e4deacecce3
DTSTAMP:20260419T135452Z
SUMMARY:KONKURADO: Wetzikon\, Oberwetzikon\, BGK Bahnhofstrasse\, Planerlei
 stungen\, Am/mm\, Einreichen von Angeboten bis 01.06.2026 - 01.06.2026
DESCRIPTION:Link zum Verfahren: https://konkurado.ch/de/wetzikon-oberwetzik
 on-bgk-bahnhofstrasse-planerleistungen-ammm
X-MICROSOFT-CDO-ALLDAYEVENT:TRUE
DTSTART;TZID=Europe/Zurich;VALUE=DATE:20260601
END:VEVENT
BEGIN:VEVENT
UID:69e4deacecd0d
DTSTAMP:20260419T135452Z
SUMMARY:KONKURADO: Wetzikon\, Oberwetzikon\, BGK Bahnhofstrasse\, Planerlei
 stungen\, Am/mm\, Einreichen von Angeboten bis 01.06.2026 - 01.06.2026
DESCRIPTION:Link zum Verfahren: https://konkurado.ch/de/wetzikon-oberwetzik
 on-bgk-bahnhofstrasse-planerleistungen-ammm
X-MICROSOFT-CDO-ALLDAYEVENT:TRUE
DTSTART;TZID=Europe/Zurich;VALUE=DATE:20260601
END:VEVENT
BEGIN:VEVENT
UID:69e4deacecd74
DTSTAMP:20260419T135452Z
SUMMARY:KONKURADO: Wetzikon\, Oberwetzikon\, BGK Bahnhofstrasse\, Planerlei
 stungen\, Am/mm\, Offertöffnung 01.06.2026 - 01.06.2026
DESCRIPTION:Link zum Verfahren: https://konkurado.ch/de/wetzikon-oberwetzik
 on-bgk-bahnhofstrasse-planerleistungen-ammm
X-MICROSOFT-CDO-ALLDAYEVENT:TRUE
DTSTART;TZID=Europe/Zurich;VALUE=DATE:20260601
END:VEVENT
BEGIN:VEVENT
UID:69e4deacecda9
DTSTAMP:20260419T135452Z
SUMMARY:KONKURADO: Wetzikon\, Oberwetzikon\, BGK Bahnhofstrasse\, Planerlei
 stungen\, Am/mm\, Offertöffnung 01.06.2026 - 01.06.2026
DESCRIPTION:Link zum Verfahren: https://konkurado.ch/de/wetzikon-oberwetzik
 on-bgk-bahnhofstrasse-planerleistungen-ammm
X-MICROSOFT-CDO-ALLDAYEVENT:TRUE
DTSTART;TZID=Europe/Zurich;VALUE=DATE:20260601
END:VEVENT
BEGIN:VEVENT
UID:69e4deacece05
DTSTAMP:20260419T135452Z
SUMMARY:KONKURADO: Wetzikon\, Oberwetzikon\, BGK Bahnhofstrasse\, Planerlei
 stungen\, Am/mm\, Verfügbarkeit der Ausschreibungsunterlagen 17.04.2026 -
  01.06.2026
DESCRIPTION:Link zum Verfahren: https://konkurado.ch/de/wetzikon-oberwetzik
 on-bgk-bahnhofstrasse-planerleistungen-ammm
X-MICROSOFT-CDO-ALLDAYEVENT:TRUE
DTSTART;TZID=Europe/Zurich;VALUE=DATE:20260417
END:VEVENT
BEGIN:VEVENT
UID:69e4deacece2b
DTSTAMP:20260419T135452Z
SUMMARY:KONKURADO: Wetzikon\, Oberwetzikon\, BGK Bahnhofstrasse\, Planerlei
 stungen\, Am/mm\, Verfügbarkeit der Ausschreibungsunterlagen 17.04.2026 -
  01.06.2026
DESCRIPTION:Link zum Verfahren: https://konkurado.ch/de/wetzikon-oberwetzik
 on-bgk-bahnhofstrasse-planerleistungen-ammm
X-MICROSOFT-CDO-ALLDAYEVENT:TRUE
DTSTART;TZID=Europe/Zurich;VALUE=DATE:20260601
END:VEVENT
END:VCALENDAR