BEGIN:VCALENDAR
VERSION:2.0
PRODID:spatie/icalendar-generator
NAME:Werterhaltung Kunstbauten – Hauptinspektionen Kunstbauten Region Urs
 ern
X-WR-CALNAME:Werterhaltung Kunstbauten – Hauptinspektionen Kunstbauten Re
 gion Ursern
BEGIN:VTIMEZONE
TZID:Europe/Zurich
BEGIN:STANDARD
DTSTART:20251026T030000
TZOFFSETFROM:+0200
TZOFFSETTO:+0100
END:STANDARD
BEGIN:DAYLIGHT
DTSTART:20260329T010000
TZOFFSETFROM:+0100
TZOFFSETTO:+0200
END:DAYLIGHT
END:VTIMEZONE
BEGIN:VTIMEZONE
TZID:UTC
BEGIN:STANDARD
DTSTART:20250725T181324
TZOFFSETFROM:+0000
TZOFFSETTO:+0000
END:STANDARD
END:VTIMEZONE
BEGIN:VEVENT
UID:69e7be44ea9d1
DTSTAMP:20260421T181324Z
SUMMARY:KONKURADO: Werterhaltung Kunstbauten – Hauptinspektionen Kunstbau
 ten Region Ursern\, Fragerunde\, einreichen bis 19.02.2026 - 19.02.2026
DESCRIPTION:Link zum Verfahren: https://konkurado.ch/de/werterhaltung-kunst
 bauten-hauptinspektionen-kunstbauten-region-ursern
X-MICROSOFT-CDO-ALLDAYEVENT:TRUE
DTSTART;TZID=Europe/Zurich;VALUE=DATE:20260219
END:VEVENT
BEGIN:VEVENT
UID:69e7be44eaa6f
DTSTAMP:20260421T181324Z
SUMMARY:KONKURADO: Werterhaltung Kunstbauten – Hauptinspektionen Kunstbau
 ten Region Ursern\, Fragerunde\, einreichen bis 19.02.2026 - 19.02.2026
DESCRIPTION:Link zum Verfahren: https://konkurado.ch/de/werterhaltung-kunst
 bauten-hauptinspektionen-kunstbauten-region-ursern
X-MICROSOFT-CDO-ALLDAYEVENT:TRUE
DTSTART;TZID=Europe/Zurich;VALUE=DATE:20260219
END:VEVENT
BEGIN:VEVENT
UID:69e7be44eab04
DTSTAMP:20260421T181324Z
SUMMARY:KONKURADO: Werterhaltung Kunstbauten – Hauptinspektionen Kunstbau
 ten Region Ursern\, Einreichen des Teilnahmeantrags 27.02.2026 - 27.02.202
 6
DESCRIPTION:Link zum Verfahren: https://konkurado.ch/de/werterhaltung-kunst
 bauten-hauptinspektionen-kunstbauten-region-ursern
X-MICROSOFT-CDO-ALLDAYEVENT:TRUE
DTSTART;TZID=Europe/Zurich;VALUE=DATE:20260227
END:VEVENT
BEGIN:VEVENT
UID:69e7be44eab3f
DTSTAMP:20260421T181324Z
SUMMARY:KONKURADO: Werterhaltung Kunstbauten – Hauptinspektionen Kunstbau
 ten Region Ursern\, Einreichen des Teilnahmeantrags 27.02.2026 - 27.02.202
 6
DESCRIPTION:Link zum Verfahren: https://konkurado.ch/de/werterhaltung-kunst
 bauten-hauptinspektionen-kunstbauten-region-ursern
X-MICROSOFT-CDO-ALLDAYEVENT:TRUE
DTSTART;TZID=Europe/Zurich;VALUE=DATE:20260227
END:VEVENT
BEGIN:VEVENT
UID:69e7be44eabb1
DTSTAMP:20260421T181324Z
SUMMARY:KONKURADO: Werterhaltung Kunstbauten – Hauptinspektionen Kunstbau
 ten Region Ursern\, Verfügbarkeit der Ausschreibungsunterlagen 06.02.2026
  - 19.02.2026
DESCRIPTION:Link zum Verfahren: https://konkurado.ch/de/werterhaltung-kunst
 bauten-hauptinspektionen-kunstbauten-region-ursern
X-MICROSOFT-CDO-ALLDAYEVENT:TRUE
DTSTART;TZID=Europe/Zurich;VALUE=DATE:20260206
END:VEVENT
BEGIN:VEVENT
UID:69e7be44eabd8
DTSTAMP:20260421T181324Z
SUMMARY:KONKURADO: Werterhaltung Kunstbauten – Hauptinspektionen Kunstbau
 ten Region Ursern\, Verfügbarkeit der Ausschreibungsunterlagen 06.02.2026
  - 19.02.2026
DESCRIPTION:Link zum Verfahren: https://konkurado.ch/de/werterhaltung-kunst
 bauten-hauptinspektionen-kunstbauten-region-ursern
X-MICROSOFT-CDO-ALLDAYEVENT:TRUE
DTSTART;TZID=Europe/Zurich;VALUE=DATE:20260219
END:VEVENT
END:VCALENDAR