BEGIN:VCALENDAR
VERSION:2.0
PRODID:spatie/icalendar-generator
NAME:Unterer Bahnhofplatz Baden\, Neugestaltung
X-WR-CALNAME:Unterer Bahnhofplatz Baden\, Neugestaltung
BEGIN:VTIMEZONE
TZID:Europe/Zurich
BEGIN:STANDARD
DTSTART:20251026T030000
TZOFFSETFROM:+0200
TZOFFSETTO:+0100
END:STANDARD
BEGIN:DAYLIGHT
DTSTART:20260329T010000
TZOFFSETFROM:+0100
TZOFFSETTO:+0200
END:DAYLIGHT
BEGIN:STANDARD
DTSTART:20261025T030000
TZOFFSETFROM:+0200
TZOFFSETTO:+0100
END:STANDARD
BEGIN:DAYLIGHT
DTSTART:20270328T010000
TZOFFSETFROM:+0100
TZOFFSETTO:+0200
END:DAYLIGHT
END:VTIMEZONE
BEGIN:VTIMEZONE
TZID:UTC
BEGIN:STANDARD
DTSTART:20250727T132332
TZOFFSETFROM:+0000
TZOFFSETTO:+0000
END:STANDARD
END:VTIMEZONE
BEGIN:VEVENT
UID:69ea1d54844c0
DTSTAMP:20260423T132332Z
SUMMARY:KONKURADO: Unterer Bahnhofplatz Baden\, Neugestaltung\, Einreichen 
 des Teilnahmeantrags 02.06.2026 - 02.06.2026
DESCRIPTION:Link zum Verfahren: https://konkurado.ch/de/unterer-bahnhofplat
 z-baden-neugestaltung
X-MICROSOFT-CDO-ALLDAYEVENT:TRUE
DTSTART;TZID=Europe/Zurich;VALUE=DATE:20260602
END:VEVENT
BEGIN:VEVENT
UID:69ea1d5484535
DTSTAMP:20260423T132332Z
SUMMARY:KONKURADO: Unterer Bahnhofplatz Baden\, Neugestaltung\, Einreichen 
 des Teilnahmeantrags 02.06.2026 - 02.06.2026
DESCRIPTION:Link zum Verfahren: https://konkurado.ch/de/unterer-bahnhofplat
 z-baden-neugestaltung
X-MICROSOFT-CDO-ALLDAYEVENT:TRUE
DTSTART;TZID=Europe/Zurich;VALUE=DATE:20260602
END:VEVENT
BEGIN:VEVENT
UID:69ea1d54845ac
DTSTAMP:20260423T132332Z
SUMMARY:KONKURADO: Unterer Bahnhofplatz Baden\, Neugestaltung\, Vorgesehene
  Frist für die Einreichung des Angebots 15.12.2026 - 15.12.2026
DESCRIPTION:Link zum Verfahren: https://konkurado.ch/de/unterer-bahnhofplat
 z-baden-neugestaltung
X-MICROSOFT-CDO-ALLDAYEVENT:TRUE
DTSTART;TZID=Europe/Zurich;VALUE=DATE:20261215
END:VEVENT
BEGIN:VEVENT
UID:69ea1d54845d5
DTSTAMP:20260423T132332Z
SUMMARY:KONKURADO: Unterer Bahnhofplatz Baden\, Neugestaltung\, Vorgesehene
  Frist für die Einreichung des Angebots 15.12.2026 - 15.12.2026
DESCRIPTION:Link zum Verfahren: https://konkurado.ch/de/unterer-bahnhofplat
 z-baden-neugestaltung
X-MICROSOFT-CDO-ALLDAYEVENT:TRUE
DTSTART;TZID=Europe/Zurich;VALUE=DATE:20261215
END:VEVENT
BEGIN:VEVENT
UID:69ea1d5484630
DTSTAMP:20260423T132332Z
SUMMARY:KONKURADO: Unterer Bahnhofplatz Baden\, Neugestaltung\, Verfügbark
 eit der Ausschreibungsunterlagen 15.04.2026 - 02.06.2026
DESCRIPTION:Link zum Verfahren: https://konkurado.ch/de/unterer-bahnhofplat
 z-baden-neugestaltung
X-MICROSOFT-CDO-ALLDAYEVENT:TRUE
DTSTART;TZID=Europe/Zurich;VALUE=DATE:20260415
END:VEVENT
BEGIN:VEVENT
UID:69ea1d5484658
DTSTAMP:20260423T132332Z
SUMMARY:KONKURADO: Unterer Bahnhofplatz Baden\, Neugestaltung\, Verfügbark
 eit der Ausschreibungsunterlagen 15.04.2026 - 02.06.2026
DESCRIPTION:Link zum Verfahren: https://konkurado.ch/de/unterer-bahnhofplat
 z-baden-neugestaltung
X-MICROSOFT-CDO-ALLDAYEVENT:TRUE
DTSTART;TZID=Europe/Zurich;VALUE=DATE:20260602
END:VEVENT
BEGIN:VEVENT
UID:69ea1d54846be
DTSTAMP:20260423T132332Z
SUMMARY:KONKURADO: Unterer Bahnhofplatz Baden\, Neugestaltung\, Einreichung
  Fragen 02.09.2026 - 02.09.2026
DESCRIPTION:Link zum Verfahren: https://konkurado.ch/de/unterer-bahnhofplat
 z-baden-neugestaltung
X-MICROSOFT-CDO-ALLDAYEVENT:TRUE
DTSTART;TZID=Europe/Zurich;VALUE=DATE:20260902
END:VEVENT
BEGIN:VEVENT
UID:69ea1d54846f6
DTSTAMP:20260423T132332Z
SUMMARY:KONKURADO: Unterer Bahnhofplatz Baden\, Neugestaltung\, Einreichung
  Fragen 02.09.2026 - 02.09.2026
DESCRIPTION:Link zum Verfahren: https://konkurado.ch/de/unterer-bahnhofplat
 z-baden-neugestaltung
X-MICROSOFT-CDO-ALLDAYEVENT:TRUE
DTSTART;TZID=Europe/Zurich;VALUE=DATE:20260902
END:VEVENT
BEGIN:VEVENT
UID:69ea1d5484765
DTSTAMP:20260423T132332Z
SUMMARY:KONKURADO: Unterer Bahnhofplatz Baden\, Neugestaltung\, Antworten F
 ragen 16.09.2026 - 16.09.2026
DESCRIPTION:Link zum Verfahren: https://konkurado.ch/de/unterer-bahnhofplat
 z-baden-neugestaltung
X-MICROSOFT-CDO-ALLDAYEVENT:TRUE
DTSTART;TZID=Europe/Zurich;VALUE=DATE:20260916
END:VEVENT
BEGIN:VEVENT
UID:69ea1d548478c
DTSTAMP:20260423T132332Z
SUMMARY:KONKURADO: Unterer Bahnhofplatz Baden\, Neugestaltung\, Antworten F
 ragen 16.09.2026 - 16.09.2026
DESCRIPTION:Link zum Verfahren: https://konkurado.ch/de/unterer-bahnhofplat
 z-baden-neugestaltung
X-MICROSOFT-CDO-ALLDAYEVENT:TRUE
DTSTART;TZID=Europe/Zurich;VALUE=DATE:20260916
END:VEVENT
BEGIN:VEVENT
UID:69ea1d54847e4
DTSTAMP:20260423T132332Z
SUMMARY:KONKURADO: Unterer Bahnhofplatz Baden\, Neugestaltung\, Zwischenbes
 prechung 23.10.2026 - 23.10.2026
DESCRIPTION:Link zum Verfahren: https://konkurado.ch/de/unterer-bahnhofplat
 z-baden-neugestaltung
X-MICROSOFT-CDO-ALLDAYEVENT:TRUE
DTSTART;TZID=Europe/Zurich;VALUE=DATE:20261023
END:VEVENT
BEGIN:VEVENT
UID:69ea1d548480b
DTSTAMP:20260423T132332Z
SUMMARY:KONKURADO: Unterer Bahnhofplatz Baden\, Neugestaltung\, Zwischenbes
 prechung 23.10.2026 - 23.10.2026
DESCRIPTION:Link zum Verfahren: https://konkurado.ch/de/unterer-bahnhofplat
 z-baden-neugestaltung
X-MICROSOFT-CDO-ALLDAYEVENT:TRUE
DTSTART;TZID=Europe/Zurich;VALUE=DATE:20261023
END:VEVENT
END:VCALENDAR