BEGIN:VCALENDAR
VERSION:2.0
PRODID:spatie/icalendar-generator
NAME:Umbau und Instandsetzung BEO Heimgarten Bern
X-WR-CALNAME:Umbau und Instandsetzung BEO Heimgarten Bern
BEGIN:VTIMEZONE
TZID:Europe/Zurich
BEGIN:STANDARD
DTSTART:20251026T030000
TZOFFSETFROM:+0200
TZOFFSETTO:+0100
END:STANDARD
BEGIN:DAYLIGHT
DTSTART:20260329T010000
TZOFFSETFROM:+0100
TZOFFSETTO:+0200
END:DAYLIGHT
BEGIN:STANDARD
DTSTART:20261025T030000
TZOFFSETFROM:+0200
TZOFFSETTO:+0100
END:STANDARD
END:VTIMEZONE
BEGIN:VTIMEZONE
TZID:UTC
BEGIN:STANDARD
DTSTART:20250727T131752
TZOFFSETFROM:+0000
TZOFFSETTO:+0000
END:STANDARD
END:VTIMEZONE
BEGIN:VEVENT
UID:69ea1c00068ae
DTSTAMP:20260423T131752Z
SUMMARY:KONKURADO: Umbau und Instandsetzung BEO Heimgarten Bern\, Fragerund
 e\, einreichen bis 22.05.2026 - 22.05.2026
DESCRIPTION:Link zum Verfahren: https://konkurado.ch/de/umbau-und-instandse
 tzung-beo-heimgarten-bern
X-MICROSOFT-CDO-ALLDAYEVENT:TRUE
DTSTART;TZID=Europe/Zurich;VALUE=DATE:20260522
END:VEVENT
BEGIN:VEVENT
UID:69ea1c0006936
DTSTAMP:20260423T131752Z
SUMMARY:KONKURADO: Umbau und Instandsetzung BEO Heimgarten Bern\, Fragerund
 e\, einreichen bis 22.05.2026 - 22.05.2026
DESCRIPTION:Link zum Verfahren: https://konkurado.ch/de/umbau-und-instandse
 tzung-beo-heimgarten-bern
X-MICROSOFT-CDO-ALLDAYEVENT:TRUE
DTSTART;TZID=Europe/Zurich;VALUE=DATE:20260522
END:VEVENT
BEGIN:VEVENT
UID:69ea1c00069a8
DTSTAMP:20260423T131752Z
SUMMARY:KONKURADO: Umbau und Instandsetzung BEO Heimgarten Bern\, Einreiche
 n des Angebots 26.06.2026 - 26.06.2026
DESCRIPTION:Link zum Verfahren: https://konkurado.ch/de/umbau-und-instandse
 tzung-beo-heimgarten-bern
X-MICROSOFT-CDO-ALLDAYEVENT:TRUE
DTSTART;TZID=Europe/Zurich;VALUE=DATE:20260626
END:VEVENT
BEGIN:VEVENT
UID:69ea1c00069d0
DTSTAMP:20260423T131752Z
SUMMARY:KONKURADO: Umbau und Instandsetzung BEO Heimgarten Bern\, Einreiche
 n des Angebots 26.06.2026 - 26.06.2026
DESCRIPTION:Link zum Verfahren: https://konkurado.ch/de/umbau-und-instandse
 tzung-beo-heimgarten-bern
X-MICROSOFT-CDO-ALLDAYEVENT:TRUE
DTSTART;TZID=Europe/Zurich;VALUE=DATE:20260626
END:VEVENT
BEGIN:VEVENT
UID:69ea1c0006a28
DTSTAMP:20260423T131752Z
SUMMARY:KONKURADO: Umbau und Instandsetzung BEO Heimgarten Bern\, Voraussic
 htliches Ausschreibungsdatum 30.04.2026 - 30.04.2026
DESCRIPTION:Link zum Verfahren: https://konkurado.ch/de/umbau-und-instandse
 tzung-beo-heimgarten-bern
X-MICROSOFT-CDO-ALLDAYEVENT:TRUE
DTSTART;TZID=Europe/Zurich;VALUE=DATE:20260430
END:VEVENT
BEGIN:VEVENT
UID:69ea1c0006a4d
DTSTAMP:20260423T131752Z
SUMMARY:KONKURADO: Umbau und Instandsetzung BEO Heimgarten Bern\, Voraussic
 htliches Ausschreibungsdatum 30.04.2026 - 30.04.2026
DESCRIPTION:Link zum Verfahren: https://konkurado.ch/de/umbau-und-instandse
 tzung-beo-heimgarten-bern
X-MICROSOFT-CDO-ALLDAYEVENT:TRUE
DTSTART;TZID=Europe/Zurich;VALUE=DATE:20260430
END:VEVENT
END:VCALENDAR