BEGIN:VCALENDAR
VERSION:2.0
PRODID:spatie/icalendar-generator
NAME:UL 149 Oberbuchsiten – Lostorf - Generalplaner SIA Phasen 41-53
X-WR-CALNAME:UL 149 Oberbuchsiten – Lostorf - Generalplaner SIA Phasen 41
 -53
BEGIN:VTIMEZONE
TZID:Europe/Zurich
BEGIN:STANDARD
DTSTART:20251026T030000
TZOFFSETFROM:+0200
TZOFFSETTO:+0100
END:STANDARD
BEGIN:DAYLIGHT
DTSTART:20260329T010000
TZOFFSETFROM:+0100
TZOFFSETTO:+0200
END:DAYLIGHT
BEGIN:STANDARD
DTSTART:20261025T030000
TZOFFSETFROM:+0200
TZOFFSETTO:+0100
END:STANDARD
END:VTIMEZONE
BEGIN:VTIMEZONE
TZID:UTC
BEGIN:STANDARD
DTSTART:20250728T170846
TZOFFSETFROM:+0000
TZOFFSETTO:+0000
END:STANDARD
END:VTIMEZONE
BEGIN:VEVENT
UID:69eba39e0eb53
DTSTAMP:20260424T170846Z
SUMMARY:KONKURADO: UL 149 Oberbuchsiten – Lostorf - Generalplaner SIA Pha
 sen 41-53\, Fragerunde\, einreichen bis 26.05.2026 - 26.05.2026
DESCRIPTION:Link zum Verfahren: https://konkurado.ch/de/ul-149-oberbuchsite
 n-lostorf-generalplaner-sia-phasen-41-53
X-MICROSOFT-CDO-ALLDAYEVENT:TRUE
DTSTART;TZID=Europe/Zurich;VALUE=DATE:20260526
END:VEVENT
BEGIN:VEVENT
UID:69eba39e0ec17
DTSTAMP:20260424T170846Z
SUMMARY:KONKURADO: UL 149 Oberbuchsiten – Lostorf - Generalplaner SIA Pha
 sen 41-53\, Fragerunde\, einreichen bis 26.05.2026 - 26.05.2026
DESCRIPTION:Link zum Verfahren: https://konkurado.ch/de/ul-149-oberbuchsite
 n-lostorf-generalplaner-sia-phasen-41-53
X-MICROSOFT-CDO-ALLDAYEVENT:TRUE
DTSTART;TZID=Europe/Zurich;VALUE=DATE:20260526
END:VEVENT
BEGIN:VEVENT
UID:69eba39e0ec8f
DTSTAMP:20260424T170846Z
SUMMARY:KONKURADO: UL 149 Oberbuchsiten – Lostorf - Generalplaner SIA Pha
 sen 41-53\, Einreichen von Angeboten bis 29.06.2026 - 29.06.2026
DESCRIPTION:Link zum Verfahren: https://konkurado.ch/de/ul-149-oberbuchsite
 n-lostorf-generalplaner-sia-phasen-41-53
X-MICROSOFT-CDO-ALLDAYEVENT:TRUE
DTSTART;TZID=Europe/Zurich;VALUE=DATE:20260629
END:VEVENT
BEGIN:VEVENT
UID:69eba39e0ecb9
DTSTAMP:20260424T170846Z
SUMMARY:KONKURADO: UL 149 Oberbuchsiten – Lostorf - Generalplaner SIA Pha
 sen 41-53\, Einreichen von Angeboten bis 29.06.2026 - 29.06.2026
DESCRIPTION:Link zum Verfahren: https://konkurado.ch/de/ul-149-oberbuchsite
 n-lostorf-generalplaner-sia-phasen-41-53
X-MICROSOFT-CDO-ALLDAYEVENT:TRUE
DTSTART;TZID=Europe/Zurich;VALUE=DATE:20260629
END:VEVENT
BEGIN:VEVENT
UID:69eba39e0ed14
DTSTAMP:20260424T170846Z
SUMMARY:KONKURADO: UL 149 Oberbuchsiten – Lostorf - Generalplaner SIA Pha
 sen 41-53\, Offertöffnung 30.06.2026 - 30.06.2026
DESCRIPTION:Link zum Verfahren: https://konkurado.ch/de/ul-149-oberbuchsite
 n-lostorf-generalplaner-sia-phasen-41-53
X-MICROSOFT-CDO-ALLDAYEVENT:TRUE
DTSTART;TZID=Europe/Zurich;VALUE=DATE:20260630
END:VEVENT
BEGIN:VEVENT
UID:69eba39e0ed3e
DTSTAMP:20260424T170846Z
SUMMARY:KONKURADO: UL 149 Oberbuchsiten – Lostorf - Generalplaner SIA Pha
 sen 41-53\, Offertöffnung 30.06.2026 - 30.06.2026
DESCRIPTION:Link zum Verfahren: https://konkurado.ch/de/ul-149-oberbuchsite
 n-lostorf-generalplaner-sia-phasen-41-53
X-MICROSOFT-CDO-ALLDAYEVENT:TRUE
DTSTART;TZID=Europe/Zurich;VALUE=DATE:20260630
END:VEVENT
END:VCALENDAR