BEGIN:VCALENDAR
VERSION:2.0
PRODID:spatie/icalendar-generator
NAME:Überarbeitung Allgemeine Nutzungsplanung
X-WR-CALNAME:Überarbeitung Allgemeine Nutzungsplanung
BEGIN:VTIMEZONE
TZID:Europe/Zurich
BEGIN:STANDARD
DTSTART:20251026T030000
TZOFFSETFROM:+0200
TZOFFSETTO:+0100
END:STANDARD
BEGIN:DAYLIGHT
DTSTART:20260329T010000
TZOFFSETFROM:+0100
TZOFFSETTO:+0200
END:DAYLIGHT
END:VTIMEZONE
BEGIN:VTIMEZONE
TZID:UTC
BEGIN:STANDARD
DTSTART:20250725T182039
TZOFFSETFROM:+0000
TZOFFSETTO:+0000
END:STANDARD
END:VTIMEZONE
BEGIN:VEVENT
UID:69e7bff71da0d
DTSTAMP:20260421T182039Z
SUMMARY:KONKURADO: Überarbeitung Allgemeine Nutzungsplanung\, Fragerunde\,
  einreichen bis 05.03.2026 - 05.03.2026
DESCRIPTION:Link zum Verfahren: https://konkurado.ch/de/uberarbeitung-allge
 meine-nutzungsplanung
X-MICROSOFT-CDO-ALLDAYEVENT:TRUE
DTSTART;TZID=Europe/Zurich;VALUE=DATE:20260305
END:VEVENT
BEGIN:VEVENT
UID:69e7bff71da9a
DTSTAMP:20260421T182039Z
SUMMARY:KONKURADO: Überarbeitung Allgemeine Nutzungsplanung\, Fragerunde\,
  einreichen bis 05.03.2026 - 05.03.2026
DESCRIPTION:Link zum Verfahren: https://konkurado.ch/de/uberarbeitung-allge
 meine-nutzungsplanung
X-MICROSOFT-CDO-ALLDAYEVENT:TRUE
DTSTART;TZID=Europe/Zurich;VALUE=DATE:20260305
END:VEVENT
BEGIN:VEVENT
UID:69e7bff71db0c
DTSTAMP:20260421T182039Z
SUMMARY:KONKURADO: Überarbeitung Allgemeine Nutzungsplanung\, Einreichen d
 es Teilnahmeantrags 02.04.2026 - 02.04.2026
DESCRIPTION:Link zum Verfahren: https://konkurado.ch/de/uberarbeitung-allge
 meine-nutzungsplanung
X-MICROSOFT-CDO-ALLDAYEVENT:TRUE
DTSTART;TZID=Europe/Zurich;VALUE=DATE:20260402
END:VEVENT
BEGIN:VEVENT
UID:69e7bff71db34
DTSTAMP:20260421T182039Z
SUMMARY:KONKURADO: Überarbeitung Allgemeine Nutzungsplanung\, Einreichen d
 es Teilnahmeantrags 02.04.2026 - 02.04.2026
DESCRIPTION:Link zum Verfahren: https://konkurado.ch/de/uberarbeitung-allge
 meine-nutzungsplanung
X-MICROSOFT-CDO-ALLDAYEVENT:TRUE
DTSTART;TZID=Europe/Zurich;VALUE=DATE:20260402
END:VEVENT
BEGIN:VEVENT
UID:69e7bff71db8c
DTSTAMP:20260421T182039Z
SUMMARY:KONKURADO: Überarbeitung Allgemeine Nutzungsplanung\, Offertöffnu
 ng 07.04.2026 - 07.04.2026
DESCRIPTION:Link zum Verfahren: https://konkurado.ch/de/uberarbeitung-allge
 meine-nutzungsplanung
X-MICROSOFT-CDO-ALLDAYEVENT:TRUE
DTSTART;TZID=Europe/Zurich;VALUE=DATE:20260407
END:VEVENT
BEGIN:VEVENT
UID:69e7bff71dbb2
DTSTAMP:20260421T182039Z
SUMMARY:KONKURADO: Überarbeitung Allgemeine Nutzungsplanung\, Offertöffnu
 ng 07.04.2026 - 07.04.2026
DESCRIPTION:Link zum Verfahren: https://konkurado.ch/de/uberarbeitung-allge
 meine-nutzungsplanung
X-MICROSOFT-CDO-ALLDAYEVENT:TRUE
DTSTART;TZID=Europe/Zurich;VALUE=DATE:20260407
END:VEVENT
BEGIN:VEVENT
UID:69e7bff71dc05
DTSTAMP:20260421T182039Z
SUMMARY:KONKURADO: Überarbeitung Allgemeine Nutzungsplanung\, Verfügbarke
 it der Ausschreibungsunterlagen 06.02.2026 - 02.04.2026
DESCRIPTION:Link zum Verfahren: https://konkurado.ch/de/uberarbeitung-allge
 meine-nutzungsplanung
X-MICROSOFT-CDO-ALLDAYEVENT:TRUE
DTSTART;TZID=Europe/Zurich;VALUE=DATE:20260206
END:VEVENT
BEGIN:VEVENT
UID:69e7bff71dc2b
DTSTAMP:20260421T182039Z
SUMMARY:KONKURADO: Überarbeitung Allgemeine Nutzungsplanung\, Verfügbarke
 it der Ausschreibungsunterlagen 06.02.2026 - 02.04.2026
DESCRIPTION:Link zum Verfahren: https://konkurado.ch/de/uberarbeitung-allge
 meine-nutzungsplanung
X-MICROSOFT-CDO-ALLDAYEVENT:TRUE
DTSTART;TZID=Europe/Zurich;VALUE=DATE:20260402
END:VEVENT
END:VCALENDAR