BEGIN:VCALENDAR
VERSION:2.0
PRODID:spatie/icalendar-generator
NAME:Treppenaufgang Hardbrücke | Güterstrasse\, 8004 Zürich
X-WR-CALNAME:Treppenaufgang Hardbrücke | Güterstrasse\, 8004 Zürich
BEGIN:VTIMEZONE
TZID:Europe/Zurich
BEGIN:STANDARD
DTSTART:20251026T030000
TZOFFSETFROM:+0200
TZOFFSETTO:+0100
END:STANDARD
BEGIN:DAYLIGHT
DTSTART:20260329T010000
TZOFFSETFROM:+0100
TZOFFSETTO:+0200
END:DAYLIGHT
BEGIN:STANDARD
DTSTART:20261025T030000
TZOFFSETFROM:+0200
TZOFFSETTO:+0100
END:STANDARD
END:VTIMEZONE
BEGIN:VTIMEZONE
TZID:UTC
BEGIN:STANDARD
DTSTART:20250728T171251
TZOFFSETFROM:+0000
TZOFFSETTO:+0000
END:STANDARD
END:VTIMEZONE
BEGIN:VEVENT
UID:69eba493e8d75
DTSTAMP:20260424T171251Z
SUMMARY:KONKURADO: Treppenaufgang Hardbrücke | Güterstrasse\, 8004 Züric
 h\, Fragerunde\, einreichen bis 03.04.2026 - 03.04.2026
DESCRIPTION:Link zum Verfahren: https://konkurado.ch/de/treppenaufgang-hard
 brucke-guterstrasse-8004-zurich
X-MICROSOFT-CDO-ALLDAYEVENT:TRUE
DTSTART;TZID=Europe/Zurich;VALUE=DATE:20260403
END:VEVENT
BEGIN:VEVENT
UID:69eba493e8df9
DTSTAMP:20260424T171251Z
SUMMARY:KONKURADO: Treppenaufgang Hardbrücke | Güterstrasse\, 8004 Züric
 h\, Fragerunde\, einreichen bis 03.04.2026 - 03.04.2026
DESCRIPTION:Link zum Verfahren: https://konkurado.ch/de/treppenaufgang-hard
 brucke-guterstrasse-8004-zurich
X-MICROSOFT-CDO-ALLDAYEVENT:TRUE
DTSTART;TZID=Europe/Zurich;VALUE=DATE:20260403
END:VEVENT
BEGIN:VEVENT
UID:69eba493e8e6c
DTSTAMP:20260424T171251Z
SUMMARY:KONKURADO: Treppenaufgang Hardbrücke | Güterstrasse\, 8004 Züric
 h\, Einreichen des Teilnahmeantrags 04.05.2026 - 04.05.2026
DESCRIPTION:Link zum Verfahren: https://konkurado.ch/de/treppenaufgang-hard
 brucke-guterstrasse-8004-zurich
X-MICROSOFT-CDO-ALLDAYEVENT:TRUE
DTSTART;TZID=Europe/Zurich;VALUE=DATE:20260504
END:VEVENT
BEGIN:VEVENT
UID:69eba493e8e93
DTSTAMP:20260424T171251Z
SUMMARY:KONKURADO: Treppenaufgang Hardbrücke | Güterstrasse\, 8004 Züric
 h\, Einreichen des Teilnahmeantrags 04.05.2026 - 04.05.2026
DESCRIPTION:Link zum Verfahren: https://konkurado.ch/de/treppenaufgang-hard
 brucke-guterstrasse-8004-zurich
X-MICROSOFT-CDO-ALLDAYEVENT:TRUE
DTSTART;TZID=Europe/Zurich;VALUE=DATE:20260504
END:VEVENT
BEGIN:VEVENT
UID:69eba493e8eea
DTSTAMP:20260424T171251Z
SUMMARY:KONKURADO: Treppenaufgang Hardbrücke | Güterstrasse\, 8004 Züric
 h\, Verfügbarkeit der Ausschreibungsunterlagen 03.04.2026 - 04.05.2026
DESCRIPTION:Link zum Verfahren: https://konkurado.ch/de/treppenaufgang-hard
 brucke-guterstrasse-8004-zurich
X-MICROSOFT-CDO-ALLDAYEVENT:TRUE
DTSTART;TZID=Europe/Zurich;VALUE=DATE:20260403
END:VEVENT
BEGIN:VEVENT
UID:69eba493e8f10
DTSTAMP:20260424T171251Z
SUMMARY:KONKURADO: Treppenaufgang Hardbrücke | Güterstrasse\, 8004 Züric
 h\, Verfügbarkeit der Ausschreibungsunterlagen 03.04.2026 - 04.05.2026
DESCRIPTION:Link zum Verfahren: https://konkurado.ch/de/treppenaufgang-hard
 brucke-guterstrasse-8004-zurich
X-MICROSOFT-CDO-ALLDAYEVENT:TRUE
DTSTART;TZID=Europe/Zurich;VALUE=DATE:20260504
END:VEVENT
BEGIN:VEVENT
UID:69eba493e8f63
DTSTAMP:20260424T171251Z
SUMMARY:KONKURADO: Treppenaufgang Hardbrücke | Güterstrasse\, 8004 Züric
 h\, Abgabe der Unterlagen\, 2. Phase - Angebot 22.05.2026 - 22.05.2026
DESCRIPTION:Link zum Verfahren: https://konkurado.ch/de/treppenaufgang-hard
 brucke-guterstrasse-8004-zurich
X-MICROSOFT-CDO-ALLDAYEVENT:TRUE
DTSTART;TZID=Europe/Zurich;VALUE=DATE:20260522
END:VEVENT
BEGIN:VEVENT
UID:69eba493e8f89
DTSTAMP:20260424T171251Z
SUMMARY:KONKURADO: Treppenaufgang Hardbrücke | Güterstrasse\, 8004 Züric
 h\, Abgabe der Unterlagen\, 2. Phase - Angebot 22.05.2026 - 22.05.2026
DESCRIPTION:Link zum Verfahren: https://konkurado.ch/de/treppenaufgang-hard
 brucke-guterstrasse-8004-zurich
X-MICROSOFT-CDO-ALLDAYEVENT:TRUE
DTSTART;TZID=Europe/Zurich;VALUE=DATE:20260522
END:VEVENT
BEGIN:VEVENT
UID:69eba493e8fdb
DTSTAMP:20260424T171251Z
SUMMARY:KONKURADO: Treppenaufgang Hardbrücke | Güterstrasse\, 8004 Züric
 h\, Geführte Begehung 29.05.2026 - 29.05.2026
DESCRIPTION:Link zum Verfahren: https://konkurado.ch/de/treppenaufgang-hard
 brucke-guterstrasse-8004-zurich
X-MICROSOFT-CDO-ALLDAYEVENT:TRUE
DTSTART;TZID=Europe/Zurich;VALUE=DATE:20260529
END:VEVENT
BEGIN:VEVENT
UID:69eba493e9004
DTSTAMP:20260424T171251Z
SUMMARY:KONKURADO: Treppenaufgang Hardbrücke | Güterstrasse\, 8004 Züric
 h\, Geführte Begehung 29.05.2026 - 29.05.2026
DESCRIPTION:Link zum Verfahren: https://konkurado.ch/de/treppenaufgang-hard
 brucke-guterstrasse-8004-zurich
X-MICROSOFT-CDO-ALLDAYEVENT:TRUE
DTSTART;TZID=Europe/Zurich;VALUE=DATE:20260529
END:VEVENT
BEGIN:VEVENT
UID:69eba493e9057
DTSTAMP:20260424T171251Z
SUMMARY:KONKURADO: Treppenaufgang Hardbrücke | Güterstrasse\, 8004 Züric
 h\, Fragenstellung\, 2. Phase – Angebot 05.06.2026 - 05.06.2026
DESCRIPTION:Link zum Verfahren: https://konkurado.ch/de/treppenaufgang-hard
 brucke-guterstrasse-8004-zurich
X-MICROSOFT-CDO-ALLDAYEVENT:TRUE
DTSTART;TZID=Europe/Zurich;VALUE=DATE:20260605
END:VEVENT
BEGIN:VEVENT
UID:69eba493e9080
DTSTAMP:20260424T171251Z
SUMMARY:KONKURADO: Treppenaufgang Hardbrücke | Güterstrasse\, 8004 Züric
 h\, Fragenstellung\, 2. Phase – Angebot 05.06.2026 - 05.06.2026
DESCRIPTION:Link zum Verfahren: https://konkurado.ch/de/treppenaufgang-hard
 brucke-guterstrasse-8004-zurich
X-MICROSOFT-CDO-ALLDAYEVENT:TRUE
DTSTART;TZID=Europe/Zurich;VALUE=DATE:20260605
END:VEVENT
BEGIN:VEVENT
UID:69eba493e90d2
DTSTAMP:20260424T171251Z
SUMMARY:KONKURADO: Treppenaufgang Hardbrücke | Güterstrasse\, 8004 Züric
 h\, Vorgesehene Frist für die Einreichung des Angebots 01.07.2026 - 01.07
 .2026
DESCRIPTION:Link zum Verfahren: https://konkurado.ch/de/treppenaufgang-hard
 brucke-guterstrasse-8004-zurich
X-MICROSOFT-CDO-ALLDAYEVENT:TRUE
DTSTART;TZID=Europe/Zurich;VALUE=DATE:20260701
END:VEVENT
BEGIN:VEVENT
UID:69eba493e90fa
DTSTAMP:20260424T171251Z
SUMMARY:KONKURADO: Treppenaufgang Hardbrücke | Güterstrasse\, 8004 Züric
 h\, Vorgesehene Frist für die Einreichung des Angebots 01.07.2026 - 01.07
 .2026
DESCRIPTION:Link zum Verfahren: https://konkurado.ch/de/treppenaufgang-hard
 brucke-guterstrasse-8004-zurich
X-MICROSOFT-CDO-ALLDAYEVENT:TRUE
DTSTART;TZID=Europe/Zurich;VALUE=DATE:20260701
END:VEVENT
END:VCALENDAR