BEGIN:VCALENDAR
VERSION:2.0
PRODID:spatie/icalendar-generator
NAME:Traversée du Lavapesson pour mobilité douce
X-WR-CALNAME:Traversée du Lavapesson pour mobilité douce
BEGIN:VTIMEZONE
TZID:Europe/Zurich
BEGIN:STANDARD
DTSTART:20241027T030000
TZOFFSETFROM:+0200
TZOFFSETTO:+0100
END:STANDARD
BEGIN:DAYLIGHT
DTSTART:20250330T010000
TZOFFSETFROM:+0100
TZOFFSETTO:+0200
END:DAYLIGHT
BEGIN:STANDARD
DTSTART:20251026T030000
TZOFFSETFROM:+0200
TZOFFSETTO:+0100
END:STANDARD
BEGIN:DAYLIGHT
DTSTART:20260329T010000
TZOFFSETFROM:+0100
TZOFFSETTO:+0200
END:DAYLIGHT
BEGIN:STANDARD
DTSTART:20261025T030000
TZOFFSETFROM:+0200
TZOFFSETTO:+0100
END:STANDARD
END:VTIMEZONE
BEGIN:VTIMEZONE
TZID:UTC
BEGIN:STANDARD
DTSTART:20250727T132351
TZOFFSETFROM:+0000
TZOFFSETTO:+0000
END:STANDARD
END:VTIMEZONE
BEGIN:VEVENT
UID:69ea1d6716a5f
DTSTAMP:20260423T132351Z
SUMMARY:KONKURADO: Traversée du Lavapesson pour mobilité douce\, Dépôt 
 des questions par courrier anonyme à l’organisateur 18.06.2025 - 07.07.
 2025
DESCRIPTION:Link zum Verfahren: https://konkurado.ch/de/traversee-du-lavape
 sson-pour-mobilite-douce
X-MICROSOFT-CDO-ALLDAYEVENT:TRUE
DTSTART;TZID=Europe/Zurich;VALUE=DATE:20250618
END:VEVENT
BEGIN:VEVENT
UID:69ea1d6716af0
DTSTAMP:20260423T132351Z
SUMMARY:KONKURADO: Traversée du Lavapesson pour mobilité douce\, Dépôt 
 des questions par courrier anonyme à l’organisateur 18.06.2025 - 07.07.
 2025
DESCRIPTION:Link zum Verfahren: https://konkurado.ch/de/traversee-du-lavape
 sson-pour-mobilite-douce
X-MICROSOFT-CDO-ALLDAYEVENT:TRUE
DTSTART;TZID=Europe/Zurich;VALUE=DATE:20250707
END:VEVENT
BEGIN:VEVENT
UID:69ea1d6716b2e
DTSTAMP:20260423T132351Z
SUMMARY:KONKURADO: Traversée du Lavapesson pour mobilité douce\, Rendu de
 s projets 1er degré au notaire 18.06.2025 - 17.10.2025
DESCRIPTION:Link zum Verfahren: https://konkurado.ch/de/traversee-du-lavape
 sson-pour-mobilite-douce
X-MICROSOFT-CDO-ALLDAYEVENT:TRUE
DTSTART;TZID=Europe/Zurich;VALUE=DATE:20250618
END:VEVENT
BEGIN:VEVENT
UID:69ea1d6716b60
DTSTAMP:20260423T132351Z
SUMMARY:KONKURADO: Traversée du Lavapesson pour mobilité douce\, Rendu de
 s projets 1er degré au notaire 18.06.2025 - 17.10.2025
DESCRIPTION:Link zum Verfahren: https://konkurado.ch/de/traversee-du-lavape
 sson-pour-mobilite-douce
X-MICROSOFT-CDO-ALLDAYEVENT:TRUE
DTSTART;TZID=Europe/Zurich;VALUE=DATE:20251017
END:VEVENT
BEGIN:VEVENT
UID:69ea1d6716cc3
DTSTAMP:20260423T132351Z
SUMMARY:KONKURADO: Traversée du Lavapesson pour mobilité douce\, Réponse
 s aux questions sur le site www.simap.ch 08.07.2025 - 28.07.2025
DESCRIPTION:Link zum Verfahren: https://konkurado.ch/de/traversee-du-lavape
 sson-pour-mobilite-douce
X-MICROSOFT-CDO-ALLDAYEVENT:TRUE
DTSTART;TZID=Europe/Zurich;VALUE=DATE:20250708
END:VEVENT
BEGIN:VEVENT
UID:69ea1d6716cf6
DTSTAMP:20260423T132351Z
SUMMARY:KONKURADO: Traversée du Lavapesson pour mobilité douce\, Réponse
 s aux questions sur le site www.simap.ch 08.07.2025 - 28.07.2025
DESCRIPTION:Link zum Verfahren: https://konkurado.ch/de/traversee-du-lavape
 sson-pour-mobilite-douce
X-MICROSOFT-CDO-ALLDAYEVENT:TRUE
DTSTART;TZID=Europe/Zurich;VALUE=DATE:20250728
END:VEVENT
BEGIN:VEVENT
UID:69ea1d6716d5f
DTSTAMP:20260423T132351Z
SUMMARY:KONKURADO: Traversée du Lavapesson pour mobilité douce\, Retrait 
 des fonds de maquette 18.06.2025 - 19.12.2025
DESCRIPTION:Link zum Verfahren: https://konkurado.ch/de/traversee-du-lavape
 sson-pour-mobilite-douce
X-MICROSOFT-CDO-ALLDAYEVENT:TRUE
DTSTART;TZID=Europe/Zurich;VALUE=DATE:20250618
END:VEVENT
BEGIN:VEVENT
UID:69ea1d6716d86
DTSTAMP:20260423T132351Z
SUMMARY:KONKURADO: Traversée du Lavapesson pour mobilité douce\, Retrait 
 des fonds de maquette 18.06.2025 - 19.12.2025
DESCRIPTION:Link zum Verfahren: https://konkurado.ch/de/traversee-du-lavape
 sson-pour-mobilite-douce
X-MICROSOFT-CDO-ALLDAYEVENT:TRUE
DTSTART;TZID=Europe/Zurich;VALUE=DATE:20251219
END:VEVENT
BEGIN:VEVENT
UID:69ea1d6716ddd
DTSTAMP:20260423T132351Z
SUMMARY:KONKURADO: Traversée du Lavapesson pour mobilité douce\, Dernier 
 délai d’inscription pour le retrait du fond de maquette 18.06.2025 - 31
 .07.2025
DESCRIPTION:Link zum Verfahren: https://konkurado.ch/de/traversee-du-lavape
 sson-pour-mobilite-douce
X-MICROSOFT-CDO-ALLDAYEVENT:TRUE
DTSTART;TZID=Europe/Zurich;VALUE=DATE:20250618
END:VEVENT
BEGIN:VEVENT
UID:69ea1d6716e04
DTSTAMP:20260423T132351Z
SUMMARY:KONKURADO: Traversée du Lavapesson pour mobilité douce\, Dernier 
 délai d’inscription pour le retrait du fond de maquette 18.06.2025 - 31
 .07.2025
DESCRIPTION:Link zum Verfahren: https://konkurado.ch/de/traversee-du-lavape
 sson-pour-mobilite-douce
X-MICROSOFT-CDO-ALLDAYEVENT:TRUE
DTSTART;TZID=Europe/Zurich;VALUE=DATE:20250731
END:VEVENT
BEGIN:VEVENT
UID:69ea1d6716e58
DTSTAMP:20260423T132351Z
SUMMARY:KONKURADO: Traversée du Lavapesson pour mobilité douce\, Rendu de
 s maquettes 1er degré 18.06.2025 - 05.11.2025
DESCRIPTION:Link zum Verfahren: https://konkurado.ch/de/traversee-du-lavape
 sson-pour-mobilite-douce
X-MICROSOFT-CDO-ALLDAYEVENT:TRUE
DTSTART;TZID=Europe/Zurich;VALUE=DATE:20250618
END:VEVENT
BEGIN:VEVENT
UID:69ea1d6716e7e
DTSTAMP:20260423T132351Z
SUMMARY:KONKURADO: Traversée du Lavapesson pour mobilité douce\, Rendu de
 s maquettes 1er degré 18.06.2025 - 05.11.2025
DESCRIPTION:Link zum Verfahren: https://konkurado.ch/de/traversee-du-lavape
 sson-pour-mobilite-douce
X-MICROSOFT-CDO-ALLDAYEVENT:TRUE
DTSTART;TZID=Europe/Zurich;VALUE=DATE:20251105
END:VEVENT
BEGIN:VEVENT
UID:69ea1d6716ed1
DTSTAMP:20260423T132351Z
SUMMARY:KONKURADO: Traversée du Lavapesson pour mobilité douce\, Notifica
 tion des résultats du 1er degré 19.12.2025 - 19.12.2025
DESCRIPTION:Link zum Verfahren: https://konkurado.ch/de/traversee-du-lavape
 sson-pour-mobilite-douce
X-MICROSOFT-CDO-ALLDAYEVENT:TRUE
DTSTART;TZID=Europe/Zurich;VALUE=DATE:20251219
END:VEVENT
BEGIN:VEVENT
UID:69ea1d6716ef8
DTSTAMP:20260423T132351Z
SUMMARY:KONKURADO: Traversée du Lavapesson pour mobilité douce\, Notifica
 tion des résultats du 1er degré 19.12.2025 - 19.12.2025
DESCRIPTION:Link zum Verfahren: https://konkurado.ch/de/traversee-du-lavape
 sson-pour-mobilite-douce
X-MICROSOFT-CDO-ALLDAYEVENT:TRUE
DTSTART;TZID=Europe/Zurich;VALUE=DATE:20251219
END:VEVENT
BEGIN:VEVENT
UID:69ea1d6716f2a
DTSTAMP:20260423T132351Z
SUMMARY:KONKURADO: Traversée du Lavapesson pour mobilité douce\, Dépôt 
 des questions par courrier anonyme à l’organisateur 19.12.2025 - 20.01.
 2026
DESCRIPTION:Link zum Verfahren: https://konkurado.ch/de/traversee-du-lavape
 sson-pour-mobilite-douce
X-MICROSOFT-CDO-ALLDAYEVENT:TRUE
DTSTART;TZID=Europe/Zurich;VALUE=DATE:20251219
END:VEVENT
BEGIN:VEVENT
UID:69ea1d6716f4f
DTSTAMP:20260423T132351Z
SUMMARY:KONKURADO: Traversée du Lavapesson pour mobilité douce\, Dépôt 
 des questions par courrier anonyme à l’organisateur 19.12.2025 - 20.01.
 2026
DESCRIPTION:Link zum Verfahren: https://konkurado.ch/de/traversee-du-lavape
 sson-pour-mobilite-douce
X-MICROSOFT-CDO-ALLDAYEVENT:TRUE
DTSTART;TZID=Europe/Zurich;VALUE=DATE:20260120
END:VEVENT
BEGIN:VEVENT
UID:69ea1d6716fa2
DTSTAMP:20260423T132351Z
SUMMARY:KONKURADO: Traversée du Lavapesson pour mobilité douce\, Réponse
 s aux questions envoyées aux concurrents par notaire 21.01.2026 - 10.02.2
 026
DESCRIPTION:Link zum Verfahren: https://konkurado.ch/de/traversee-du-lavape
 sson-pour-mobilite-douce
X-MICROSOFT-CDO-ALLDAYEVENT:TRUE
DTSTART;TZID=Europe/Zurich;VALUE=DATE:20260121
END:VEVENT
BEGIN:VEVENT
UID:69ea1d6716fc7
DTSTAMP:20260423T132351Z
SUMMARY:KONKURADO: Traversée du Lavapesson pour mobilité douce\, Réponse
 s aux questions envoyées aux concurrents par notaire 21.01.2026 - 10.02.2
 026
DESCRIPTION:Link zum Verfahren: https://konkurado.ch/de/traversee-du-lavape
 sson-pour-mobilite-douce
X-MICROSOFT-CDO-ALLDAYEVENT:TRUE
DTSTART;TZID=Europe/Zurich;VALUE=DATE:20260210
END:VEVENT
BEGIN:VEVENT
UID:69ea1d6716ff6
DTSTAMP:20260423T132351Z
SUMMARY:KONKURADO: Traversée du Lavapesson pour mobilité douce\, Rendu de
 s projets 2nd degré au notaire 19.12.2025 - 11.05.2026
DESCRIPTION:Link zum Verfahren: https://konkurado.ch/de/traversee-du-lavape
 sson-pour-mobilite-douce
X-MICROSOFT-CDO-ALLDAYEVENT:TRUE
DTSTART;TZID=Europe/Zurich;VALUE=DATE:20251219
END:VEVENT
BEGIN:VEVENT
UID:69ea1d671701b
DTSTAMP:20260423T132351Z
SUMMARY:KONKURADO: Traversée du Lavapesson pour mobilité douce\, Rendu de
 s projets 2nd degré au notaire 19.12.2025 - 11.05.2026
DESCRIPTION:Link zum Verfahren: https://konkurado.ch/de/traversee-du-lavape
 sson-pour-mobilite-douce
X-MICROSOFT-CDO-ALLDAYEVENT:TRUE
DTSTART;TZID=Europe/Zurich;VALUE=DATE:20260511
END:VEVENT
BEGIN:VEVENT
UID:69ea1d671706e
DTSTAMP:20260423T132351Z
SUMMARY:KONKURADO: Traversée du Lavapesson pour mobilité douce\, Rendu de
 s maquettes 2nd degré 19.12.2025 - 01.06.2026
DESCRIPTION:Link zum Verfahren: https://konkurado.ch/de/traversee-du-lavape
 sson-pour-mobilite-douce
X-MICROSOFT-CDO-ALLDAYEVENT:TRUE
DTSTART;TZID=Europe/Zurich;VALUE=DATE:20251219
END:VEVENT
BEGIN:VEVENT
UID:69ea1d6717095
DTSTAMP:20260423T132351Z
SUMMARY:KONKURADO: Traversée du Lavapesson pour mobilité douce\, Rendu de
 s maquettes 2nd degré 19.12.2025 - 01.06.2026
DESCRIPTION:Link zum Verfahren: https://konkurado.ch/de/traversee-du-lavape
 sson-pour-mobilite-douce
X-MICROSOFT-CDO-ALLDAYEVENT:TRUE
DTSTART;TZID=Europe/Zurich;VALUE=DATE:20260601
END:VEVENT
BEGIN:VEVENT
UID:69ea1d67170e8
DTSTAMP:20260423T132351Z
SUMMARY:KONKURADO: Traversée du Lavapesson pour mobilité douce\, Notifica
 tion des résultats du concours 06.07.2026 - 06.07.2026
DESCRIPTION:Link zum Verfahren: https://konkurado.ch/de/traversee-du-lavape
 sson-pour-mobilite-douce
X-MICROSOFT-CDO-ALLDAYEVENT:TRUE
DTSTART;TZID=Europe/Zurich;VALUE=DATE:20260706
END:VEVENT
BEGIN:VEVENT
UID:69ea1d671710e
DTSTAMP:20260423T132351Z
SUMMARY:KONKURADO: Traversée du Lavapesson pour mobilité douce\, Notifica
 tion des résultats du concours 06.07.2026 - 06.07.2026
DESCRIPTION:Link zum Verfahren: https://konkurado.ch/de/traversee-du-lavape
 sson-pour-mobilite-douce
X-MICROSOFT-CDO-ALLDAYEVENT:TRUE
DTSTART;TZID=Europe/Zurich;VALUE=DATE:20260706
END:VEVENT
END:VCALENDAR