BEGIN:VCALENDAR
VERSION:2.0
PRODID:spatie/icalendar-generator
NAME:Tempelhofer Feld\, Berlin
X-WR-CALNAME:Tempelhofer Feld\, Berlin
BEGIN:VTIMEZONE
TZID:Europe/Zurich
BEGIN:DAYLIGHT
DTSTART:20240331T010000
TZOFFSETFROM:+0100
TZOFFSETTO:+0200
END:DAYLIGHT
BEGIN:STANDARD
DTSTART:20241027T030000
TZOFFSETFROM:+0200
TZOFFSETTO:+0100
END:STANDARD
BEGIN:DAYLIGHT
DTSTART:20250330T010000
TZOFFSETFROM:+0100
TZOFFSETTO:+0200
END:DAYLIGHT
BEGIN:STANDARD
DTSTART:20251026T030000
TZOFFSETFROM:+0200
TZOFFSETTO:+0100
END:STANDARD
END:VTIMEZONE
BEGIN:VTIMEZONE
TZID:UTC
BEGIN:STANDARD
DTSTART:20250727T171331
TZOFFSETFROM:+0000
TZOFFSETTO:+0000
END:STANDARD
END:VTIMEZONE
BEGIN:VEVENT
UID:69ea533b8fce5
DTSTAMP:20260423T171331Z
SUMMARY:KONKURADO: Tempelhofer Feld\, Berlin\, Versand des Rückfragenproto
 kolls 03.12.2024 - 03.12.2024
DESCRIPTION:Link zum Verfahren: https://konkurado.ch/de/tempelhofer-feld-be
 rlin
X-MICROSOFT-CDO-ALLDAYEVENT:TRUE
DTSTART;TZID=Europe/Zurich;VALUE=DATE:20241203
END:VEVENT
BEGIN:VEVENT
UID:69ea533b8fd67
DTSTAMP:20260423T171331Z
SUMMARY:KONKURADO: Tempelhofer Feld\, Berlin\, Versand des Rückfragenproto
 kolls 03.12.2024 - 03.12.2024
DESCRIPTION:Link zum Verfahren: https://konkurado.ch/de/tempelhofer-feld-be
 rlin
X-MICROSOFT-CDO-ALLDAYEVENT:TRUE
DTSTART;TZID=Europe/Zurich;VALUE=DATE:20241203
END:VEVENT
BEGIN:VEVENT
UID:69ea533b8fda5
DTSTAMP:20260423T171331Z
SUMMARY:KONKURADO: Tempelhofer Feld\, Berlin\, Rückfragen bis 14.11.2024 -
  25.11.2024
DESCRIPTION:Link zum Verfahren: https://konkurado.ch/de/tempelhofer-feld-be
 rlin
X-MICROSOFT-CDO-ALLDAYEVENT:TRUE
DTSTART;TZID=Europe/Zurich;VALUE=DATE:20241114
END:VEVENT
BEGIN:VEVENT
UID:69ea533b8fdcd
DTSTAMP:20260423T171331Z
SUMMARY:KONKURADO: Tempelhofer Feld\, Berlin\, Rückfragen bis 14.11.2024 -
  25.11.2024
DESCRIPTION:Link zum Verfahren: https://konkurado.ch/de/tempelhofer-feld-be
 rlin
X-MICROSOFT-CDO-ALLDAYEVENT:TRUE
DTSTART;TZID=Europe/Zurich;VALUE=DATE:20241125
END:VEVENT
BEGIN:VEVENT
UID:69ea533b8fe00
DTSTAMP:20260423T171331Z
SUMMARY:KONKURADO: Tempelhofer Feld\, Berlin\, Abgabe der Wettbewerbsarbeit
 en 14.11.2024 - 15.01.2025
DESCRIPTION:Link zum Verfahren: https://konkurado.ch/de/tempelhofer-feld-be
 rlin
X-MICROSOFT-CDO-ALLDAYEVENT:TRUE
DTSTART;TZID=Europe/Zurich;VALUE=DATE:20241114
END:VEVENT
BEGIN:VEVENT
UID:69ea533b8fe26
DTSTAMP:20260423T171331Z
SUMMARY:KONKURADO: Tempelhofer Feld\, Berlin\, Abgabe der Wettbewerbsarbeit
 en 14.11.2024 - 15.01.2025
DESCRIPTION:Link zum Verfahren: https://konkurado.ch/de/tempelhofer-feld-be
 rlin
X-MICROSOFT-CDO-ALLDAYEVENT:TRUE
DTSTART;TZID=Europe/Zurich;VALUE=DATE:20250115
END:VEVENT
BEGIN:VEVENT
UID:69ea533b8fe65
DTSTAMP:20260423T171331Z
SUMMARY:KONKURADO: Tempelhofer Feld\, Berlin\, Preisgerichtssitzung 21.02.2
 025 - 22.02.2025
DESCRIPTION:Link zum Verfahren: https://konkurado.ch/de/tempelhofer-feld-be
 rlin
X-MICROSOFT-CDO-ALLDAYEVENT:TRUE
DTSTART;TZID=Europe/Zurich;VALUE=DATE:20250221
END:VEVENT
BEGIN:VEVENT
UID:69ea533b8fe8a
DTSTAMP:20260423T171331Z
SUMMARY:KONKURADO: Tempelhofer Feld\, Berlin\, Preisgerichtssitzung 21.02.2
 025 - 22.02.2025
DESCRIPTION:Link zum Verfahren: https://konkurado.ch/de/tempelhofer-feld-be
 rlin
X-MICROSOFT-CDO-ALLDAYEVENT:TRUE
DTSTART;TZID=Europe/Zurich;VALUE=DATE:20250222
END:VEVENT
BEGIN:VEVENT
UID:69ea533b8fef8
DTSTAMP:20260423T171331Z
SUMMARY:KONKURADO: Tempelhofer Feld\, Berlin\, Versand der Überarbeitungse
 mpfehlungen 05.03.2025 - 05.03.2025
DESCRIPTION:Link zum Verfahren: https://konkurado.ch/de/tempelhofer-feld-be
 rlin
X-MICROSOFT-CDO-ALLDAYEVENT:TRUE
DTSTART;TZID=Europe/Zurich;VALUE=DATE:20250305
END:VEVENT
BEGIN:VEVENT
UID:69ea533b8ff1e
DTSTAMP:20260423T171331Z
SUMMARY:KONKURADO: Tempelhofer Feld\, Berlin\, Versand der Überarbeitungse
 mpfehlungen 05.03.2025 - 05.03.2025
DESCRIPTION:Link zum Verfahren: https://konkurado.ch/de/tempelhofer-feld-be
 rlin
X-MICROSOFT-CDO-ALLDAYEVENT:TRUE
DTSTART;TZID=Europe/Zurich;VALUE=DATE:20250305
END:VEVENT
BEGIN:VEVENT
UID:69ea533b8ff4d
DTSTAMP:20260423T171331Z
SUMMARY:KONKURADO: Tempelhofer Feld\, Berlin\, Rückfragen bis 05.03.2025 -
  14.03.2025
DESCRIPTION:Link zum Verfahren: https://konkurado.ch/de/tempelhofer-feld-be
 rlin
X-MICROSOFT-CDO-ALLDAYEVENT:TRUE
DTSTART;TZID=Europe/Zurich;VALUE=DATE:20250305
END:VEVENT
BEGIN:VEVENT
UID:69ea533b8ff72
DTSTAMP:20260423T171331Z
SUMMARY:KONKURADO: Tempelhofer Feld\, Berlin\, Rückfragen bis 05.03.2025 -
  14.03.2025
DESCRIPTION:Link zum Verfahren: https://konkurado.ch/de/tempelhofer-feld-be
 rlin
X-MICROSOFT-CDO-ALLDAYEVENT:TRUE
DTSTART;TZID=Europe/Zurich;VALUE=DATE:20250314
END:VEVENT
BEGIN:VEVENT
UID:69ea533b8ffc9
DTSTAMP:20260423T171331Z
SUMMARY:KONKURADO: Tempelhofer Feld\, Berlin\, Rückfragenkolloquium 31.03.
 2025 - 31.03.2025
DESCRIPTION:Link zum Verfahren: https://konkurado.ch/de/tempelhofer-feld-be
 rlin
X-MICROSOFT-CDO-ALLDAYEVENT:TRUE
DTSTART;TZID=Europe/Zurich;VALUE=DATE:20250331
END:VEVENT
BEGIN:VEVENT
UID:69ea533b8ffef
DTSTAMP:20260423T171331Z
SUMMARY:KONKURADO: Tempelhofer Feld\, Berlin\, Rückfragenkolloquium 31.03.
 2025 - 31.03.2025
DESCRIPTION:Link zum Verfahren: https://konkurado.ch/de/tempelhofer-feld-be
 rlin
X-MICROSOFT-CDO-ALLDAYEVENT:TRUE
DTSTART;TZID=Europe/Zurich;VALUE=DATE:20250331
END:VEVENT
BEGIN:VEVENT
UID:69ea533b9001f
DTSTAMP:20260423T171331Z
SUMMARY:KONKURADO: Tempelhofer Feld\, Berlin\, Abgabe der Wettbewerbsarbeit
 en 05.03.2025 - 07.05.2025
DESCRIPTION:Link zum Verfahren: https://konkurado.ch/de/tempelhofer-feld-be
 rlin
X-MICROSOFT-CDO-ALLDAYEVENT:TRUE
DTSTART;TZID=Europe/Zurich;VALUE=DATE:20250305
END:VEVENT
BEGIN:VEVENT
UID:69ea533b90044
DTSTAMP:20260423T171331Z
SUMMARY:KONKURADO: Tempelhofer Feld\, Berlin\, Abgabe der Wettbewerbsarbeit
 en 05.03.2025 - 07.05.2025
DESCRIPTION:Link zum Verfahren: https://konkurado.ch/de/tempelhofer-feld-be
 rlin
X-MICROSOFT-CDO-ALLDAYEVENT:TRUE
DTSTART;TZID=Europe/Zurich;VALUE=DATE:20250507
END:VEVENT
BEGIN:VEVENT
UID:69ea533b90099
DTSTAMP:20260423T171331Z
SUMMARY:KONKURADO: Tempelhofer Feld\, Berlin\, Preisgerichtssitzung 20.06.2
 025 - 21.06.2025
DESCRIPTION:Link zum Verfahren: https://konkurado.ch/de/tempelhofer-feld-be
 rlin
X-MICROSOFT-CDO-ALLDAYEVENT:TRUE
DTSTART;TZID=Europe/Zurich;VALUE=DATE:20250620
END:VEVENT
BEGIN:VEVENT
UID:69ea533b900bf
DTSTAMP:20260423T171331Z
SUMMARY:KONKURADO: Tempelhofer Feld\, Berlin\, Preisgerichtssitzung 20.06.2
 025 - 21.06.2025
DESCRIPTION:Link zum Verfahren: https://konkurado.ch/de/tempelhofer-feld-be
 rlin
X-MICROSOFT-CDO-ALLDAYEVENT:TRUE
DTSTART;TZID=Europe/Zurich;VALUE=DATE:20250621
END:VEVENT
BEGIN:VEVENT
UID:69ea533b90111
DTSTAMP:20260423T171331Z
SUMMARY:KONKURADO: Tempelhofer Feld\, Berlin\, Dialogwerkstatt 3 12.07.2025
  - 13.07.2025
DESCRIPTION:Link zum Verfahren: https://konkurado.ch/de/tempelhofer-feld-be
 rlin
X-MICROSOFT-CDO-ALLDAYEVENT:TRUE
DTSTART;TZID=Europe/Zurich;VALUE=DATE:20250712
END:VEVENT
BEGIN:VEVENT
UID:69ea533b90137
DTSTAMP:20260423T171331Z
SUMMARY:KONKURADO: Tempelhofer Feld\, Berlin\, Dialogwerkstatt 3 12.07.2025
  - 13.07.2025
DESCRIPTION:Link zum Verfahren: https://konkurado.ch/de/tempelhofer-feld-be
 rlin
X-MICROSOFT-CDO-ALLDAYEVENT:TRUE
DTSTART;TZID=Europe/Zurich;VALUE=DATE:20250713
END:VEVENT
END:VCALENDAR