BEGIN:VCALENDAR
VERSION:2.0
PRODID:spatie/icalendar-generator
NAME:Tagesstrukturen / Kita / Jugendtreff\, Langendorf
X-WR-CALNAME:Tagesstrukturen / Kita / Jugendtreff\, Langendorf
BEGIN:VTIMEZONE
TZID:Europe/Zurich
BEGIN:DAYLIGHT
DTSTART:20240331T010000
TZOFFSETFROM:+0100
TZOFFSETTO:+0200
END:DAYLIGHT
BEGIN:STANDARD
DTSTART:20241027T030000
TZOFFSETFROM:+0200
TZOFFSETTO:+0100
END:STANDARD
BEGIN:DAYLIGHT
DTSTART:20250330T010000
TZOFFSETFROM:+0100
TZOFFSETTO:+0200
END:DAYLIGHT
BEGIN:STANDARD
DTSTART:20251026T030000
TZOFFSETFROM:+0200
TZOFFSETTO:+0100
END:STANDARD
END:VTIMEZONE
BEGIN:VTIMEZONE
TZID:UTC
BEGIN:STANDARD
DTSTART:20250727T132636
TZOFFSETFROM:+0000
TZOFFSETTO:+0000
END:STANDARD
END:VTIMEZONE
BEGIN:VEVENT
UID:69ea1e0c4465d
DTSTAMP:20260423T132636Z
SUMMARY:KONKURADO: Tagesstrukturen / Kita / Jugendtreff\, Langendorf\, Fris
 t zur Einreichung Bewerbung 18.12.2024 - 03.02.2025
DESCRIPTION:Link zum Verfahren: https://konkurado.ch/de/tagesstrukturen-kit
 a-jugendtreff-langendorf
X-MICROSOFT-CDO-ALLDAYEVENT:TRUE
DTSTART;TZID=Europe/Zurich;VALUE=DATE:20241218
END:VEVENT
BEGIN:VEVENT
UID:69ea1e0c446f3
DTSTAMP:20260423T132636Z
SUMMARY:KONKURADO: Tagesstrukturen / Kita / Jugendtreff\, Langendorf\, Fris
 t zur Einreichung Bewerbung 18.12.2024 - 03.02.2025
DESCRIPTION:Link zum Verfahren: https://konkurado.ch/de/tagesstrukturen-kit
 a-jugendtreff-langendorf
X-MICROSOFT-CDO-ALLDAYEVENT:TRUE
DTSTART;TZID=Europe/Zurich;VALUE=DATE:20250203
END:VEVENT
BEGIN:VEVENT
UID:69ea1e0c4482d
DTSTAMP:20260423T132636Z
SUMMARY:KONKURADO: Tagesstrukturen / Kita / Jugendtreff\, Langendorf\, Ents
 cheid Gemeinderat voraussichtlich 04.02.2025 - 24.02.2025
DESCRIPTION:Link zum Verfahren: https://konkurado.ch/de/tagesstrukturen-kit
 a-jugendtreff-langendorf
X-MICROSOFT-CDO-ALLDAYEVENT:TRUE
DTSTART;TZID=Europe/Zurich;VALUE=DATE:20250204
END:VEVENT
BEGIN:VEVENT
UID:69ea1e0c44859
DTSTAMP:20260423T132636Z
SUMMARY:KONKURADO: Tagesstrukturen / Kita / Jugendtreff\, Langendorf\, Ents
 cheid Gemeinderat voraussichtlich 04.02.2025 - 24.02.2025
DESCRIPTION:Link zum Verfahren: https://konkurado.ch/de/tagesstrukturen-kit
 a-jugendtreff-langendorf
X-MICROSOFT-CDO-ALLDAYEVENT:TRUE
DTSTART;TZID=Europe/Zurich;VALUE=DATE:20250224
END:VEVENT
BEGIN:VEVENT
UID:69ea1e0c44891
DTSTAMP:20260423T132636Z
SUMMARY:KONKURADO: Tagesstrukturen / Kita / Jugendtreff\, Langendorf\, Schr
 iftliche Fragestellung 04.03.2025 - 14.03.2025
DESCRIPTION:Link zum Verfahren: https://konkurado.ch/de/tagesstrukturen-kit
 a-jugendtreff-langendorf
X-MICROSOFT-CDO-ALLDAYEVENT:TRUE
DTSTART;TZID=Europe/Zurich;VALUE=DATE:20250304
END:VEVENT
BEGIN:VEVENT
UID:69ea1e0c448b7
DTSTAMP:20260423T132636Z
SUMMARY:KONKURADO: Tagesstrukturen / Kita / Jugendtreff\, Langendorf\, Schr
 iftliche Fragestellung 04.03.2025 - 14.03.2025
DESCRIPTION:Link zum Verfahren: https://konkurado.ch/de/tagesstrukturen-kit
 a-jugendtreff-langendorf
X-MICROSOFT-CDO-ALLDAYEVENT:TRUE
DTSTART;TZID=Europe/Zurich;VALUE=DATE:20250314
END:VEVENT
BEGIN:VEVENT
UID:69ea1e0c448ea
DTSTAMP:20260423T132636Z
SUMMARY:KONKURADO: Tagesstrukturen / Kita / Jugendtreff\, Langendorf\, Eing
 abe Studienauftrag 04.03.2025 - 06.06.2025
DESCRIPTION:Link zum Verfahren: https://konkurado.ch/de/tagesstrukturen-kit
 a-jugendtreff-langendorf
X-MICROSOFT-CDO-ALLDAYEVENT:TRUE
DTSTART;TZID=Europe/Zurich;VALUE=DATE:20250304
END:VEVENT
BEGIN:VEVENT
UID:69ea1e0c4490f
DTSTAMP:20260423T132636Z
SUMMARY:KONKURADO: Tagesstrukturen / Kita / Jugendtreff\, Langendorf\, Eing
 abe Studienauftrag 04.03.2025 - 06.06.2025
DESCRIPTION:Link zum Verfahren: https://konkurado.ch/de/tagesstrukturen-kit
 a-jugendtreff-langendorf
X-MICROSOFT-CDO-ALLDAYEVENT:TRUE
DTSTART;TZID=Europe/Zurich;VALUE=DATE:20250606
END:VEVENT
BEGIN:VEVENT
UID:69ea1e0c44952
DTSTAMP:20260423T132636Z
SUMMARY:KONKURADO: Tagesstrukturen / Kita / Jugendtreff\, Langendorf\, Schl
 usspräsentation/Jurierung 18.06.2025 - 18.06.2025
DESCRIPTION:Link zum Verfahren: https://konkurado.ch/de/tagesstrukturen-kit
 a-jugendtreff-langendorf
X-MICROSOFT-CDO-ALLDAYEVENT:TRUE
DTSTART;TZID=Europe/Zurich;VALUE=DATE:20250618
END:VEVENT
BEGIN:VEVENT
UID:69ea1e0c44981
DTSTAMP:20260423T132636Z
SUMMARY:KONKURADO: Tagesstrukturen / Kita / Jugendtreff\, Langendorf\, Schl
 usspräsentation/Jurierung 18.06.2025 - 18.06.2025
DESCRIPTION:Link zum Verfahren: https://konkurado.ch/de/tagesstrukturen-kit
 a-jugendtreff-langendorf
X-MICROSOFT-CDO-ALLDAYEVENT:TRUE
DTSTART;TZID=Europe/Zurich;VALUE=DATE:20250618
END:VEVENT
BEGIN:VEVENT
UID:69ea1e0c449e7
DTSTAMP:20260423T132636Z
SUMMARY:KONKURADO: Tagesstrukturen / Kita / Jugendtreff\, Langendorf\, Star
 tsitzung 04.03.2025 - 04.03.2025
DESCRIPTION:Link zum Verfahren: https://konkurado.ch/de/tagesstrukturen-kit
 a-jugendtreff-langendorf
X-MICROSOFT-CDO-ALLDAYEVENT:TRUE
DTSTART;TZID=Europe/Zurich;VALUE=DATE:20250304
END:VEVENT
BEGIN:VEVENT
UID:69ea1e0c44a0d
DTSTAMP:20260423T132636Z
SUMMARY:KONKURADO: Tagesstrukturen / Kita / Jugendtreff\, Langendorf\, Star
 tsitzung 04.03.2025 - 04.03.2025
DESCRIPTION:Link zum Verfahren: https://konkurado.ch/de/tagesstrukturen-kit
 a-jugendtreff-langendorf
X-MICROSOFT-CDO-ALLDAYEVENT:TRUE
DTSTART;TZID=Europe/Zurich;VALUE=DATE:20250304
END:VEVENT
BEGIN:VEVENT
UID:69ea1e0c44a63
DTSTAMP:20260423T132636Z
SUMMARY:KONKURADO: Tagesstrukturen / Kita / Jugendtreff\, Langendorf\, Bean
 twortung der Fragen 15.12.2024 - 21.03.2025
DESCRIPTION:Link zum Verfahren: https://konkurado.ch/de/tagesstrukturen-kit
 a-jugendtreff-langendorf
X-MICROSOFT-CDO-ALLDAYEVENT:TRUE
DTSTART;TZID=Europe/Zurich;VALUE=DATE:20241215
END:VEVENT
BEGIN:VEVENT
UID:69ea1e0c44a8a
DTSTAMP:20260423T132636Z
SUMMARY:KONKURADO: Tagesstrukturen / Kita / Jugendtreff\, Langendorf\, Bean
 twortung der Fragen 15.12.2024 - 21.03.2025
DESCRIPTION:Link zum Verfahren: https://konkurado.ch/de/tagesstrukturen-kit
 a-jugendtreff-langendorf
X-MICROSOFT-CDO-ALLDAYEVENT:TRUE
DTSTART;TZID=Europe/Zurich;VALUE=DATE:20250321
END:VEVENT
BEGIN:VEVENT
UID:69ea1e0c44af6
DTSTAMP:20260423T132636Z
SUMMARY:KONKURADO: Tagesstrukturen / Kita / Jugendtreff\, Langendorf\, 1. Z
 wischenbesprechung 02.04.2025 - 02.04.2025
DESCRIPTION:Link zum Verfahren: https://konkurado.ch/de/tagesstrukturen-kit
 a-jugendtreff-langendorf
X-MICROSOFT-CDO-ALLDAYEVENT:TRUE
DTSTART;TZID=Europe/Zurich;VALUE=DATE:20250402
END:VEVENT
BEGIN:VEVENT
UID:69ea1e0c44b21
DTSTAMP:20260423T132636Z
SUMMARY:KONKURADO: Tagesstrukturen / Kita / Jugendtreff\, Langendorf\, 1. Z
 wischenbesprechung 02.04.2025 - 02.04.2025
DESCRIPTION:Link zum Verfahren: https://konkurado.ch/de/tagesstrukturen-kit
 a-jugendtreff-langendorf
X-MICROSOFT-CDO-ALLDAYEVENT:TRUE
DTSTART;TZID=Europe/Zurich;VALUE=DATE:20250402
END:VEVENT
BEGIN:VEVENT
UID:69ea1e0c44b86
DTSTAMP:20260423T132636Z
SUMMARY:KONKURADO: Tagesstrukturen / Kita / Jugendtreff\, Langendorf\, Mitt
 eilung Entscheid voraussichtlich 02.07.2025 - 02.07.2025
DESCRIPTION:Link zum Verfahren: https://konkurado.ch/de/tagesstrukturen-kit
 a-jugendtreff-langendorf
X-MICROSOFT-CDO-ALLDAYEVENT:TRUE
DTSTART;TZID=Europe/Zurich;VALUE=DATE:20250702
END:VEVENT
BEGIN:VEVENT
UID:69ea1e0c44bac
DTSTAMP:20260423T132636Z
SUMMARY:KONKURADO: Tagesstrukturen / Kita / Jugendtreff\, Langendorf\, Mitt
 eilung Entscheid voraussichtlich 02.07.2025 - 02.07.2025
DESCRIPTION:Link zum Verfahren: https://konkurado.ch/de/tagesstrukturen-kit
 a-jugendtreff-langendorf
X-MICROSOFT-CDO-ALLDAYEVENT:TRUE
DTSTART;TZID=Europe/Zurich;VALUE=DATE:20250702
END:VEVENT
END:VCALENDAR