BEGIN:VCALENDAR
VERSION:2.0
PRODID:spatie/icalendar-generator
NAME:Sunnehof I Das Zuhause im Alter I Erweiterung und Umbau Gastronomieber
 eich I Generalplaner
X-WR-CALNAME:Sunnehof I Das Zuhause im Alter I Erweiterung und Umbau Gastro
 nomiebereich I Generalplaner
BEGIN:VTIMEZONE
TZID:Europe/Zurich
BEGIN:STANDARD
DTSTART:20251026T030000
TZOFFSETFROM:+0200
TZOFFSETTO:+0100
END:STANDARD
BEGIN:DAYLIGHT
DTSTART:20260329T010000
TZOFFSETFROM:+0100
TZOFFSETTO:+0200
END:DAYLIGHT
END:VTIMEZONE
BEGIN:VTIMEZONE
TZID:UTC
BEGIN:STANDARD
DTSTART:20250723T135746
TZOFFSETFROM:+0000
TZOFFSETTO:+0000
END:STANDARD
END:VTIMEZONE
BEGIN:VEVENT
UID:69e4df5ade4bc
DTSTAMP:20260419T135746Z
SUMMARY:KONKURADO: Sunnehof I Das Zuhause im Alter I Erweiterung und Umbau 
 Gastronomiebereich I Generalplaner\, Fragerunde\, einreichen bis 10.04.202
 6 - 10.04.2026
DESCRIPTION:Link zum Verfahren: https://konkurado.ch/de/sunnehof-i-das-zuha
 use-im-alter-i-erweiterung-und-umbau-gastronomiebereich-i-generalplaner
X-MICROSOFT-CDO-ALLDAYEVENT:TRUE
DTSTART;TZID=Europe/Zurich;VALUE=DATE:20260410
END:VEVENT
BEGIN:VEVENT
UID:69e4df5ade551
DTSTAMP:20260419T135746Z
SUMMARY:KONKURADO: Sunnehof I Das Zuhause im Alter I Erweiterung und Umbau 
 Gastronomiebereich I Generalplaner\, Fragerunde\, einreichen bis 10.04.202
 6 - 10.04.2026
DESCRIPTION:Link zum Verfahren: https://konkurado.ch/de/sunnehof-i-das-zuha
 use-im-alter-i-erweiterung-und-umbau-gastronomiebereich-i-generalplaner
X-MICROSOFT-CDO-ALLDAYEVENT:TRUE
DTSTART;TZID=Europe/Zurich;VALUE=DATE:20260410
END:VEVENT
BEGIN:VEVENT
UID:69e4df5ade5c9
DTSTAMP:20260419T135746Z
SUMMARY:KONKURADO: Sunnehof I Das Zuhause im Alter I Erweiterung und Umbau 
 Gastronomiebereich I Generalplaner\, Einreichen von Angeboten bis 23.04.20
 26 - 23.04.2026
DESCRIPTION:Link zum Verfahren: https://konkurado.ch/de/sunnehof-i-das-zuha
 use-im-alter-i-erweiterung-und-umbau-gastronomiebereich-i-generalplaner
X-MICROSOFT-CDO-ALLDAYEVENT:TRUE
DTSTART;TZID=Europe/Zurich;VALUE=DATE:20260423
END:VEVENT
BEGIN:VEVENT
UID:69e4df5ade5f0
DTSTAMP:20260419T135746Z
SUMMARY:KONKURADO: Sunnehof I Das Zuhause im Alter I Erweiterung und Umbau 
 Gastronomiebereich I Generalplaner\, Einreichen von Angeboten bis 23.04.20
 26 - 23.04.2026
DESCRIPTION:Link zum Verfahren: https://konkurado.ch/de/sunnehof-i-das-zuha
 use-im-alter-i-erweiterung-und-umbau-gastronomiebereich-i-generalplaner
X-MICROSOFT-CDO-ALLDAYEVENT:TRUE
DTSTART;TZID=Europe/Zurich;VALUE=DATE:20260423
END:VEVENT
BEGIN:VEVENT
UID:69e4df5ade649
DTSTAMP:20260419T135746Z
SUMMARY:KONKURADO: Sunnehof I Das Zuhause im Alter I Erweiterung und Umbau 
 Gastronomiebereich I Generalplaner\, Offertöffnung 23.04.2026 - 23.04.202
 6
DESCRIPTION:Link zum Verfahren: https://konkurado.ch/de/sunnehof-i-das-zuha
 use-im-alter-i-erweiterung-und-umbau-gastronomiebereich-i-generalplaner
X-MICROSOFT-CDO-ALLDAYEVENT:TRUE
DTSTART;TZID=Europe/Zurich;VALUE=DATE:20260423
END:VEVENT
BEGIN:VEVENT
UID:69e4df5ade672
DTSTAMP:20260419T135746Z
SUMMARY:KONKURADO: Sunnehof I Das Zuhause im Alter I Erweiterung und Umbau 
 Gastronomiebereich I Generalplaner\, Offertöffnung 23.04.2026 - 23.04.202
 6
DESCRIPTION:Link zum Verfahren: https://konkurado.ch/de/sunnehof-i-das-zuha
 use-im-alter-i-erweiterung-und-umbau-gastronomiebereich-i-generalplaner
X-MICROSOFT-CDO-ALLDAYEVENT:TRUE
DTSTART;TZID=Europe/Zurich;VALUE=DATE:20260423
END:VEVENT
BEGIN:VEVENT
UID:69e4df5ade6c7
DTSTAMP:20260419T135746Z
SUMMARY:KONKURADO: Sunnehof I Das Zuhause im Alter I Erweiterung und Umbau 
 Gastronomiebereich I Generalplaner\, Verfügbarkeit der Ausschreibungsunte
 rlagen 27.03.2026 - 23.04.2026
DESCRIPTION:Link zum Verfahren: https://konkurado.ch/de/sunnehof-i-das-zuha
 use-im-alter-i-erweiterung-und-umbau-gastronomiebereich-i-generalplaner
X-MICROSOFT-CDO-ALLDAYEVENT:TRUE
DTSTART;TZID=Europe/Zurich;VALUE=DATE:20260327
END:VEVENT
BEGIN:VEVENT
UID:69e4df5ade6ed
DTSTAMP:20260419T135746Z
SUMMARY:KONKURADO: Sunnehof I Das Zuhause im Alter I Erweiterung und Umbau 
 Gastronomiebereich I Generalplaner\, Verfügbarkeit der Ausschreibungsunte
 rlagen 27.03.2026 - 23.04.2026
DESCRIPTION:Link zum Verfahren: https://konkurado.ch/de/sunnehof-i-das-zuha
 use-im-alter-i-erweiterung-und-umbau-gastronomiebereich-i-generalplaner
X-MICROSOFT-CDO-ALLDAYEVENT:TRUE
DTSTART;TZID=Europe/Zurich;VALUE=DATE:20260423
END:VEVENT
END:VCALENDAR