BEGIN:VCALENDAR
VERSION:2.0
PRODID:spatie/icalendar-generator
NAME:Neubau Siedlung Sonnenhalde 1 / BG Freiblick  -  Ausschreibung Bauherr
 enberatung
X-WR-CALNAME:Neubau Siedlung Sonnenhalde 1 / BG Freiblick  -  Ausschreibung
  Bauherrenberatung
BEGIN:VTIMEZONE
TZID:Europe/Zurich
BEGIN:STANDARD
DTSTART:20231029T030000
TZOFFSETFROM:+0200
TZOFFSETTO:+0100
END:STANDARD
BEGIN:DAYLIGHT
DTSTART:20240331T010000
TZOFFSETFROM:+0100
TZOFFSETTO:+0200
END:DAYLIGHT
BEGIN:STANDARD
DTSTART:20241027T030000
TZOFFSETFROM:+0200
TZOFFSETTO:+0100
END:STANDARD
BEGIN:DAYLIGHT
DTSTART:20250330T010000
TZOFFSETFROM:+0100
TZOFFSETTO:+0200
END:DAYLIGHT
BEGIN:STANDARD
DTSTART:20251026T030000
TZOFFSETFROM:+0200
TZOFFSETTO:+0100
END:STANDARD
END:VTIMEZONE
BEGIN:VTIMEZONE
TZID:UTC
BEGIN:STANDARD
DTSTART:20250727T132332
TZOFFSETFROM:+0000
TZOFFSETTO:+0000
END:STANDARD
END:VTIMEZONE
BEGIN:VEVENT
UID:69ea1d54ce5d9
DTSTAMP:20260423T132332Z
SUMMARY:KONKURADO: Neubau Siedlung Sonnenhalde 1 / BG Freiblick  -  Ausschr
 eibung Bauherrenberatung\, Öffentliche Ausschreibung 10.01.2025 - 10.02.2
 025
DESCRIPTION:Link zum Verfahren: https://konkurado.ch/de/sonnenhalde_bauherr
 enberatung_freiblick
X-MICROSOFT-CDO-ALLDAYEVENT:TRUE
DTSTART;TZID=Europe/Zurich;VALUE=DATE:20250110
END:VEVENT
BEGIN:VEVENT
UID:69ea1d54ce68b
DTSTAMP:20260423T132332Z
SUMMARY:KONKURADO: Neubau Siedlung Sonnenhalde 1 / BG Freiblick  -  Ausschr
 eibung Bauherrenberatung\, Öffentliche Ausschreibung 10.01.2025 - 10.02.2
 025
DESCRIPTION:Link zum Verfahren: https://konkurado.ch/de/sonnenhalde_bauherr
 enberatung_freiblick
X-MICROSOFT-CDO-ALLDAYEVENT:TRUE
DTSTART;TZID=Europe/Zurich;VALUE=DATE:20250210
END:VEVENT
BEGIN:VEVENT
UID:69ea1d54ce6e4
DTSTAMP:20260423T132332Z
SUMMARY:KONKURADO: Neubau Siedlung Sonnenhalde 1 / BG Freiblick  -  Ausschr
 eibung Bauherrenberatung\, Einreichung Fragen 12.03.2025 - 27.03.2024
DESCRIPTION:Link zum Verfahren: https://konkurado.ch/de/sonnenhalde_bauherr
 enberatung_freiblick
X-MICROSOFT-CDO-ALLDAYEVENT:TRUE
DTSTART;TZID=Europe/Zurich;VALUE=DATE:20250312
END:VEVENT
BEGIN:VEVENT
UID:69ea1d54ce71f
DTSTAMP:20260423T132332Z
SUMMARY:KONKURADO: Neubau Siedlung Sonnenhalde 1 / BG Freiblick  -  Ausschr
 eibung Bauherrenberatung\, Einreichung Fragen 12.03.2025 - 27.03.2024
DESCRIPTION:Link zum Verfahren: https://konkurado.ch/de/sonnenhalde_bauherr
 enberatung_freiblick
X-MICROSOFT-CDO-ALLDAYEVENT:TRUE
DTSTART;TZID=Europe/Zurich;VALUE=DATE:20240327
END:VEVENT
BEGIN:VEVENT
UID:69ea1d54ce77e
DTSTAMP:20260423T132332Z
SUMMARY:KONKURADO: Neubau Siedlung Sonnenhalde 1 / BG Freiblick  -  Ausschr
 eibung Bauherrenberatung\, Benachrichtigung Firmen betreffend Zuschlag Auf
 tragsvergabe 16.05.2025 - 31.05.2025
DESCRIPTION:Link zum Verfahren: https://konkurado.ch/de/sonnenhalde_bauherr
 enberatung_freiblick
X-MICROSOFT-CDO-ALLDAYEVENT:TRUE
DTSTART;TZID=Europe/Zurich;VALUE=DATE:20250516
END:VEVENT
BEGIN:VEVENT
UID:69ea1d54ce7c0
DTSTAMP:20260423T132332Z
SUMMARY:KONKURADO: Neubau Siedlung Sonnenhalde 1 / BG Freiblick  -  Ausschr
 eibung Bauherrenberatung\, Benachrichtigung Firmen betreffend Zuschlag Auf
 tragsvergabe 16.05.2025 - 31.05.2025
DESCRIPTION:Link zum Verfahren: https://konkurado.ch/de/sonnenhalde_bauherr
 enberatung_freiblick
X-MICROSOFT-CDO-ALLDAYEVENT:TRUE
DTSTART;TZID=Europe/Zurich;VALUE=DATE:20250531
END:VEVENT
BEGIN:VEVENT
UID:69ea1d54ce84a
DTSTAMP:20260423T132332Z
SUMMARY:KONKURADO: Neubau Siedlung Sonnenhalde 1 / BG Freiblick  -  Ausschr
 eibung Bauherrenberatung\, Präqualifikationssitzung 10.03.2025 - 10.03.20
 25
DESCRIPTION:Link zum Verfahren: https://konkurado.ch/de/sonnenhalde_bauherr
 enberatung_freiblick
X-MICROSOFT-CDO-ALLDAYEVENT:TRUE
DTSTART;TZID=Europe/Zurich;VALUE=DATE:20250310
END:VEVENT
BEGIN:VEVENT
UID:69ea1d54ce871
DTSTAMP:20260423T132332Z
SUMMARY:KONKURADO: Neubau Siedlung Sonnenhalde 1 / BG Freiblick  -  Ausschr
 eibung Bauherrenberatung\, Präqualifikationssitzung 10.03.2025 - 10.03.20
 25
DESCRIPTION:Link zum Verfahren: https://konkurado.ch/de/sonnenhalde_bauherr
 enberatung_freiblick
X-MICROSOFT-CDO-ALLDAYEVENT:TRUE
DTSTART;TZID=Europe/Zurich;VALUE=DATE:20250310
END:VEVENT
BEGIN:VEVENT
UID:69ea1d54ce8cb
DTSTAMP:20260423T132332Z
SUMMARY:KONKURADO: Neubau Siedlung Sonnenhalde 1 / BG Freiblick  -  Ausschr
 eibung Bauherrenberatung\, Fragenbeantwortung 02.04.2025 - 02.04.2025
DESCRIPTION:Link zum Verfahren: https://konkurado.ch/de/sonnenhalde_bauherr
 enberatung_freiblick
X-MICROSOFT-CDO-ALLDAYEVENT:TRUE
DTSTART;TZID=Europe/Zurich;VALUE=DATE:20250402
END:VEVENT
BEGIN:VEVENT
UID:69ea1d54ce8f3
DTSTAMP:20260423T132332Z
SUMMARY:KONKURADO: Neubau Siedlung Sonnenhalde 1 / BG Freiblick  -  Ausschr
 eibung Bauherrenberatung\, Fragenbeantwortung 02.04.2025 - 02.04.2025
DESCRIPTION:Link zum Verfahren: https://konkurado.ch/de/sonnenhalde_bauherr
 enberatung_freiblick
X-MICROSOFT-CDO-ALLDAYEVENT:TRUE
DTSTART;TZID=Europe/Zurich;VALUE=DATE:20250402
END:VEVENT
BEGIN:VEVENT
UID:69ea1d54ce944
DTSTAMP:20260423T132332Z
SUMMARY:KONKURADO: Neubau Siedlung Sonnenhalde 1 / BG Freiblick  -  Ausschr
 eibung Bauherrenberatung\, Start Mandat Bauherrenberatung / Juni 2025 30.0
 6.2025 - 
DESCRIPTION:Link zum Verfahren: https://konkurado.ch/de/sonnenhalde_bauherr
 enberatung_freiblick
X-MICROSOFT-CDO-ALLDAYEVENT:TRUE
DTSTART;TZID=Europe/Zurich;VALUE=DATE:20250630
END:VEVENT
BEGIN:VEVENT
UID:69ea1d54ce99f
DTSTAMP:20260423T132332Z
SUMMARY:KONKURADO: Neubau Siedlung Sonnenhalde 1 / BG Freiblick  -  Ausschr
 eibung Bauherrenberatung\, Offerteinreichung 2. Stufe 09.04.2025 - 09.04.2
 025
DESCRIPTION:Link zum Verfahren: https://konkurado.ch/de/sonnenhalde_bauherr
 enberatung_freiblick
X-MICROSOFT-CDO-ALLDAYEVENT:TRUE
DTSTART;TZID=Europe/Zurich;VALUE=DATE:20250409
END:VEVENT
BEGIN:VEVENT
UID:69ea1d54ce9c7
DTSTAMP:20260423T132332Z
SUMMARY:KONKURADO: Neubau Siedlung Sonnenhalde 1 / BG Freiblick  -  Ausschr
 eibung Bauherrenberatung\, Offerteinreichung 2. Stufe 09.04.2025 - 09.04.2
 025
DESCRIPTION:Link zum Verfahren: https://konkurado.ch/de/sonnenhalde_bauherr
 enberatung_freiblick
X-MICROSOFT-CDO-ALLDAYEVENT:TRUE
DTSTART;TZID=Europe/Zurich;VALUE=DATE:20250409
END:VEVENT
BEGIN:VEVENT
UID:69ea1d54cea24
DTSTAMP:20260423T132332Z
SUMMARY:KONKURADO: Neubau Siedlung Sonnenhalde 1 / BG Freiblick  -  Ausschr
 eibung Bauherrenberatung\, Präsentation der Firmen 15.05.2025 - 15.05.202
 5
DESCRIPTION:Link zum Verfahren: https://konkurado.ch/de/sonnenhalde_bauherr
 enberatung_freiblick
X-MICROSOFT-CDO-ALLDAYEVENT:TRUE
DTSTART;TZID=Europe/Zurich;VALUE=DATE:20250515
END:VEVENT
BEGIN:VEVENT
UID:69ea1d54cea4e
DTSTAMP:20260423T132332Z
SUMMARY:KONKURADO: Neubau Siedlung Sonnenhalde 1 / BG Freiblick  -  Ausschr
 eibung Bauherrenberatung\, Präsentation der Firmen 15.05.2025 - 15.05.202
 5
DESCRIPTION:Link zum Verfahren: https://konkurado.ch/de/sonnenhalde_bauherr
 enberatung_freiblick
X-MICROSOFT-CDO-ALLDAYEVENT:TRUE
DTSTART;TZID=Europe/Zurich;VALUE=DATE:20250515
END:VEVENT
BEGIN:VEVENT
UID:69ea1d54cea85
DTSTAMP:20260423T132332Z
SUMMARY:KONKURADO: Neubau Siedlung Sonnenhalde 1 / BG Freiblick  -  Ausschr
 eibung Bauherrenberatung\, Einreichung Bewerbungsunterlagen 1.Stufe 10.01.
 2025 - 10.02.2025
DESCRIPTION:Link zum Verfahren: https://konkurado.ch/de/sonnenhalde_bauherr
 enberatung_freiblick
X-MICROSOFT-CDO-ALLDAYEVENT:TRUE
DTSTART;TZID=Europe/Zurich;VALUE=DATE:20250110
END:VEVENT
BEGIN:VEVENT
UID:69ea1d54ceab1
DTSTAMP:20260423T132332Z
SUMMARY:KONKURADO: Neubau Siedlung Sonnenhalde 1 / BG Freiblick  -  Ausschr
 eibung Bauherrenberatung\, Einreichung Bewerbungsunterlagen 1.Stufe 10.01.
 2025 - 10.02.2025
DESCRIPTION:Link zum Verfahren: https://konkurado.ch/de/sonnenhalde_bauherr
 enberatung_freiblick
X-MICROSOFT-CDO-ALLDAYEVENT:TRUE
DTSTART;TZID=Europe/Zurich;VALUE=DATE:20250210
END:VEVENT
BEGIN:VEVENT
UID:69ea1d54ceb06
DTSTAMP:20260423T132332Z
SUMMARY:KONKURADO: Neubau Siedlung Sonnenhalde 1 / BG Freiblick  -  Ausschr
 eibung Bauherrenberatung\, Rückmeldung ausgewählte Firmen 2.Stufe / Zust
 ellung weiterer Unterlagen 12.03.2025 - 12.03.2025
DESCRIPTION:Link zum Verfahren: https://konkurado.ch/de/sonnenhalde_bauherr
 enberatung_freiblick
X-MICROSOFT-CDO-ALLDAYEVENT:TRUE
DTSTART;TZID=Europe/Zurich;VALUE=DATE:20250312
END:VEVENT
BEGIN:VEVENT
UID:69ea1d54ceb3c
DTSTAMP:20260423T132332Z
SUMMARY:KONKURADO: Neubau Siedlung Sonnenhalde 1 / BG Freiblick  -  Ausschr
 eibung Bauherrenberatung\, Rückmeldung ausgewählte Firmen 2.Stufe / Zust
 ellung weiterer Unterlagen 12.03.2025 - 12.03.2025
DESCRIPTION:Link zum Verfahren: https://konkurado.ch/de/sonnenhalde_bauherr
 enberatung_freiblick
X-MICROSOFT-CDO-ALLDAYEVENT:TRUE
DTSTART;TZID=Europe/Zurich;VALUE=DATE:20250312
END:VEVENT
END:VCALENDAR